From mboxrd@z Thu Jan 1 00:00:00 1970 Return-Path: Received: from mails.dpdk.org (mails.dpdk.org [217.70.189.124]) by inbox.dpdk.org (Postfix) with ESMTP id 3B3CD488CF for ; Tue, 7 Oct 2025 09:20:49 +0200 (CEST) Received: from mails.dpdk.org (localhost [127.0.0.1]) by mails.dpdk.org (Postfix) with ESMTP id 36E784027F; Tue, 7 Oct 2025 09:20:49 +0200 (CEST) Received: from mail-qk1-f228.google.com (mail-qk1-f228.google.com [209.85.222.228]) by mails.dpdk.org (Postfix) with ESMTP id 97B294027F for ; Tue, 7 Oct 2025 09:20:48 +0200 (CEST) Received: by mail-qk1-f228.google.com with SMTP id af79cd13be357-816ac9f9507so737839785a.1 for ; Tue, 07 Oct 2025 00:20:48 -0700 (PDT) DKIM-Signature: v=1; a=rsa-sha256; c=relaxed/relaxed; d=iol.unh.edu; s=unh-iol; t=1759821648; x=1760426448; darn=dpdk.org; h=references:in-reply-to:cc:to:from:subject:message-id:date:from:to :cc:subject:date:message-id:reply-to; bh=FVxNgXo0gDe1/29h+mi1A+wC45DtfKn1GVL5tqoTZ6A=; b=jllPgq89q6W/2xlqlUA79TmTytozZ2PBc7kePPZAMGoLzWUfRNBgA1YvixaWT/wDtS D3ADHTiEMjO69GTW8IAQpCNiYuYsKruQR5oJjX/xrKiPfuiQFbVnnS+EZ1ak5+OupKg9 s1RXKSC4FRt9zP4QfBoe3iQjFyO95M95KDRSc= X-Google-DKIM-Signature: v=1; a=rsa-sha256; c=relaxed/relaxed; d=1e100.net; s=20230601; t=1759821648; x=1760426448; h=references:in-reply-to:cc:to:from:subject:message-id:date :x-gm-message-state:from:to:cc:subject:date:message-id:reply-to; bh=FVxNgXo0gDe1/29h+mi1A+wC45DtfKn1GVL5tqoTZ6A=; b=FrZz2beIPkO3HTi+fWAudg9/PUou9K+Vkej3vK07aMqVNFLZ3YeyZ0bXDOSKK7KXjs PtJztErB+yh9NAYhqV4dxAcbsW6A8XUQsa1Ma8ijALV2jQtl1V45ewg3GkaXH8Iz6Ncv iQQUEePGlZXJaiWA3N8w2+fOVO8uNwAvl05JVgX6geA5GUGzLHnA0FvUuQCw2OMRD9HT dtke1t6lgNyCWrCNaI3KzxoTXrCawzqsJcRI7kZM3LxEagUgvd9wdVpOCMnrt1cbncEB JamNgt5wL/eMftz4pvAGn7g9yNd/EMI+Ov3Z9B32LOIP+fcBZ79r/zOHB0JS5G9upWi5 v13Q== X-Gm-Message-State: AOJu0YzQRNgKyoKyxHZuOsu5DjpLGoyRWmowy9vWwrxm7P8LPbugG9l2 q0iIJaSmh8iYqJ3X4sXzfje1cTK2uVshAYR1CSA3cSmnHkLD5nh6ZhDgJAEgHuBHpCQIdRK2jGj LLAVekm0I/d6PaKqTifWl9uC+YcSzsI7fNhHPp5wS7b/iZvoU4buR98qkCGal X-Gm-Gg: ASbGncu+H3SlzkjkkfljNA7iiolNgzXZ/dXe8aV7yYxfhPwKxY4wBtOO6ShUuWi3Bf5 VXUMk+7POOQGI1BnAUUG2JqB9HR7WMUkynfLDCgs++1m/Cb0adChy3RaDYcGlq0VM0rY77N57FK Oda6Q68j4SjIuoulCZwaOKp9sqNKoyUJk4Axon+PFwk7pR7ucwq9tVMEo9QRUM2H6ZxO+5lwXUj MnbzyZX3cEIrIGM0m3RKn6oRgAMuBWUQ3HuPisbmYCq85Ty/zup7Nu3E0rtKuBxxjAOQCS7/Ixj 6srMfOBE0Sm63SqQ/Q2yH+ff0m12fpmwKQztkPEyGDHeuJhzmQKogak= X-Google-Smtp-Source: AGHT+IHhyvU5ML0NqnvYDvCeRhlvt/JjNe6bR5cCFNfl/W91C8pwT5CAKWkorMli4/NRDbCSx+4YNQXwc2LB X-Received: by 2002:a05:620a:691a:b0:87c:8dac:e3b9 with SMTP id af79cd13be357-8820b47d617mr364729285a.15.1759821647922; Tue, 07 Oct 2025 00:20:47 -0700 (PDT) Received: from postal.iol.unh.edu (postal.iol.unh.edu. [2606:4100:3880:1234::84]) by smtp-relay.gmail.com with ESMTPS id af79cd13be357-877760e44c3sm111037185a.6.2025.10.07.00.20.47 (version=TLS1_2 cipher=ECDHE-ECDSA-AES128-GCM-SHA256 bits=128/128); Tue, 07 Oct 2025 00:20:47 -0700 (PDT) X-Relaying-Domain: iol.unh.edu Date: Tue, 07 Oct 2025 00:20:47 -0700 (PDT) Message-ID: <68e4bf4f.050a0220.28523c.bab4SMTPIN_ADDED_MISSING@mx.google.com> Received: from [172.21.0.3] (unknown [172.18.0.240]) by postal.iol.unh.edu (Postfix) with ESMTP id A6E0C6051830; Tue, 7 Oct 2025 03:20:47 -0400 (EDT) Subject: |SUCCESS| pw157274-157276 [PATCH] [v4,3/3] app/test: add ML crypto t From: dpdklab@iol.unh.edu To: Test Report Cc: dpdk-test-reports@iol.unh.edu In-Reply-To: <20251004032259.2707-4-gmuthukrishn@marvell.com> References: <20251004032259.2707-4-gmuthukrishn@marvell.com> Content-Type: text/plain X-BeenThere: test-report@dpdk.org X-Mailman-Version: 2.1.29 Precedence: list List-Id: automatic DPDK test reports List-Unsubscribe: , List-Archive: List-Post: List-Help: List-Subscribe: , Errors-To: test-report-bounces@dpdk.org Test-Label: iol-compile-arm64-testing Test-Status: SUCCESS http://dpdk.org/patch/157276 _Testing PASS_ Submitter: Gowrishankar Muthukrishnan Date: Saturday, October 04 2025 03:22:55 DPDK git baseline: Repo:dpdk Branch: master CommitID:76393b98bf67f94dc6aa23cf5016c32571899261 157274-157276 --> testing pass Upstream job id: Generic-DPDK-Compile-Meson#431562 Test environment and result as below: +------------------------------+--------------------+ | Environment | dpdk_meson_compile | +==============================+====================+ | Red Hat Enterprise Linux 9.5 | PASS | +------------------------------+--------------------+ | Ubuntu 20.04 | PASS | +------------------------------+--------------------+ | Debian GNU/Linux 12 | PASS | +------------------------------+--------------------+ | Fedora Linux 42 | PASS | +------------------------------+--------------------+ | Ubuntu 22.04 | PASS | +------------------------------+--------------------+ | Ubuntu 24.04 | PASS | +------------------------------+--------------------+ | CentOS Stream 9 | PASS | +------------------------------+--------------------+ | CentOS Stream 10 | PASS | +------------------------------+--------------------+ Red Hat Enterprise Linux 9.5 Kernel: 5.4 Compiler: gcc gcc (GCC) 11.5.0 20240719 (Red Hat 11.5.0-2) Ubuntu 20.04 Kernel: 5.15 Compiler: aarch64-linux-gnu-gcc gcc (Ubuntu 9.4.0-1ubuntu1~20.04.2) 9.4.0 Debian GNU/Linux 12 Kernel: 5.4 Compiler: gcc gcc (Debian 12.2.0-14+deb12u1) 12.2.0 Fedora Linux 42 Kernel: 5.4 Compiler: gcc gcc (GCC) 15.2.1 20250808 (Red Hat 15.2.1-1) Ubuntu 22.04 Kernel: 5.4 Compiler: gcc gcc (Ubuntu 11.4.0-1ubuntu1~22.04) 11.4.0 Ubuntu 24.04 Kernel: 5.4 Compiler: gcc gcc (Ubuntu 13.3.0-6ubuntu2~24.04) 13.3.0 CentOS Stream 9 Kernel: 5.4 Compiler: gcc gcc (GCC) 11.5.0 20240719 (Red Hat 11.5.0-11) CentOS Stream 10 Kernel: 5.4 Compiler: gcc gcc (GCC) 14.2.1 20250110 (Red Hat 14.2.1-8) To view detailed results, visit: https://lab.dpdk.org/results/dashboard/patchsets/34215/ UNH-IOL DPDK Community Lab To manage your email subscriptions, visit: https://lab.dpdk.org/results/dashboard/preferences/subscriptions/