From mboxrd@z Thu Jan 1 00:00:00 1970 Return-Path: Received: from mails.dpdk.org (mails.dpdk.org [217.70.189.124]) by inbox.dpdk.org (Postfix) with ESMTP id 4A041488D0 for ; Tue, 7 Oct 2025 09:21:03 +0200 (CEST) Received: from mails.dpdk.org (localhost [127.0.0.1]) by mails.dpdk.org (Postfix) with ESMTP id 453044027F; Tue, 7 Oct 2025 09:21:03 +0200 (CEST) Received: from mail-yw1-f227.google.com (mail-yw1-f227.google.com [209.85.128.227]) by mails.dpdk.org (Postfix) with ESMTP id 9FD1B4027F for ; Tue, 7 Oct 2025 09:21:02 +0200 (CEST) Received: by mail-yw1-f227.google.com with SMTP id 00721157ae682-77fac63ba26so34777927b3.3 for ; Tue, 07 Oct 2025 00:21:02 -0700 (PDT) DKIM-Signature: v=1; a=rsa-sha256; c=relaxed/relaxed; d=iol.unh.edu; s=unh-iol; t=1759821662; x=1760426462; darn=dpdk.org; h=references:in-reply-to:cc:to:from:subject:message-id:date:from:to :cc:subject:date:message-id:reply-to; bh=ywTXRTCAPSTCDGoVlqN32OsEa4e/b/LU+MEmfcUjqAY=; b=i2FxZviLTGCAbD2ACR6oR4egIVDyqQ1KT5vscQdiK+1fDxsnzZWR5Sli/FyKowreTe XKs9eFSe4APOlUHAI04WzQJs0r6D305JyCLh8RK6V3qHdX90Lkw50K8TOTZ9A36RRKzK kJdUHkgC7v4U3WLcdkr9yn5U9FK8+c/lYwgW0= X-Google-DKIM-Signature: v=1; a=rsa-sha256; c=relaxed/relaxed; d=1e100.net; s=20230601; t=1759821662; x=1760426462; h=references:in-reply-to:cc:to:from:subject:message-id:date :x-gm-message-state:from:to:cc:subject:date:message-id:reply-to; bh=ywTXRTCAPSTCDGoVlqN32OsEa4e/b/LU+MEmfcUjqAY=; b=sgu4pQ/eUSB/n26v/lPn0SPZ1sR75qm2x1H40T+A/IvL4q51vxnNxPCkIu341WgRWw JHKDEiJNut1ezPEIpyVil4SY7c3R7dfuVZYFOXlzdsGXA1In/X/EgQzsE/8m5gZyt5Wr MQB5KntdHA2O0/mqdeLDCGvXxAbgTH5PZ7hbv8EVjekm3QMoAM6CpAtACK5JbG6TdkFG g12YSdgPDsg0r6/ojfqjy51LNhFg8jOHp79lawaILSvzGFXm3QiJ2Rm40R8oXKxGSMdO 2sHKNH4Yk0y9l1QJLJEqG7JV9zXoCSkGAjXh3VXTmnDOwi1kIjCP+0NR0L3n56jTdrq+ r9Tw== X-Gm-Message-State: AOJu0YwTN/ZQyP12xwDo60f4YjYw61U8CjcptpO5m8SU0biYMikTCXZ4 dnmAY/YiIQxUYLamASWmK8hsUj7BKAe7nPKhTdFZ06IQwESoUihMr5A+/d4PmsVicUTIppxFy/v KivRGktvdHejdiA4IdM1nhqRZPu/amlBlw+Lih9jg8udS X-Gm-Gg: ASbGncskcFY2wwgJnQLkymdp9TQIrzZhhOnTdg3h6XUWjiJGaMTFbbpbVWOCMkivdpz e2drcRPykC6XerE7o+Qrdlem32WQY1hU6VoahoYwPYWSt72eV1iA/g3PAZeQnGKIJId3LcmP6h2 wbSxv+BMwib/dFUdj+tYHXi9XwyK6slYF+4k8NXXlRk7LsE79r14sqz/e9Xa9nfYtM471WjXvC1 A8P//sNC0ZUX76req7rsv4R85p9CnCJlXt0FrQ6n16+xIAlXnp6id5xCaiFagu01ZYGrEmXTr7u VRBHoiNCzbqtKKM1bL+rq+rpRKMPCo5P0ysj+AQL7XAye4rq7mMWesBdM98CjvXVywXvbPOpOTj PKA== X-Google-Smtp-Source: AGHT+IE9J4s9jYF6gZpYQG+nhjCwqNQH8yNIzuA87q2aVq8wWRqpHBds/yv2dXVrZAYDvbL0oNTB4ib8ZQKo X-Received: by 2002:a05:690c:4b11:b0:780:be5b:3451 with SMTP id 00721157ae682-780be5b37e1mr75253577b3.28.1759821661652; Tue, 07 Oct 2025 00:21:01 -0700 (PDT) Received: from postal.iol.unh.edu (postal.iol.unh.edu. [132.177.123.84]) by smtp-relay.gmail.com with ESMTPS id 00721157ae682-780dbcec474sm37717b3.14.2025.10.07.00.21.01 (version=TLS1_2 cipher=ECDHE-ECDSA-AES128-GCM-SHA256 bits=128/128); Tue, 07 Oct 2025 00:21:01 -0700 (PDT) X-Relaying-Domain: iol.unh.edu Date: Tue, 07 Oct 2025 00:21:01 -0700 (PDT) Message-ID: <68e4bf5d.050a0220.374e08.0287SMTPIN_ADDED_MISSING@mx.google.com> Received: from [172.21.0.3] (unknown [172.18.0.240]) by postal.iol.unh.edu (Postfix) with ESMTP id 615346051830; Tue, 7 Oct 2025 03:21:01 -0400 (EDT) Subject: |SUCCESS| pw157274-157276 [PATCH] [v4,3/3] app/test: add ML crypto t From: dpdklab@iol.unh.edu To: Test Report Cc: dpdk-test-reports@iol.unh.edu In-Reply-To: <20251004032259.2707-4-gmuthukrishn@marvell.com> References: <20251004032259.2707-4-gmuthukrishn@marvell.com> Content-Type: text/plain X-BeenThere: test-report@dpdk.org X-Mailman-Version: 2.1.29 Precedence: list List-Id: automatic DPDK test reports List-Unsubscribe: , List-Archive: List-Post: List-Help: List-Subscribe: , Errors-To: test-report-bounces@dpdk.org Test-Label: iol-compile-arm64-testing Test-Status: SUCCESS http://dpdk.org/patch/157276 _Testing PASS_ Submitter: Gowrishankar Muthukrishnan Date: Saturday, October 04 2025 03:22:55 DPDK git baseline: Repo:dpdk Branch: master CommitID:76393b98bf67f94dc6aa23cf5016c32571899261 157274-157276 --> testing pass Upstream job id: Generic-DPDK-Compile-Meson#431560 Test environment and result as below: +------------------------------+--------------------+ | Environment | dpdk_meson_compile | +==============================+====================+ | Red Hat Enterprise Linux 9.5 | PASS | +------------------------------+--------------------+ | Ubuntu 20.04 | PASS | +------------------------------+--------------------+ | Debian GNU/Linux 12 | PASS | +------------------------------+--------------------+ | Fedora Linux 42 | PASS | +------------------------------+--------------------+ | Ubuntu 22.04 | PASS | +------------------------------+--------------------+ | Ubuntu 24.04 | PASS | +------------------------------+--------------------+ | CentOS Stream 9 | PASS | +------------------------------+--------------------+ | CentOS Stream 10 | PASS | +------------------------------+--------------------+ Red Hat Enterprise Linux 9.5 Kernel: 5.4 Compiler: gcc gcc (GCC) 11.5.0 20240719 (Red Hat 11.5.0-2) Ubuntu 20.04 Kernel: 5.15 Compiler: aarch64-linux-gnu-gcc gcc (Ubuntu 9.4.0-1ubuntu1~20.04.2) 9.4.0 Debian GNU/Linux 12 Kernel: 5.4 Compiler: gcc gcc (Debian 12.2.0-14+deb12u1) 12.2.0 Fedora Linux 42 Kernel: 5.4 Compiler: gcc gcc (GCC) 15.2.1 20250808 (Red Hat 15.2.1-1) Ubuntu 22.04 Kernel: 5.4 Compiler: gcc gcc (Ubuntu 11.4.0-1ubuntu1~22.04) 11.4.0 Ubuntu 24.04 Kernel: 5.4 Compiler: gcc gcc (Ubuntu 13.3.0-6ubuntu2~24.04) 13.3.0 CentOS Stream 9 Kernel: 5.4 Compiler: gcc gcc (GCC) 11.5.0 20240719 (Red Hat 11.5.0-11) CentOS Stream 10 Kernel: 5.4 Compiler: gcc gcc (GCC) 14.2.1 20250110 (Red Hat 14.2.1-8) To view detailed results, visit: https://lab.dpdk.org/results/dashboard/patchsets/34215/ UNH-IOL DPDK Community Lab To manage your email subscriptions, visit: https://lab.dpdk.org/results/dashboard/preferences/subscriptions/