From mboxrd@z Thu Jan 1 00:00:00 1970 Return-Path: Received: from mails.dpdk.org (mails.dpdk.org [217.70.189.124]) by inbox.dpdk.org (Postfix) with ESMTP id BD774488D1 for ; Tue, 7 Oct 2025 09:34:29 +0200 (CEST) Received: from mails.dpdk.org (localhost [127.0.0.1]) by mails.dpdk.org (Postfix) with ESMTP id 8946F4027F; Tue, 7 Oct 2025 09:34:29 +0200 (CEST) Received: from mail-pl1-f225.google.com (mail-pl1-f225.google.com [209.85.214.225]) by mails.dpdk.org (Postfix) with ESMTP id 6ABF94027F for ; Tue, 7 Oct 2025 09:34:28 +0200 (CEST) Received: by mail-pl1-f225.google.com with SMTP id d9443c01a7336-2681660d604so61487715ad.0 for ; Tue, 07 Oct 2025 00:34:28 -0700 (PDT) DKIM-Signature: v=1; a=rsa-sha256; c=relaxed/relaxed; d=iol.unh.edu; s=unh-iol; t=1759822467; x=1760427267; darn=dpdk.org; h=cc:to:from:subject:message-id:date:from:to:cc:subject:date :message-id:reply-to; bh=7b+7qQ+quHCmzRIZvaTGVypEhJr3LddmaL1a16bAetc=; b=IKgPXC/Mq9trmTSYx0KOpP1SCyJhWs8QiZhGV95nFMroXSZ594MsG4qKkZtHNyGjOs 2n7jQ2XL8BX1JiBAs1+NvxWzn6nOkOBFaFGGN0pE2CFXPxnaEdbKMJSw5j+rpjSJdDk4 ZsU6+nUqX9RhW+uWQqh+DI53pSDcSnFa3rzP4= X-Google-DKIM-Signature: v=1; a=rsa-sha256; c=relaxed/relaxed; d=1e100.net; s=20230601; t=1759822467; x=1760427267; h=cc:to:from:subject:message-id:date:x-gm-message-state:from:to:cc :subject:date:message-id:reply-to; bh=7b+7qQ+quHCmzRIZvaTGVypEhJr3LddmaL1a16bAetc=; b=HxSmUyB1i5oEGhYbN4mzIWrW5Qkj81GCog9Odf1kNPs5T2px+8FhFRwexP1KcEFuG8 Q4+v62Az5nCZZYNiWyAcZl8iJ+LFP07LLWPqKP2IrtiZ7+Om8rWM6s8RRDCaZRvW1CnN qyUqWgZByEY8AXoEeKW1qiLV71CmNgNHjn872n1OyseDBa4H/PgfkoFPlY3BG/hqrRua 4GyioGS+juv8m4NfparUnyZLX+09OP/NVTsgTUNCAd7Vkw6/VCPYBUb0Qq1gSHTjuHpx N+o/O2FUaDnP93gH9x9mGWoboW0UDgfmn8KoJNjG6imfFjyAASm8UeUYy3+3jmcx8xWD Lcvg== X-Gm-Message-State: AOJu0YxOadQ3vIBYx1VO/G0AytH2LNdtb2ASYIhNGp76jHQnv9ZjIicu 2XP9bXVhcH/Kh43H0HTF68SPVOY7ZP1HaHFDp20tfWNQbOg0VHU5lXDusxLqEmWHH52fes1MqIh XdGBNAysw7Ouw1kBGFzKWK5w/BblBvIUasghoveQt5zLkbYC1JWUK X-Gm-Gg: ASbGncuiyHBhCm2SnYc07guvgOuLfi4mS5iqKyGs59KPRU9h82MVWk/WTom1ZVfHoNx TaGhlw4Im0fBLyd9YG4FWhvTNuHhvJzydNuLofNZKcfheJ3wqdFeAIsRGJr5segvtPX+E4/k48j iYD9beRhG1gESIq31O/mxC/ARf0hw67JDYpRwdz3tTtvXbGdkWNJX/v1nIYGjNDJvA7VcsuWDuZ 6FoOvn1Zgv1NzwvH9BaIL0E9rz7nlxjuRRvM15T+aDIhf/Lm+eWEuskPlnI3nulYgLa6is2X6L1 fsBgRCmqv6OywcAnto70salns2c4UkM2ZdmmginSHrsFismQyJlELgM= X-Google-Smtp-Source: AGHT+IGijOocK7b2i5FPqeIq3k+nMiKfTO+cybW1oj3Hr9QpJLn9Ie5ety0Bxgqh2w8cRmBDSdWgJQsgXLTe X-Received: by 2002:a17:902:d549:b0:271:479d:3dcb with SMTP id d9443c01a7336-28e9a513644mr207998245ad.6.1759822467521; Tue, 07 Oct 2025 00:34:27 -0700 (PDT) Received: from postal.iol.unh.edu (postal.iol.unh.edu. [2606:4100:3880:1234::84]) by smtp-relay.gmail.com with ESMTPS id d9443c01a7336-28e8d10843fsm11734225ad.7.2025.10.07.00.34.27 (version=TLS1_2 cipher=ECDHE-ECDSA-AES128-GCM-SHA256 bits=128/128); Tue, 07 Oct 2025 00:34:27 -0700 (PDT) X-Relaying-Domain: iol.unh.edu Date: Tue, 07 Oct 2025 00:34:27 -0700 (PDT) Message-ID: <68e4c283.170a0220.2487af.00c8SMTPIN_ADDED_MISSING@mx.google.com> Received: from [172.21.0.3] (unknown [172.18.0.240]) by postal.iol.unh.edu (Postfix) with ESMTP id BB6EF6051830; Tue, 7 Oct 2025 03:34:26 -0400 (EDT) Subject: |SUCCESS| [GIT MASTER] 3b43ce3f4a54468e7ef65760c2fd7b4d6ee6d9fc From: dpdklab@iol.unh.edu To: Test Report Cc: dpdk-test-reports@iol.unh.edu, Xueming Li , Christian Ehrhardt , Kevin Traynor , Luca Boccassi Content-Type: text/plain X-BeenThere: test-report@dpdk.org X-Mailman-Version: 2.1.29 Precedence: list List-Id: automatic DPDK test reports List-Unsubscribe: , List-Archive: List-Post: List-Help: List-Subscribe: , Errors-To: test-report-bounces@dpdk.org _Testing PASS_ Branch: tags/v22.11 3b43ce3f4a54468e7ef65760c2fd7b4d6ee6d9fc --> testing pass Upstream job id: Generic-DPDK-Compile-Meson#431648 Test environment and result as below: +-------------------------------+--------------------+-------------------------+----------------------+ | Environment | dpdk_meson_compile | dpdk_llvm_clang_compile | dpdk_mingw64_compile | +===============================+====================+=========================+======================+ | Ubuntu 20.04 | PASS | SKIPPED | SKIPPED | +-------------------------------+--------------------+-------------------------+----------------------+ | FreeBSD 14.2 | PASS | SKIPPED | SKIPPED | +-------------------------------+--------------------+-------------------------+----------------------+ | CentOS Stream 9 | PASS | SKIPPED | SKIPPED | +-------------------------------+--------------------+-------------------------+----------------------+ | CentOS Stream 10 | PASS | SKIPPED | SKIPPED | +-------------------------------+--------------------+-------------------------+----------------------+ | Debian GNU/Linux 12 | PASS | SKIPPED | SKIPPED | +-------------------------------+--------------------+-------------------------+----------------------+ | Fedora Linux 42 | PASS | SKIPPED | SKIPPED | +-------------------------------+--------------------+-------------------------+----------------------+ | openSUSE Leap 15.6 | PASS | SKIPPED | SKIPPED | +-------------------------------+--------------------+-------------------------+----------------------+ | Red Hat Enterprise Linux 8.10 | PASS | SKIPPED | SKIPPED | +-------------------------------+--------------------+-------------------------+----------------------+ | Red Hat Enterprise Linux 9.5 | PASS | SKIPPED | SKIPPED | +-------------------------------+--------------------+-------------------------+----------------------+ | Ubuntu 22.04 | PASS | SKIPPED | SKIPPED | +-------------------------------+--------------------+-------------------------+----------------------+ | Ubuntu 24.04 | PASS | SKIPPED | SKIPPED | +-------------------------------+--------------------+-------------------------+----------------------+ | Windows Server 2022 | SKIPPED | PASS | PASS | +-------------------------------+--------------------+-------------------------+----------------------+ Ubuntu 20.04 Kernel: 4.19 Compiler: gcc gcc (Ubuntu 9.4.0-1ubuntu1~20.04.2) 9.4.0 FreeBSD 14.2 Kernel: 14.2-RELEASE Compiler: clang 18.1.6 CentOS Stream 9 Kernel: 5.15 Compiler: gcc gcc (GCC) 11.5.0 20240719 (Red Hat 11.5.0-11) CentOS Stream 10 Kernel: 5.15 Compiler: gcc gcc (GCC) 14.2.1 20250110 (Red Hat 14.2.1-8) Debian GNU/Linux 12 Kernel: 5.15 Compiler: gcc gcc (Debian 12.2.0-14+deb12u1) 12.2.0 Fedora Linux 42 Kernel: 5.15 Compiler: clang gcc (GCC) 15.2.1 20250808 (Red Hat 15.2.1-1) openSUSE Leap 15.6 Kernel: 5.15 Compiler: gcc gcc (SUSE Linux) 7.5.0 Red Hat Enterprise Linux 8.10 Kernel: 5.15 Compiler: gcc gcc (GCC) 8.5.0 20210514 (Red Hat 8.5.0-22) Red Hat Enterprise Linux 9.5 Kernel: 5.15 Compiler: gcc gcc (GCC) 11.5.0 20240719 (Red Hat 11.5.0-2) Ubuntu 22.04 Kernel: 5.15 Compiler: gcc gcc (Ubuntu 11.4.0-1ubuntu1~22.04) 11.4.0 Ubuntu 24.04 Kernel: 5.15 Compiler: gcc gcc (Ubuntu 13.3.0-6ubuntu2~24.04) 13.3.0 Windows Server 2022 Kernel: 10.0.20348.2031 Compiler: clang 15.0.7, gcc 14.1.0 (MinGW), and MSVC VS 19.39.33521 To view detailed results, visit: https://lab.dpdk.org/results/dashboard/tarballs/35108/ UNH-IOL DPDK Community Lab To manage your email subscriptions, visit: https://lab.dpdk.org/results/dashboard/preferences/subscriptions/