From mboxrd@z Thu Jan 1 00:00:00 1970 Return-Path: Received: from mails.dpdk.org (mails.dpdk.org [217.70.189.124]) by inbox.dpdk.org (Postfix) with ESMTP id 15BA2488D1 for ; Tue, 7 Oct 2025 09:46:08 +0200 (CEST) Received: from mails.dpdk.org (localhost [127.0.0.1]) by mails.dpdk.org (Postfix) with ESMTP id E09E24027F; Tue, 7 Oct 2025 09:46:07 +0200 (CEST) Received: from mail-io1-f97.google.com (mail-io1-f97.google.com [209.85.166.97]) by mails.dpdk.org (Postfix) with ESMTP id 67FF34027F for ; Tue, 7 Oct 2025 09:46:06 +0200 (CEST) Received: by mail-io1-f97.google.com with SMTP id ca18e2360f4ac-91e578e2a61so243255039f.2 for ; Tue, 07 Oct 2025 00:46:06 -0700 (PDT) DKIM-Signature: v=1; a=rsa-sha256; c=relaxed/relaxed; d=iol.unh.edu; s=unh-iol; t=1759823165; x=1760427965; darn=dpdk.org; h=cc:to:from:subject:message-id:date:from:to:cc:subject:date :message-id:reply-to; bh=kJvQwtSKDmuyE0nzybnpu2oqFrpyrwcaQ/Gd0/N0Gtc=; b=INUztmC1QWeuZYr+P8pw0AATyTKu29HYoO+xX6ABT6m57XeFZA4oA4f7MJlRe2Vpde W/Js/KpMUTUOHkFnHk33ryhaqjw/7tGhe7T/TMxyy7oznl7tdJhu7fOio5eFrN6j8AUr kNop/XQyLWSRPftRtMC34KRk4Q+Z1PhGuKXAc= X-Google-DKIM-Signature: v=1; a=rsa-sha256; c=relaxed/relaxed; d=1e100.net; s=20230601; t=1759823165; x=1760427965; h=cc:to:from:subject:message-id:date:x-gm-message-state:from:to:cc :subject:date:message-id:reply-to; bh=kJvQwtSKDmuyE0nzybnpu2oqFrpyrwcaQ/Gd0/N0Gtc=; b=GcYB/Y1G4ELgPGF1fq2c2O4gzS7xiNwzHdUm+NF6gRfRGjCdTsHIVANceB3K10UDL0 Mj7O39CLRZ1ix5qGoWzINKqujLRV2aT0sUDwoM6zRPZMk8aVj08RRw/ytkz9vRboqlkn PwqVdE87nX6mGVdw7P8Kx5y+lI6f8nb/bbhGlF/uExiudWrj0OcMp+HfXRoqB9Gx1o47 07fB28fz0R+5POD0vy/B3sSqHb8sTMm0t7ISVrmvSqVbfrzs2goxsxyuOkxbhaA1F1Ts Ilg3Uz7FKEubbJr8ay6xTAbTqwfkorDxrTuz4I02BGFyypfJz6zBUOwnW8HEVuIQBEEx GbgQ== X-Gm-Message-State: AOJu0YzmJQx0AVUR6p2+R/2j0bjEjg4/aVsphI6807sBBAGuuDJh3v3r e4KkH+DeTEwzx+Q51bAtQD7yaGnn46fJctAOgkXu14l1fgKOwjKveodm59I/t9vq27ZXC7RKegS H181zkHI3fj5Wi24Gzm6iHglb3fCgtN5QVoVpC2GSXyxb X-Gm-Gg: ASbGnctco6BlBSxLME1xXZfe20YYb2w3KOD0vQv1UM4XpJQwI/Ss5oPNC1xHAY/AtR9 aEvgkTq1hrpEN6lkMM6UezR8vpOlsEovJTKBQFn0Kq+dLrMtZLr32VFXaFyc7mGSzIJ1wCY5ZbI H8BWvJEI6XpR3YqDosZ/+JyGukFXvkay5InUT+oxpdBcyvzdoQ109l/lbPsySaBIPHmnkzL6kdK y/trr8aYRIRX6gk1ov8RQnJU5zZKIIQrTuWFyFMXXexGQTbC3EcZyn8nitHfyj2cyr/mqYQJ4ZT RK/vYai+1kmBtlIFocoheM0oIWH6jGqq6yMuq2kyb2eNpG5Wv0rKlLZmOSTweyFDMp32JK6c40M leQ== X-Google-Smtp-Source: AGHT+IEL2Qb1thOQAoR00sP0oTKtR3xGpWu3Go2ey4CaZdCOR4h1+NwdhCPglo868qTybAdTwZOCc6kC/g0E X-Received: by 2002:a05:6e02:16ce:b0:423:84d0:7f7e with SMTP id e9e14a558f8ab-42e7ad04b8emr216794665ab.6.1759823165648; Tue, 07 Oct 2025 00:46:05 -0700 (PDT) Received: from postal.iol.unh.edu (postal.iol.unh.edu. [132.177.123.84]) by smtp-relay.gmail.com with ESMTPS id e9e14a558f8ab-42d8b1fc525sm11983545ab.5.2025.10.07.00.46.05 (version=TLS1_2 cipher=ECDHE-ECDSA-AES128-GCM-SHA256 bits=128/128); Tue, 07 Oct 2025 00:46:05 -0700 (PDT) X-Relaying-Domain: iol.unh.edu Date: Tue, 07 Oct 2025 00:46:05 -0700 (PDT) Message-ID: <68e4c53d.050a0220.14b040.2451SMTPIN_ADDED_MISSING@mx.google.com> Received: from [172.21.0.2] (unknown [172.18.0.240]) by postal.iol.unh.edu (Postfix) with ESMTP id 44F456051830; Tue, 7 Oct 2025 03:46:05 -0400 (EDT) Subject: |SUCCESS| [GIT MASTER] 2b403dd8fb37d0ba13723e44ffc7ee2c2795f838 From: dpdklab@iol.unh.edu To: Test Report Cc: dpdk-test-reports@iol.unh.edu, Jerin Jacob Content-Type: text/plain X-BeenThere: test-report@dpdk.org X-Mailman-Version: 2.1.29 Precedence: list List-Id: automatic DPDK test reports List-Unsubscribe: , List-Archive: List-Post: List-Help: List-Subscribe: , Errors-To: test-report-bounces@dpdk.org _Testing PASS_ Branch: dpdk-next-eventdev 2b403dd8fb37d0ba13723e44ffc7ee2c2795f838 --> testing pass Upstream job id: Generic-Unit-Test-DPDK#378937 Test environment and result as below: +------------------------------+----------------+--------------+------------------------------+---------------------------+ | Environment | dpdk_unit_test | lpm_autotest | cryptodev_sw_snow3g_autotest | cryptodev_sw_zuc_autotest | +==============================+================+==============+==============================+===========================+ | CentOS Stream 9 | PASS | SKIPPED | SKIPPED | SKIPPED | +------------------------------+----------------+--------------+------------------------------+---------------------------+ | CentOS Stream 10 | PASS | SKIPPED | SKIPPED | SKIPPED | +------------------------------+----------------+--------------+------------------------------+---------------------------+ | Fedora Linux 40 | PASS | SKIPPED | SKIPPED | SKIPPED | +------------------------------+----------------+--------------+------------------------------+---------------------------+ | Debian GNU/Linux 12 | PASS | SKIPPED | SKIPPED | SKIPPED | +------------------------------+----------------+--------------+------------------------------+---------------------------+ | Fedora Linux 41 | PASS | SKIPPED | SKIPPED | SKIPPED | +------------------------------+----------------+--------------+------------------------------+---------------------------+ | Fedora Linux 42 | PASS | SKIPPED | SKIPPED | SKIPPED | +------------------------------+----------------+--------------+------------------------------+---------------------------+ | Ubuntu 22.04 | PASS | SKIPPED | SKIPPED | SKIPPED | +------------------------------+----------------+--------------+------------------------------+---------------------------+ | Ubuntu 20.04 | PASS | PASS | SKIPPED | SKIPPED | +------------------------------+----------------+--------------+------------------------------+---------------------------+ | Red Hat Enterprise Linux 9.5 | PASS | SKIPPED | SKIPPED | SKIPPED | +------------------------------+----------------+--------------+------------------------------+---------------------------+ | Ubuntu 24.04 | PASS | SKIPPED | SKIPPED | SKIPPED | +------------------------------+----------------+--------------+------------------------------+---------------------------+ | Debian 12 (arm) | SKIPPED | SKIPPED | PASS | PASS | +------------------------------+----------------+--------------+------------------------------+---------------------------+ CentOS Stream 9 Kernel: 5.4 Compiler: gcc gcc (GCC) 11.5.0 20240719 (Red Hat 11.5.0-11) CentOS Stream 10 Kernel: 5.4 Compiler: gcc gcc (GCC) 14.2.1 20250110 (Red Hat 14.2.1-8) Fedora Linux 40 Kernel: 5.4 Compiler: clang gcc (GCC) 14.2.1 20240912 (Red Hat 14.2.1-3) Debian GNU/Linux 12 Kernel: 5.4 Compiler: gcc gcc (Debian 12.2.0-14+deb12u1) 12.2.0 Fedora Linux 41 Kernel: 5.4 Compiler: gcc gcc (GCC) 14.3.1 20250523 (Red Hat 14.3.1-1) Fedora Linux 42 Kernel: 5.4 Compiler: clang gcc (GCC) 15.2.1 20250808 (Red Hat 15.2.1-1) Ubuntu 22.04 Kernel: 5.15 Compiler: gcc gcc (Ubuntu 11.4.0-1ubuntu1~22.04.2) 11.4.0 Ubuntu 20.04 Kernel: 5.4 Compiler: gcc gcc (Ubuntu 9.4.0-1ubuntu1~20.04.2) 9.4.0 Red Hat Enterprise Linux 9.5 Kernel: 5.4 Compiler: gcc gcc (GCC) 11.5.0 20240719 (Red Hat 11.5.0-2) Ubuntu 24.04 Kernel: 5.4 Compiler: gcc gcc (Ubuntu 13.3.0-6ubuntu2~24.04) 13.3.0 Debian 12 (arm) Kernel: Depends on container host Compiler: gcc (Debian 12.2.0-14) 12.2.0 To view detailed results, visit: https://lab.dpdk.org/results/dashboard/tarballs/35122/ UNH-IOL DPDK Community Lab To manage your email subscriptions, visit: https://lab.dpdk.org/results/dashboard/preferences/subscriptions/