From mboxrd@z Thu Jan 1 00:00:00 1970 Return-Path: Received: from mails.dpdk.org (mails.dpdk.org [217.70.189.124]) by inbox.dpdk.org (Postfix) with ESMTP id 46769488D4 for ; Tue, 7 Oct 2025 12:27:04 +0200 (CEST) Received: from mails.dpdk.org (localhost [127.0.0.1]) by mails.dpdk.org (Postfix) with ESMTP id 4190F402B1; Tue, 7 Oct 2025 12:27:04 +0200 (CEST) Received: from mail-qv1-f98.google.com (mail-qv1-f98.google.com [209.85.219.98]) by mails.dpdk.org (Postfix) with ESMTP id C27F0402B1 for ; Tue, 7 Oct 2025 12:27:02 +0200 (CEST) Received: by mail-qv1-f98.google.com with SMTP id 6a1803df08f44-791875a9071so59527686d6.1 for ; Tue, 07 Oct 2025 03:27:02 -0700 (PDT) DKIM-Signature: v=1; a=rsa-sha256; c=relaxed/relaxed; d=iol.unh.edu; s=unh-iol; t=1759832822; x=1760437622; darn=dpdk.org; h=references:in-reply-to:cc:to:from:subject:message-id:date:from:to :cc:subject:date:message-id:reply-to; bh=cUedlqzczFozJUJ3Sf+YoISekR4jNWUsO/KkJjN6p+A=; b=aQfhdS6uyoXjZOhojLoJQm+bDaIdIM1thQOdgFT9NyJtvsy81t1s8eL8EBzgUW7SqZ /fVmjuUbnFIRy8/OwkeXGjsRj/tmanmzAcd/xRCGVR57vVf2rZGihCF5boU1F5VWsKrR MzX5v0Pcc0jGJnT8aV+dKFkf60QeEBIeegpRs= X-Google-DKIM-Signature: v=1; a=rsa-sha256; c=relaxed/relaxed; d=1e100.net; s=20230601; t=1759832822; x=1760437622; h=references:in-reply-to:cc:to:from:subject:message-id:date :x-gm-message-state:from:to:cc:subject:date:message-id:reply-to; bh=cUedlqzczFozJUJ3Sf+YoISekR4jNWUsO/KkJjN6p+A=; b=O+NsEaRAtO1RH/Xy2Ut7IC8Kyp4tvdLtz/gMqPUPAGg1P/IVNa2hThHi8G8tDYi9Ty SS7QxQOPA/uJ1fXo8MbRBCI3U51HPy6WWVso32KxpJECmXekBsYLKFF9uynkPvuDBvNH R9a6W0n38WSlTmA7lFYQkMXlo6VyJe2uPD74YyQNQQpzEP3L5PVITz9e9aRC3k+BjzVU wBpB+HHUAn478J6wOOnvm0zkSdLZ/D7OoKJyLkYaSStrS3pWwbKnt/ouyHvadZNbqXhh PjbeAYtTRC7YnJe/fJ6A4K6Y+lTga/gvoM8FjCG8dX6km59aTM7uD+8xR8cVTQft6uJK pnuA== X-Gm-Message-State: AOJu0Yzy7izHfn093jg+ldvtqTMnuuUoXTuwtum2DKjnyl0yOs8RelL5 drB/nxxfuBzSpuL1Dp+g9ijyAFgcA66F5/bplBI24FWy0qc74TSp3egu72liF1oBZdFZi5lkK88 O2pCrxjOfADXAVKfDgXpfUiiJCxwfa1fTfjqYu/vxzDyDK8W1vrKg0cjhkvon X-Gm-Gg: ASbGncvSKgZLpnGRI8Cb5kLvXgk/EZamqNfSiJ+Q/TKaLGdkgcM6OrbGa7S+ZOr7mWp o2M6z7e+ubEQ36lNqgs4zXwCVsD1plrTGFfDdlJ5DTndxMgzWsrdSlcXWQMISKKkA+lmMwVDnIE QIH9W+W3UEyUBhynF+Nz+aSPHv1LxUpO3zmneeHxmWuDJHfVQkK9RWiYKVRZkchLwqBEujDOgKp H32QN8IOj8jRdXHlHEeYQsZJ2Va1C4dLbTspdufhUeUO/7LXAnQglOSii/G+inQB287UC3n0Qbx MNxnaeWV5y03A8GYi97kfFWK6XKOd+HHpHh2g3+G5+mmQtvnM0HRpDs= X-Google-Smtp-Source: AGHT+IFKUvJgUY/+eexbHdcPQqsimV6QA1TzoBshYy8wnTqWO5N17Cg6rDSDcnPuFm7YIH1lm8OXWVLuA6HH X-Received: by 2002:ad4:5dc2:0:b0:820:a83:eaff with SMTP id 6a1803df08f44-879dc8824e8mr217123736d6.64.1759832822057; Tue, 07 Oct 2025 03:27:02 -0700 (PDT) Received: from postal.iol.unh.edu (postal.iol.unh.edu. [2606:4100:3880:1234::84]) by smtp-relay.gmail.com with ESMTPS id 6a1803df08f44-878bb254292sm13115766d6.10.2025.10.07.03.27.01 (version=TLS1_2 cipher=ECDHE-ECDSA-AES128-GCM-SHA256 bits=128/128); Tue, 07 Oct 2025 03:27:02 -0700 (PDT) X-Relaying-Domain: iol.unh.edu Date: Tue, 07 Oct 2025 03:27:02 -0700 (PDT) Message-ID: <68e4eaf6.d40a0220.9ccd5.697aSMTPIN_ADDED_MISSING@mx.google.com> Received: from [172.21.0.2] (unknown [172.18.0.240]) by postal.iol.unh.edu (Postfix) with ESMTP id 900286051830; Tue, 7 Oct 2025 06:27:01 -0400 (EDT) Subject: |SUCCESS| pw157299-157302 [PATCH] [v4,4/4] doc: add doc for dictiona From: dpdklab@iol.unh.edu To: Test Report Cc: dpdk-test-reports@iol.unh.edu, Akhil Goyal In-Reply-To: <20251006200904.2467957-4-svaze@qti.qualcomm.com> References: <20251006200904.2467957-4-svaze@qti.qualcomm.com> Content-Type: text/plain X-BeenThere: test-report@dpdk.org X-Mailman-Version: 2.1.29 Precedence: list List-Id: automatic DPDK test reports List-Unsubscribe: , List-Archive: List-Post: List-Help: List-Subscribe: , Errors-To: test-report-bounces@dpdk.org Test-Label: iol-unit-arm64-testing Test-Status: SUCCESS http://dpdk.org/patch/157302 _Testing PASS_ Submitter: Sameer Vaze Date: Monday, October 06 2025 20:09:04 DPDK git baseline: Repo:dpdk-next-crypto Branch: master CommitID:caa17cb4b057a31ee04067459fe543f7d7ae1079 157299-157302 --> testing pass Upstream job id: Generic-Unit-Test-DPDK#378970 Test environment and result as below: +------------------------------+----------------+------------------------------+--------------+---------------------------+ | Environment | dpdk_unit_test | cryptodev_sw_snow3g_autotest | lpm_autotest | cryptodev_sw_zuc_autotest | +==============================+================+==============================+==============+===========================+ | CentOS Stream 9 | PASS | SKIPPED | SKIPPED | SKIPPED | +------------------------------+----------------+------------------------------+--------------+---------------------------+ | Fedora Linux 41 | PASS | SKIPPED | SKIPPED | SKIPPED | +------------------------------+----------------+------------------------------+--------------+---------------------------+ | Debian GNU/Linux 12 | PASS | SKIPPED | SKIPPED | SKIPPED | +------------------------------+----------------+------------------------------+--------------+---------------------------+ | Fedora Linux 40 | PASS | SKIPPED | SKIPPED | SKIPPED | +------------------------------+----------------+------------------------------+--------------+---------------------------+ | CentOS Stream 10 | PASS | SKIPPED | SKIPPED | SKIPPED | +------------------------------+----------------+------------------------------+--------------+---------------------------+ | Fedora Linux 42 | PASS | SKIPPED | SKIPPED | SKIPPED | +------------------------------+----------------+------------------------------+--------------+---------------------------+ | Ubuntu 22.04 | PASS | SKIPPED | SKIPPED | SKIPPED | +------------------------------+----------------+------------------------------+--------------+---------------------------+ | Ubuntu 20.04 | PASS | SKIPPED | PASS | SKIPPED | +------------------------------+----------------+------------------------------+--------------+---------------------------+ | Red Hat Enterprise Linux 9.5 | PASS | SKIPPED | SKIPPED | SKIPPED | +------------------------------+----------------+------------------------------+--------------+---------------------------+ | Ubuntu 24.04 | PASS | SKIPPED | SKIPPED | SKIPPED | +------------------------------+----------------+------------------------------+--------------+---------------------------+ | Debian 12 (arm) | SKIPPED | PASS | SKIPPED | PASS | +------------------------------+----------------+------------------------------+--------------+---------------------------+ CentOS Stream 9 Kernel: 5.4 Compiler: gcc gcc (GCC) 11.5.0 20240719 (Red Hat 11.5.0-11) Fedora Linux 41 Kernel: 5.4 Compiler: gcc gcc (GCC) 14.3.1 20250523 (Red Hat 14.3.1-1) Debian GNU/Linux 12 Kernel: 5.4 Compiler: gcc gcc (Debian 12.2.0-14+deb12u1) 12.2.0 Fedora Linux 40 Kernel: 5.4 Compiler: gcc gcc (GCC) 14.2.1 20240912 (Red Hat 14.2.1-3) CentOS Stream 10 Kernel: 5.4 Compiler: gcc gcc (GCC) 14.2.1 20250110 (Red Hat 14.2.1-8) Fedora Linux 42 Kernel: 5.4 Compiler: gcc gcc (GCC) 15.2.1 20250808 (Red Hat 15.2.1-1) Ubuntu 22.04 Kernel: 5.15 Compiler: gcc gcc (Ubuntu 11.4.0-1ubuntu1~22.04.2) 11.4.0 Ubuntu 20.04 Kernel: 5.4 Compiler: gcc gcc (Ubuntu 9.4.0-1ubuntu1~20.04.2) 9.4.0 Red Hat Enterprise Linux 9.5 Kernel: 5.4 Compiler: gcc gcc (GCC) 11.5.0 20240719 (Red Hat 11.5.0-2) Ubuntu 24.04 Kernel: 5.4 Compiler: gcc gcc (Ubuntu 13.3.0-6ubuntu2~24.04) 13.3.0 Debian 12 (arm) Kernel: Depends on container host Compiler: gcc (Debian 12.2.0-14) 12.2.0 To view detailed results, visit: https://lab.dpdk.org/results/dashboard/patchsets/34224/ UNH-IOL DPDK Community Lab To manage your email subscriptions, visit: https://lab.dpdk.org/results/dashboard/preferences/subscriptions/