From mboxrd@z Thu Jan 1 00:00:00 1970 Return-Path: Received: from mails.dpdk.org (mails.dpdk.org [217.70.189.124]) by inbox.dpdk.org (Postfix) with ESMTP id CF439488D4 for ; Tue, 7 Oct 2025 13:05:12 +0200 (CEST) Received: from mails.dpdk.org (localhost [127.0.0.1]) by mails.dpdk.org (Postfix) with ESMTP id 9CA3A402B1; Tue, 7 Oct 2025 13:05:12 +0200 (CEST) Received: from mail-qt1-f225.google.com (mail-qt1-f225.google.com [209.85.160.225]) by mails.dpdk.org (Postfix) with ESMTP id E550F402B1 for ; Tue, 7 Oct 2025 13:05:10 +0200 (CEST) Received: by mail-qt1-f225.google.com with SMTP id d75a77b69052e-4d9f7a34daaso58359271cf.0 for ; Tue, 07 Oct 2025 04:05:10 -0700 (PDT) DKIM-Signature: v=1; a=rsa-sha256; c=relaxed/relaxed; d=iol.unh.edu; s=unh-iol; t=1759835110; x=1760439910; darn=dpdk.org; h=references:in-reply-to:cc:to:from:subject:message-id:date:from:to :cc:subject:date:message-id:reply-to; bh=zCwlKPQsI8H5m19r3cKesvP0yLwZWdN00KJSuP80AWo=; b=EHX93X9DxJpypKAGbf0zZ6hWLomx6BUfpnO+jomJe87y3QhVmHoM7FJdQb1UDFE2Gr eOgNbe1rpWl3oo3F/RGngTdTECbE91ffLjgCqPbaoVyGYfcAx9Rc91sw6M43Gfu0BvAh K+qkhH0oPBKldfCWUja/u1r0P1GIG8LFes5wY= X-Google-DKIM-Signature: v=1; a=rsa-sha256; c=relaxed/relaxed; d=1e100.net; s=20230601; t=1759835110; x=1760439910; h=references:in-reply-to:cc:to:from:subject:message-id:date :x-gm-message-state:from:to:cc:subject:date:message-id:reply-to; bh=zCwlKPQsI8H5m19r3cKesvP0yLwZWdN00KJSuP80AWo=; b=ePY6sRdYCxnegvszd1NMufU9nCj7YdZYvsci+CC4h5P/uyKENmTO5v+lQVceEVpvpD AtRxHiO8K1Mfy7YkjUtgHc/7LnXygvWKIcmb+4NzR42eIfZF+COYN7/G7+1J73q8hljp +42b44GRqfTkp1pBLPMuAKp011DJF2wGilb1Ly6hn5PV3AN1p2csmS4KGF/aZNkcOEV4 VmkLo5w4M+O4fOeGKsMFuotRpjJrWlnOkg08o5hcAcBpkIdA60benTKjIB1zcC2aTj6b SzDZDHk8MQJjzOkIsKK4yj0XaLIFLHIp9X+SZwUzR0PjzeNZYzoLyYw63LOhaa5axXPq 4Hzw== X-Gm-Message-State: AOJu0YwcR2IaCOHrNInYG/T2onMLazNCR+28YO8W68MCR+FXWfhPPavF wh51QGfy9XMAN1eevnGYZ244DF7gypRxSipffPObaIoRHcAvWcuI5T/EBfNyMeUxHKF3jKR24fB FaVlCxUsAW1VgvlmVlaQfY9nOiBBC0heFKkq6EzkRCoXH X-Gm-Gg: ASbGncsBS7AoDNmf3zxw9P5Bp9Lms1RBxfX6EQwYTN8vryTVGGGEFeYJp/gia1wiZzF WSat7zXLoDBdjpKxpNbBtxtrlb8MrkpSCZJlG8Qm/oCkBINAwUOpNIdD0PcUhrfGn3O0sEzGhU8 JoIz3TfXptYz5aNaXMTrWCEC9VGChZ3GPTF+hzTN6VkjvqmxFacpUVQS5rec3zj5t1jHGiSY/OT or5m9tbNPSJa+K1RjPM9I8l4Q7dR6rspJhcegQrl94tfs03RQi1mCjzpau14oYjAvvEarDV+MNJ Npwbmr/Sf8RD49e9g/thX620ztL8EUEWr86fAagBtCBKDSO1zw5AJ9ZrtrQlurS5681Jk89GqBQ 4Eg== X-Google-Smtp-Source: AGHT+IGZbFGt/NrQ0K8w/wJ8JfpyGyZn2g1ovFCQ/8chtsO+5i+jdbwqRRsfkN7DV0N3wDdH+YC6qri3jV4E X-Received: by 2002:a05:622a:4d8e:b0:4dd:8dcc:17ed with SMTP id d75a77b69052e-4e576b41872mr250435481cf.77.1759835110011; Tue, 07 Oct 2025 04:05:10 -0700 (PDT) Received: from postal.iol.unh.edu (postal.iol.unh.edu. [132.177.123.84]) by smtp-relay.gmail.com with ESMTPS id 6a1803df08f44-878be04cad5sm13021566d6.29.2025.10.07.04.05.09 (version=TLS1_2 cipher=ECDHE-ECDSA-AES128-GCM-SHA256 bits=128/128); Tue, 07 Oct 2025 04:05:10 -0700 (PDT) X-Relaying-Domain: iol.unh.edu Date: Tue, 07 Oct 2025 04:05:10 -0700 (PDT) Message-ID: <68e4f3e6.050a0220.107ee1.5ba3SMTPIN_ADDED_MISSING@mx.google.com> Received: from [172.21.0.2] (unknown [172.18.0.240]) by postal.iol.unh.edu (Postfix) with ESMTP id 9C7886051830; Tue, 7 Oct 2025 07:05:09 -0400 (EDT) Subject: |SUCCESS| pw157277 [PATCH] net/mlx5: release allocated indexed pools From: dpdklab@iol.unh.edu To: Test Report Cc: dpdk-test-reports@iol.unh.edu In-Reply-To: <20251005072346.66007-1-mkashani@nvidia.com> References: <20251005072346.66007-1-mkashani@nvidia.com> Content-Type: text/plain X-BeenThere: test-report@dpdk.org X-Mailman-Version: 2.1.29 Precedence: list List-Id: automatic DPDK test reports List-Unsubscribe: , List-Archive: List-Post: List-Help: List-Subscribe: , Errors-To: test-report-bounces@dpdk.org Test-Label: iol-compile-amd64-testing Test-Status: SUCCESS http://dpdk.org/patch/157277 _Testing PASS_ Submitter: Maayan Kashani Date: Sunday, October 05 2025 07:23:45 DPDK git baseline: Repo:dpdk-next-net-mlx Branch: master CommitID:2374f33e1d964e100895fd294966380c46f0886d 157277 --> testing pass Upstream job id: Generic-DPDK-Compile-Meson#431720 Test environment and result as below: +-------------------------------+--------------------+-------------------------+-------------------+----------------------+------------------+-------------------+ | Environment | dpdk_meson_compile | dpdk_llvm_clang_compile | dpdk_msvc_compile | dpdk_mingw64_compile | dpdk_compile_ovs | dpdk_compile_spdk | +===============================+====================+=========================+===================+======================+==================+===================+ | Ubuntu 20.04 | PASS | SKIPPED | SKIPPED | SKIPPED | SKIPPED | SKIPPED | +-------------------------------+--------------------+-------------------------+-------------------+----------------------+------------------+-------------------+ | FreeBSD 14.2 | PASS | SKIPPED | SKIPPED | SKIPPED | SKIPPED | SKIPPED | +-------------------------------+--------------------+-------------------------+-------------------+----------------------+------------------+-------------------+ | Fedora Linux 42 | PASS | SKIPPED | SKIPPED | SKIPPED | PASS | PASS | +-------------------------------+--------------------+-------------------------+-------------------+----------------------+------------------+-------------------+ | CentOS Stream 9 | PASS | SKIPPED | SKIPPED | SKIPPED | SKIPPED | PASS | +-------------------------------+--------------------+-------------------------+-------------------+----------------------+------------------+-------------------+ | CentOS Stream 10 | PASS | SKIPPED | SKIPPED | SKIPPED | SKIPPED | SKIPPED | +-------------------------------+--------------------+-------------------------+-------------------+----------------------+------------------+-------------------+ | Debian GNU/Linux 12 | PASS | SKIPPED | SKIPPED | SKIPPED | SKIPPED | PASS | +-------------------------------+--------------------+-------------------------+-------------------+----------------------+------------------+-------------------+ | openSUSE Leap 15.6 | PASS | SKIPPED | SKIPPED | SKIPPED | SKIPPED | SKIPPED | +-------------------------------+--------------------+-------------------------+-------------------+----------------------+------------------+-------------------+ | Red Hat Enterprise Linux 8.10 | PASS | SKIPPED | SKIPPED | SKIPPED | SKIPPED | SKIPPED | +-------------------------------+--------------------+-------------------------+-------------------+----------------------+------------------+-------------------+ | Red Hat Enterprise Linux 9.5 | PASS | SKIPPED | SKIPPED | SKIPPED | SKIPPED | SKIPPED | +-------------------------------+--------------------+-------------------------+-------------------+----------------------+------------------+-------------------+ | Ubuntu 22.04 | PASS | SKIPPED | SKIPPED | SKIPPED | SKIPPED | PASS | +-------------------------------+--------------------+-------------------------+-------------------+----------------------+------------------+-------------------+ | Ubuntu 24.04 | PASS | SKIPPED | SKIPPED | SKIPPED | PASS | PASS | +-------------------------------+--------------------+-------------------------+-------------------+----------------------+------------------+-------------------+ | Alpine Linux 3.22.0 | PASS | SKIPPED | SKIPPED | SKIPPED | SKIPPED | SKIPPED | +-------------------------------+--------------------+-------------------------+-------------------+----------------------+------------------+-------------------+ | Windows Server 2022 | SKIPPED | PASS | PASS | PASS | SKIPPED | SKIPPED | +-------------------------------+--------------------+-------------------------+-------------------+----------------------+------------------+-------------------+ Ubuntu 20.04 Kernel: 4.19 Compiler: gcc gcc (Ubuntu 9.4.0-1ubuntu1~20.04.2) 9.4.0 FreeBSD 14.2 Kernel: 14.2-RELEASE Compiler: clang 18.1.6 Fedora Linux 42 Kernel: 5.15 Compiler: gcc gcc (GCC) 15.2.1 20250808 (Red Hat 15.2.1-1) CentOS Stream 9 Kernel: 5.15 Compiler: gcc gcc (GCC) 11.5.0 20240719 (Red Hat 11.5.0-11) CentOS Stream 10 Kernel: 5.15 Compiler: gcc gcc (GCC) 14.2.1 20250110 (Red Hat 14.2.1-8) Debian GNU/Linux 12 Kernel: 5.15 Compiler: gcc gcc (Debian 12.2.0-14+deb12u1) 12.2.0 openSUSE Leap 15.6 Kernel: 5.15 Compiler: gcc gcc (SUSE Linux) 7.5.0 Red Hat Enterprise Linux 8.10 Kernel: 5.15 Compiler: gcc gcc (GCC) 8.5.0 20210514 (Red Hat 8.5.0-22) Red Hat Enterprise Linux 9.5 Kernel: 5.15 Compiler: gcc gcc (GCC) 11.5.0 20240719 (Red Hat 11.5.0-2) Ubuntu 22.04 Kernel: 5.15 Compiler: gcc gcc (Ubuntu 11.4.0-1ubuntu1~22.04) 11.4.0 Ubuntu 24.04 Kernel: 5.15 Compiler: gcc gcc (Ubuntu 13.3.0-6ubuntu2~24.04) 13.3.0 Alpine Linux 3.22.0 Kernel: 5.15 Compiler: gcc gcc (Alpine 14.2.0) 14.2.0 Windows Server 2022 Kernel: 10.0.20348.2031 Compiler: clang 15.0.7, gcc 14.1.0 (MinGW), and MSVC VS 19.39.33521 To view detailed results, visit: https://lab.dpdk.org/results/dashboard/patchsets/34216/ UNH-IOL DPDK Community Lab To manage your email subscriptions, visit: https://lab.dpdk.org/results/dashboard/preferences/subscriptions/