From mboxrd@z Thu Jan 1 00:00:00 1970 Return-Path: Received: from mails.dpdk.org (mails.dpdk.org [217.70.189.124]) by inbox.dpdk.org (Postfix) with ESMTP id DA9F2488D5 for ; Tue, 7 Oct 2025 14:24:57 +0200 (CEST) Received: from mails.dpdk.org (localhost [127.0.0.1]) by mails.dpdk.org (Postfix) with ESMTP id C88704013F; Tue, 7 Oct 2025 14:24:57 +0200 (CEST) Received: from mail-yw1-f227.google.com (mail-yw1-f227.google.com [209.85.128.227]) by mails.dpdk.org (Postfix) with ESMTP id 2D0A44013F for ; Tue, 7 Oct 2025 14:24:56 +0200 (CEST) Received: by mail-yw1-f227.google.com with SMTP id 00721157ae682-73f20120601so73850067b3.2 for ; Tue, 07 Oct 2025 05:24:56 -0700 (PDT) DKIM-Signature: v=1; a=rsa-sha256; c=relaxed/relaxed; d=iol.unh.edu; s=unh-iol; t=1759839895; x=1760444695; darn=dpdk.org; h=references:in-reply-to:cc:to:from:subject:message-id:date:from:to :cc:subject:date:message-id:reply-to; bh=EnS77+/RRld+wLh6EpwqQsHR+NFemT38c4V2NA3zgXM=; b=S2937Iz5vmpPkRLNX4cZmLJPUw8szs7hMgmpjx+ScFX0fysGpkLADr19sCF2v6IaMC d9XApdD4CiF6RBl5eezCzD/CY0M8VfIXULIDSyIkzVJUOYS4pS6lOiCrZBOqKtiXLAp7 syCMya0IaADI6mleUHCVSwABniTTIEaqVkCgQ= X-Google-DKIM-Signature: v=1; a=rsa-sha256; c=relaxed/relaxed; d=1e100.net; s=20230601; t=1759839895; x=1760444695; h=references:in-reply-to:cc:to:from:subject:message-id:date :x-gm-message-state:from:to:cc:subject:date:message-id:reply-to; bh=EnS77+/RRld+wLh6EpwqQsHR+NFemT38c4V2NA3zgXM=; b=Mwi9L+483RkiocSm7w4CyaVvwnL0CSmH7zjbyq+I4gjqO0MdBgfh/scXLEqkFkxvFO fZmfTIXQ1LQBn6gggJVMBPaB7lCsJRCP8CcCqQgNGFeCp1u7kgk4pHt7ZGwcy3d54hpZ bdMAN7ImczvGyEobBals3VPnDfKWVTXiX7w+bAfQ6Q1Jiv1n6YvjIiNvzjYzRYfk7U7u 6sUVP2X94IZkwKLcJICUdAa2PCR1qV2ePw1WsL093W+7ZJ4/pPGuQe41lh4mGzWKTtZn lmfGBHbKHGzxr9Q1QKUiEbEMl/yZdAxzUfoIBTpCShEg5zCo6ZDPW11ph+nmBC1XbR0H oBgA== X-Gm-Message-State: AOJu0YwQl3wXIH5oX7hQFhPf0IKwwYQHptsBluYCupkveRImzhwWLMVg yaW/flSkrnXSKI4vX0tlVYLSdXgz/bWsb6jsbai54HZPbLN9kLnaVZaEjKOrIVfzDYHCkZRPpal 6qfR4hHKgzMZqw+TiNcNKmldZBZmmRRTJg3DrHAQb9YNu X-Gm-Gg: ASbGncttJMFZEuqE3mlZnjHn4fBN5jSOaFSFCveEtOwHW1fJNr6MHj1NxFSy8yh6PA/ XWSXnLaeY52c5Dt4tcbANCEKXmbhPrmhgVTbBntg8+IfFpxAdnaiNnYGYX+4oQRy0xdjnL+N3np zeBPGRuivse8gmsjYHyScKxuka6maupvRRjqcQ2KHaDYUWNuhsIbaFIafMgGZFRI9dQnYe9yAb4 BB0rrSlSuVHfQ3SvGL8uSgrgtDQLmKkq46S9NQNwLieZBXlLJrECX4lHCYFw24wW5TlM6pi/W4a XVa/YL92C1FPOrpLM+CLmX/dh1j/OrigaYGG0NgpqESc6QLbrK0w75qV1tH1RwZIPbC2Y1c4f0i 5yg== X-Google-Smtp-Source: AGHT+IHAiohRIDNk1/iKQLbLUMbwLdxF460v9UEY++8gokOh/vkbzuS7l3mDKTzmfJZ9UjIfvCzSIac4J2JY X-Received: by 2002:a05:690c:16:b0:745:17a6:83c8 with SMTP id 00721157ae682-77f946f4924mr196750087b3.44.1759839895386; Tue, 07 Oct 2025 05:24:55 -0700 (PDT) Received: from postal.iol.unh.edu (postal.iol.unh.edu. [132.177.123.84]) by smtp-relay.gmail.com with ESMTPS id 00721157ae682-77f81d03f21sm8026937b3.26.2025.10.07.05.24.55 (version=TLS1_2 cipher=ECDHE-ECDSA-AES128-GCM-SHA256 bits=128/128); Tue, 07 Oct 2025 05:24:55 -0700 (PDT) X-Relaying-Domain: iol.unh.edu Date: Tue, 07 Oct 2025 05:24:55 -0700 (PDT) Message-ID: <68e50697.050a0220.10649f.a413SMTPIN_ADDED_MISSING@mx.google.com> Received: from [172.21.0.3] (unknown [172.18.0.240]) by postal.iol.unh.edu (Postfix) with ESMTP id 15A09604D420; Tue, 7 Oct 2025 08:24:55 -0400 (EDT) Subject: |SUCCESS| pw157309 [PATCH] [v1,1/1] net/ice: fix memory leak in raw From: dpdklab@iol.unh.edu To: Test Report Cc: dpdk-test-reports@iol.unh.edu, Bruce Richardson In-Reply-To: <65bfe82e74867020982e2729f84a7c00a5690c5b.1759837052.git.anatoly.burakov@intel.com> References: <65bfe82e74867020982e2729f84a7c00a5690c5b.1759837052.git.anatoly.burakov@intel.com> Content-Type: text/plain X-BeenThere: test-report@dpdk.org X-Mailman-Version: 2.1.29 Precedence: list List-Id: automatic DPDK test reports List-Unsubscribe: , List-Archive: List-Post: List-Help: List-Subscribe: , Errors-To: test-report-bounces@dpdk.org Test-Label: iol-compile-amd64-testing Test-Status: SUCCESS http://dpdk.org/patch/157309 _Testing PASS_ Submitter: Anatoly Burakov Date: Tuesday, October 07 2025 11:37:40 DPDK git baseline: Repo:dpdk-next-net-intel Branch: master CommitID:e7d8cc7ef4df3552575525697079d3c957cfcdaf 157309 --> testing pass Upstream job id: Windows-Compile-DPDK-Native#31463 Test environment and result as below: +---------------------+--------------------+-------------------+-------------------------+ | Environment | dpdk_meson_compile | dpdk_msvc_compile | dpdk_llvm_clang_compile | +=====================+====================+===================+=========================+ | Ubuntu 20.04 | PASS | SKIPPED | SKIPPED | +---------------------+--------------------+-------------------+-------------------------+ | FreeBSD 14.2 | PASS | SKIPPED | SKIPPED | +---------------------+--------------------+-------------------+-------------------------+ | Windows Server 2022 | SKIPPED | PASS | PASS | +---------------------+--------------------+-------------------+-------------------------+ Ubuntu 20.04 Kernel: 4.19 Compiler: gcc gcc (Ubuntu 9.4.0-1ubuntu1~20.04.2) 9.4.0 FreeBSD 14.2 Kernel: 14.2-RELEASE Compiler: clang 18.1.6 Windows Server 2022 Kernel: 10.0.20348.2031 Compiler: clang 15.0.7, gcc 14.1.0 (MinGW), and MSVC VS 19.39.33521 To view detailed results, visit: https://lab.dpdk.org/results/dashboard/patchsets/34227/ UNH-IOL DPDK Community Lab To manage your email subscriptions, visit: https://lab.dpdk.org/results/dashboard/preferences/subscriptions/