From mboxrd@z Thu Jan 1 00:00:00 1970 Return-Path: Received: from mails.dpdk.org (mails.dpdk.org [217.70.189.124]) by inbox.dpdk.org (Postfix) with ESMTP id 4DCE0488D5 for ; Tue, 7 Oct 2025 14:28:47 +0200 (CEST) Received: from mails.dpdk.org (localhost [127.0.0.1]) by mails.dpdk.org (Postfix) with ESMTP id 460784013F; Tue, 7 Oct 2025 14:28:47 +0200 (CEST) Received: from mail-qk1-f226.google.com (mail-qk1-f226.google.com [209.85.222.226]) by mails.dpdk.org (Postfix) with ESMTP id 347BD4013F for ; Tue, 7 Oct 2025 14:28:46 +0200 (CEST) Received: by mail-qk1-f226.google.com with SMTP id af79cd13be357-862cbf9e0c0so570080785a.0 for ; Tue, 07 Oct 2025 05:28:46 -0700 (PDT) DKIM-Signature: v=1; a=rsa-sha256; c=relaxed/relaxed; d=iol.unh.edu; s=unh-iol; t=1759840125; x=1760444925; darn=dpdk.org; h=cc:to:from:subject:message-id:date:from:to:cc:subject:date :message-id:reply-to; bh=WV80pL4pBfOOEPUEp5s9FDrFHtGi2if/OYVk5d92WT0=; b=WUp0hN3bFe8bX+khc+1FlPXNYoLo4q1dHJtdegf6bwLdmX6RLZpAcRVNK1MlwD80QK n5x9NGVUlxJyg+uLA6oLp75dSYejLtmxySwiqV9q3eliu/HYB3nHrAIVgCA/l/jvtk7E kN23TjBA5cdTsXqEKUywbfQzgSrCTKs4DIDoA= X-Google-DKIM-Signature: v=1; a=rsa-sha256; c=relaxed/relaxed; d=1e100.net; s=20230601; t=1759840125; x=1760444925; h=cc:to:from:subject:message-id:date:x-gm-message-state:from:to:cc :subject:date:message-id:reply-to; bh=WV80pL4pBfOOEPUEp5s9FDrFHtGi2if/OYVk5d92WT0=; b=vn3BWvT9LbhZzLJKVVGOu1yynDQnyQtNdcLyPJWmiAv9SJDz8CpAh677IVsfWvMQI5 TgRNHTo9BsZqhU888fW05s5gKILlRcBfBW+4Ua2CNFv+RXvA59JkG2RrEOsX9gyT/Sme YGea2ZUkvtnidZ9kKQUXPiagJtZfT6qQOA77I5f0gwk9d1PeMw00Fk0/rHoyIY/Z6TQG CyIOsUo3nBYK6n9wtuJ9Kvi/fnf7R0cQyUNK/AqpThT5xH9V7shdNuPLxm/2vUHEhlem kKBfXPodRKekI+jtwx7OrexUdIRuinwz4Ib5Ta4SgmyGGGbIhF3OdH3w9r/DeYf6FyrH hGJQ== X-Gm-Message-State: AOJu0Yyat70WIJ6/eV+puetvCGQDOVmytYVWcOIuwj1ArouIjYnFMGlL /Uxw0d4+NjWf/KolG5ik51UNdVT9Uqc41WwT0/xG/kA/NwJlQI6iMzh9SNZSu0UzZeRJm15HXab 06Gk9vTRUGB7o9+eyZOZziMPTNjYAS3guhrwSCa4jvtY2TxFrOM0J X-Gm-Gg: ASbGncttf40zOnQOHTbsiIavY+plm/3S1k7dCIKuKx53os1C/rxuKLDvqVzIUktbuEV 9qcOZERdF7gHT5znOTy8cqt6PeV35RTI2jepYaoHIQc9ArwvgmfieaFeGySnsoOyune+pX6fyE6 emy6TNDnhAuYkm3td8Ias5AprKRxGphjJvZYmX/T4iqTTWaRBxmCAtuH4CZWxrpXsUt8YPB0a2H 3Wv5HSbZi/vPKA1rQihjaTcD5ZFmFyQNHTOImoBRi/0Rd7syK0ejdA2uwbSs0rvaMETUpSrBGrJ B1miTJvxks9cu6bN4lk6m0+4A6I5CTROpvxzm5FnJ2e3SmupJ296XfA= X-Google-Smtp-Source: AGHT+IGPNn2UYxDC3XvYxNRp3wRDejGRYMGi4yh69KfEE8Fl29fSjnJONjoDRhma3SyFUITR3GuyzYlIkmb1 X-Received: by 2002:a05:620a:2985:b0:84d:b0e0:4183 with SMTP id af79cd13be357-87a375e1c76mr2019045785a.23.1759840125541; Tue, 07 Oct 2025 05:28:45 -0700 (PDT) Received: from postal.iol.unh.edu (postal.iol.unh.edu. [2606:4100:3880:1234::84]) by smtp-relay.gmail.com with ESMTPS id af79cd13be357-87774db04aasm110378285a.3.2025.10.07.05.28.45 (version=TLS1_2 cipher=ECDHE-ECDSA-AES128-GCM-SHA256 bits=128/128); Tue, 07 Oct 2025 05:28:45 -0700 (PDT) X-Relaying-Domain: iol.unh.edu Date: Tue, 07 Oct 2025 05:28:45 -0700 (PDT) Message-ID: <68e5077d.050a0220.1075a7.cf91SMTPIN_ADDED_MISSING@mx.google.com> Received: from [172.21.0.2] (unknown [172.18.0.240]) by postal.iol.unh.edu (Postfix) with ESMTP id 3C566604D420; Tue, 7 Oct 2025 08:28:45 -0400 (EDT) Subject: |SUCCESS| [GIT MASTER] 3b43ce3f4a54468e7ef65760c2fd7b4d6ee6d9fc From: dpdklab@iol.unh.edu To: Test Report Cc: dpdk-test-reports@iol.unh.edu, Xueming Li , Christian Ehrhardt , Kevin Traynor , Luca Boccassi Content-Type: text/plain X-BeenThere: test-report@dpdk.org X-Mailman-Version: 2.1.29 Precedence: list List-Id: automatic DPDK test reports List-Unsubscribe: , List-Archive: List-Post: List-Help: List-Subscribe: , Errors-To: test-report-bounces@dpdk.org _Testing PASS_ Branch: tags/v22.11 3b43ce3f4a54468e7ef65760c2fd7b4d6ee6d9fc --> testing pass Upstream job id: Generic-Unit-Test-DPDK#379026 Test environment and result as below: +-----------------+---------------------------+------------------------------+--------------+----------------+ | Environment | cryptodev_sw_zuc_autotest | cryptodev_sw_snow3g_autotest | lpm_autotest | dpdk_unit_test | +=================+===========================+==============================+==============+================+ | Debian 12 (arm) | PASS | PASS | SKIPPED | SKIPPED | +-----------------+---------------------------+------------------------------+--------------+----------------+ | Ubuntu 20.04 | SKIPPED | SKIPPED | PASS | SKIPPED | +-----------------+---------------------------+------------------------------+--------------+----------------+ | Ubuntu 22.04 | SKIPPED | SKIPPED | SKIPPED | PASS | +-----------------+---------------------------+------------------------------+--------------+----------------+ Debian 12 (arm) Kernel: Depends on container host Compiler: gcc (Debian 12.2.0-14) 12.2.0 Ubuntu 20.04 Kernel: 5.4 Compiler: gcc gcc (Ubuntu 9.4.0-1ubuntu1~20.04.2) 9.4.0 Ubuntu 22.04 Kernel: 5.15 Compiler: gcc gcc (Ubuntu 11.4.0-1ubuntu1~22.04.2) 11.4.0 To view detailed results, visit: https://lab.dpdk.org/results/dashboard/tarballs/35124/ UNH-IOL DPDK Community Lab To manage your email subscriptions, visit: https://lab.dpdk.org/results/dashboard/preferences/subscriptions/