From mboxrd@z Thu Jan 1 00:00:00 1970 Return-Path: Received: from mails.dpdk.org (mails.dpdk.org [217.70.189.124]) by inbox.dpdk.org (Postfix) with ESMTP id B4431488D5 for ; Tue, 7 Oct 2025 14:33:05 +0200 (CEST) Received: from mails.dpdk.org (localhost [127.0.0.1]) by mails.dpdk.org (Postfix) with ESMTP id AF2584013F; Tue, 7 Oct 2025 14:33:05 +0200 (CEST) Received: from mail-vs1-f98.google.com (mail-vs1-f98.google.com [209.85.217.98]) by mails.dpdk.org (Postfix) with ESMTP id 6FB4E4013F for ; Tue, 7 Oct 2025 14:33:04 +0200 (CEST) Received: by mail-vs1-f98.google.com with SMTP id ada2fe7eead31-528d157a48cso4321592137.0 for ; Tue, 07 Oct 2025 05:33:04 -0700 (PDT) DKIM-Signature: v=1; a=rsa-sha256; c=relaxed/relaxed; d=iol.unh.edu; s=unh-iol; t=1759840384; x=1760445184; darn=dpdk.org; h=references:in-reply-to:cc:to:from:subject:message-id:date:from:to :cc:subject:date:message-id:reply-to; bh=hXHdJEz/3vFwMXs+ibG/+qMXLR2O/8ZbTMnhWUcC0LU=; b=OG1gns6TcfrfDiDM3nMdnCKxK57BbbRckv5N5vhRRkMEbB3+nb6mqmN2jvlPwCOGYi y6lEPts1TnDOzzss2v2gp432VzmZs16x/v1SzKzxB71JrYk+ofg1sh1dIsJ7SbvCyrBu qaX8sdllw+IyUmnOq9StmMzXjYHwQrklzNNcg= X-Google-DKIM-Signature: v=1; a=rsa-sha256; c=relaxed/relaxed; d=1e100.net; s=20230601; t=1759840384; x=1760445184; h=references:in-reply-to:cc:to:from:subject:message-id:date :x-gm-message-state:from:to:cc:subject:date:message-id:reply-to; bh=hXHdJEz/3vFwMXs+ibG/+qMXLR2O/8ZbTMnhWUcC0LU=; b=UCO8mkw2LhWtgmZ+m8XRK1q86Y8eqFd3R9sr7zD4H/XJTWJoOskpvSIljWVBFzsHrx 7ewhu3FM6VQYFEPjTILABK753gcWOysOZf+GGCPTaYLD+QVXMat8Wip083CMtmNjRNoQ gHv2w6tznbdganOpnE4SkrognpC8NZQHTD+pTLj6a6D7nEjkIHgcjxDb29AWUxndDiWv pQnm7gf7RVrfNXBfPDM0Uipd83dWaTLGdCo75KITXlbk8n51CbcB5iXzXj9Tdp4gBdPM PSRGlDwgNCF0bCMSp7ScuhEwSjsrrkCihbEywLK8UAeLh7J1uvFxeE5XUpB3em4rhSzk knJw== X-Gm-Message-State: AOJu0Yy67mt3ZVMMuJQ3kfTBZaZavoBU0RKc2MlRk6uvQpeTEH7l/P9C 1y+a1jR/dVJPUyB0Vn0P1uwdKOLlDZQILb5/dTIPp4OSGw+qHOowW0TvoLsDOL1KkCdSiVI+JhR grDXGr/YbQpWWPVVJjOgtLcAS7L9reGrcvgYjYhPRrhSK9NTi0MM/1YIb+pqC X-Gm-Gg: ASbGncuy1jmW8eZF89Eg2oyVzztm45Ru5GEo8AOazFOUc2WZ3xn0bVh2cDkM5ego+qm OR8xvSHDgIS2dcRvI1W1xoeLU+tLW5TmSR8dWLBjDVQ8nbV0Cp+ZTRVRTUJiF8PkwopsEOLCUDt Jt/qEPYYBRCjJLUqFSOMdwi8t2MPNU2AZliPRKcYP20icuJbdvXg4s0nO/zMiH6JYEBUQovIGLy xbrA2Y8QK3Lrtu8rjK8+xXaSVx6wuqhGEx9g2BmJzyIiLhNrh/NmCBZTV5/S9RLJaMRKMLaNBnE pFQHDilB3f0MatWN51WsBwjmH0ge0YTaf9bPfEmcvq2bZ/g5i5K2miE= X-Google-Smtp-Source: AGHT+IHcMKwa7ZYbBFUmx586wiHs0Kz4Ar4oPKt85Zqa3Ju+zJX0e1WmcHaTiLOZnkk4uSWMx78prb+7Y51L X-Received: by 2002:a05:6102:f9a:b0:4e7:866c:5cd9 with SMTP id ada2fe7eead31-5d5d4d0a6b3mr1502386137.11.1759840383818; Tue, 07 Oct 2025 05:33:03 -0700 (PDT) Received: from postal.iol.unh.edu (postal.iol.unh.edu. [2606:4100:3880:1234::84]) by smtp-relay.gmail.com with ESMTPS id a1e0cc1a2514c-92eb4ea52b0sm162949241.7.2025.10.07.05.33.03 (version=TLS1_2 cipher=ECDHE-ECDSA-AES128-GCM-SHA256 bits=128/128); Tue, 07 Oct 2025 05:33:03 -0700 (PDT) X-Relaying-Domain: iol.unh.edu Date: Tue, 07 Oct 2025 05:33:03 -0700 (PDT) Message-ID: <68e5087f.050a0220.24d5c1.88c7SMTPIN_ADDED_MISSING@mx.google.com> Received: from [172.21.0.2] (unknown [172.18.0.240]) by postal.iol.unh.edu (Postfix) with ESMTP id 5B45F604D420; Tue, 7 Oct 2025 08:33:03 -0400 (EDT) Subject: |SUCCESS| pw157309 [PATCH] [v1,1/1] net/ice: fix memory leak in raw From: dpdklab@iol.unh.edu To: Test Report Cc: dpdk-test-reports@iol.unh.edu, Bruce Richardson In-Reply-To: <65bfe82e74867020982e2729f84a7c00a5690c5b.1759837052.git.anatoly.burakov@intel.com> References: <65bfe82e74867020982e2729f84a7c00a5690c5b.1759837052.git.anatoly.burakov@intel.com> Content-Type: text/plain X-BeenThere: test-report@dpdk.org X-Mailman-Version: 2.1.29 Precedence: list List-Id: automatic DPDK test reports List-Unsubscribe: , List-Archive: List-Post: List-Help: List-Subscribe: , Errors-To: test-report-bounces@dpdk.org Test-Label: iol-compile-amd64-testing Test-Status: SUCCESS http://dpdk.org/patch/157309 _Testing PASS_ Submitter: Anatoly Burakov Date: Tuesday, October 07 2025 11:37:40 DPDK git baseline: Repo:dpdk-next-net-intel Branch: master CommitID:e7d8cc7ef4df3552575525697079d3c957cfcdaf 157309 --> testing pass Upstream job id: Windows-Compile-DPDK-Native#31464 Test environment and result as below: +---------------------+--------------------+-------------------+-------------------------+----------------------+ | Environment | dpdk_meson_compile | dpdk_msvc_compile | dpdk_llvm_clang_compile | dpdk_mingw64_compile | +=====================+====================+===================+=========================+======================+ | Ubuntu 20.04 | PASS | SKIPPED | SKIPPED | SKIPPED | +---------------------+--------------------+-------------------+-------------------------+----------------------+ | FreeBSD 14.2 | PASS | SKIPPED | SKIPPED | SKIPPED | +---------------------+--------------------+-------------------+-------------------------+----------------------+ | Windows Server 2022 | SKIPPED | PASS | PASS | PASS | +---------------------+--------------------+-------------------+-------------------------+----------------------+ Ubuntu 20.04 Kernel: 4.19 Compiler: gcc gcc (Ubuntu 9.4.0-1ubuntu1~20.04.2) 9.4.0 FreeBSD 14.2 Kernel: 14.2-RELEASE Compiler: clang 18.1.6 Windows Server 2022 Kernel: 10.0.20348.2031 Compiler: clang 15.0.7, gcc 14.1.0 (MinGW), and MSVC VS 19.39.33521 To view detailed results, visit: https://lab.dpdk.org/results/dashboard/patchsets/34227/ UNH-IOL DPDK Community Lab To manage your email subscriptions, visit: https://lab.dpdk.org/results/dashboard/preferences/subscriptions/