From mboxrd@z Thu Jan 1 00:00:00 1970 Return-Path: Received: from mails.dpdk.org (mails.dpdk.org [217.70.189.124]) by inbox.dpdk.org (Postfix) with ESMTP id 4AFE1488D5 for ; Tue, 7 Oct 2025 14:39:04 +0200 (CEST) Received: from mails.dpdk.org (localhost [127.0.0.1]) by mails.dpdk.org (Postfix) with ESMTP id 423284013F; Tue, 7 Oct 2025 14:39:04 +0200 (CEST) Received: from mail-pj1-f97.google.com (mail-pj1-f97.google.com [209.85.216.97]) by mails.dpdk.org (Postfix) with ESMTP id B24834013F for ; Tue, 7 Oct 2025 14:39:02 +0200 (CEST) Received: by mail-pj1-f97.google.com with SMTP id 98e67ed59e1d1-3352018e051so7306189a91.0 for ; Tue, 07 Oct 2025 05:39:02 -0700 (PDT) DKIM-Signature: v=1; a=rsa-sha256; c=relaxed/relaxed; d=iol.unh.edu; s=unh-iol; t=1759840742; x=1760445542; darn=dpdk.org; h=references:in-reply-to:cc:to:from:subject:message-id:date:from:to :cc:subject:date:message-id:reply-to; bh=EJ6GnCjZP0DDTUmLDCogKhAI9SwtpJ5+3bNrdXFi05k=; b=BrUnMM7tOzzgvCEyejT57pRzcWrYgD/kcGhJO8HuDqZ+/a+T+R18Dr/TO8wjr5QThh cr2KEh3pn+ZOBsxzZU0La2MF/UlVFHTC4x2cEBniX0aUlVtAEnd1hDj1mOkkJju04SY2 5cQ4oIUoQ+03q8Yhiz34j3Wppb+yDgwTHMJoM= X-Google-DKIM-Signature: v=1; a=rsa-sha256; c=relaxed/relaxed; d=1e100.net; s=20230601; t=1759840742; x=1760445542; h=references:in-reply-to:cc:to:from:subject:message-id:date :x-gm-message-state:from:to:cc:subject:date:message-id:reply-to; bh=EJ6GnCjZP0DDTUmLDCogKhAI9SwtpJ5+3bNrdXFi05k=; b=YKL1M1oMMHoEtYXskt4eXJExFTtrrYiw2jKBPTPVAqBTd4zHRT3g2ICB0lBL2nIsau kmJ60eoOSyi1c1z4d7zPRGZEJtiZ/Kmm+P1TnsO22qgSZuGhaZyvXSrZECcBxm0vZq4C rDaz8MLD+BbjSz/oQ0h+69taU3Pl9gjcT94HmUElYy8qPbQACpM10GJW99EK+QkMaA4J N/N9TA5p4Gj/eN3UeXHzwr2mpwv93L9w1d312QQaAk4XSsQxkM9ZNxmRB+myrNyvISNU E+ic/vTjCvAiKnZfPqNUBJef7rP5NTNytLFlykOfoM4aEkAhmuarurjAaI659fkpIzrI WLnw== X-Gm-Message-State: AOJu0YxiDdPszfHaVBRI3C+TxXUE1ANw3b74enGxnUggGyOVuh96kwGs /LGCnmX5CykLsLSXCB64avgn87+dSK2TP/6tI+wVys+DqT4PjJTzRSWGOJe//vZrquNsX3bPXqA uZIJPdXwA7SWa6rUWn2yFcDpzBF8Us+FYlVD47m5spFag8k2dP7Tm9odynxgA X-Gm-Gg: ASbGncuYPp+adKODWrh9CKv8jh9o1JAcHR1LRqVP5tB4cj/LmZ57kCsrDh/1VNxuXWP 1ELDkDfB+LHXm9ewSPUD6ZnCCViPws4AkdCsQQ+Qog9/i3AM223UPEvVpcUwHZlPNh4ga0Vnyd+ rThvADVj8awcZPP5ogOXVBEyrlCdrO3LlhoXzd1lYRfkc3FikjRqY2m+8Rlk1ONo8ke1sgg6d5h 7R7Er4G5HbcVn8gGmoGbn0+oJ/3o/qlKVAQMqgA4gSL6lhvmWg9Xg5lt5Yx2hM6H3RF/Jw/lQzE EGVKovJ43oQ5972bcqRxfdIsTCmT2iua9ClGfOpmkpOYHlOaxQaK1RA= X-Google-Smtp-Source: AGHT+IExoRm1geYsWjDKVBKfeGDprRnuKAgKDp0dUZwLkU3mxZqhlxeRFkS9RIz7imhrbMqG1nARRbzaBtbl X-Received: by 2002:a17:903:2447:b0:281:613:8449 with SMTP id d9443c01a7336-28e9a65e1d5mr207735845ad.47.1759840741780; Tue, 07 Oct 2025 05:39:01 -0700 (PDT) Received: from postal.iol.unh.edu (postal.iol.unh.edu. [2606:4100:3880:1234::84]) by smtp-relay.gmail.com with ESMTPS id d9443c01a7336-28e8d180b9fsm11959505ad.37.2025.10.07.05.39.01 (version=TLS1_2 cipher=ECDHE-ECDSA-AES128-GCM-SHA256 bits=128/128); Tue, 07 Oct 2025 05:39:01 -0700 (PDT) X-Relaying-Domain: iol.unh.edu Date: Tue, 07 Oct 2025 05:39:01 -0700 (PDT) Message-ID: <68e509e5.170a0220.1e6b3c.17c7SMTPIN_ADDED_MISSING@mx.google.com> Received: from [172.21.0.3] (unknown [172.18.0.240]) by postal.iol.unh.edu (Postfix) with ESMTP id 167A5604D420; Tue, 7 Oct 2025 08:39:01 -0400 (EDT) Subject: |SUCCESS| pw157309 [PATCH] [v1,1/1] net/ice: fix memory leak in raw From: dpdklab@iol.unh.edu To: Test Report Cc: dpdk-test-reports@iol.unh.edu, Bruce Richardson In-Reply-To: <65bfe82e74867020982e2729f84a7c00a5690c5b.1759837052.git.anatoly.burakov@intel.com> References: <65bfe82e74867020982e2729f84a7c00a5690c5b.1759837052.git.anatoly.burakov@intel.com> Content-Type: text/plain X-BeenThere: test-report@dpdk.org X-Mailman-Version: 2.1.29 Precedence: list List-Id: automatic DPDK test reports List-Unsubscribe: , List-Archive: List-Post: List-Help: List-Subscribe: , Errors-To: test-report-bounces@dpdk.org Test-Label: iol-unit-amd64-testing Test-Status: SUCCESS http://dpdk.org/patch/157309 _Testing PASS_ Submitter: Anatoly Burakov Date: Tuesday, October 07 2025 11:37:40 DPDK git baseline: Repo:dpdk-next-net-intel Branch: master CommitID:e7d8cc7ef4df3552575525697079d3c957cfcdaf 157309 --> testing pass Upstream job id: Generic-VM-Unit-Test-DPDK#31633 Test environment and result as below: +-------------------------------+----------------+ | Environment | dpdk_unit_test | +===============================+================+ | Debian GNU/Linux 12 | PASS | +-------------------------------+----------------+ | CentOS Stream 9 | PASS | +-------------------------------+----------------+ | Fedora Linux 40 | PASS | +-------------------------------+----------------+ | CentOS Stream 10 | PASS | +-------------------------------+----------------+ | Fedora Linux 42 | PASS | +-------------------------------+----------------+ | Fedora Linux 41 | PASS | +-------------------------------+----------------+ | Red Hat Enterprise Linux 9.5 | PASS | +-------------------------------+----------------+ | Red Hat Enterprise Linux 8.10 | PASS | +-------------------------------+----------------+ | Ubuntu 20.04 | PASS | +-------------------------------+----------------+ | Ubuntu 22.04 | PASS | +-------------------------------+----------------+ | Ubuntu 24.04 | PASS | +-------------------------------+----------------+ | Windows Server 2022 | PASS | +-------------------------------+----------------+ Debian GNU/Linux 12 Kernel: 5.15 Compiler: gcc gcc (Debian 12.2.0-14+deb12u1) 12.2.0 CentOS Stream 9 Kernel: 5.15 Compiler: gcc gcc (GCC) 11.5.0 20240719 (Red Hat 11.5.0-11) Fedora Linux 40 Kernel: 5.15 Compiler: gcc gcc (GCC) 14.2.1 20240912 (Red Hat 14.2.1-3) CentOS Stream 10 Kernel: 5.15 Compiler: gcc gcc (GCC) 14.2.1 20250110 (Red Hat 14.2.1-8) Fedora Linux 42 Kernel: 5.15 Compiler: gcc gcc (GCC) 15.2.1 20250808 (Red Hat 15.2.1-1) Fedora Linux 41 Kernel: 5.15 Compiler: gcc gcc (GCC) 14.3.1 20250523 (Red Hat 14.3.1-1) Red Hat Enterprise Linux 9.5 Kernel: 5.15 Compiler: gcc gcc (GCC) 11.5.0 20240719 (Red Hat 11.5.0-2) Red Hat Enterprise Linux 8.10 Kernel: 5.15 Compiler: gcc gcc (GCC) 8.5.0 20210514 (Red Hat 8.5.0-22) Ubuntu 20.04 Kernel: 5.15 Compiler: gcc gcc (Ubuntu 9.4.0-1ubuntu1~20.04.2) 9.4.0 Ubuntu 22.04 Kernel: 5.15 Compiler: gcc gcc (Ubuntu 11.4.0-1ubuntu1~22.04) 11.4.0 Ubuntu 24.04 Kernel: 5.15 Compiler: gcc gcc (Ubuntu 13.3.0-6ubuntu2~24.04) 13.3.0 Windows Server 2022 Kernel: 10.0.20348.2031 Compiler: clang 15.0.7, gcc 14.1.0 (MinGW), and MSVC VS 19.39.33521 To view detailed results, visit: https://lab.dpdk.org/results/dashboard/patchsets/34227/ UNH-IOL DPDK Community Lab To manage your email subscriptions, visit: https://lab.dpdk.org/results/dashboard/preferences/subscriptions/