From mboxrd@z Thu Jan 1 00:00:00 1970 Return-Path: Received: from mails.dpdk.org (mails.dpdk.org [217.70.189.124]) by inbox.dpdk.org (Postfix) with ESMTP id 1047B488D5 for ; Tue, 7 Oct 2025 14:42:42 +0200 (CEST) Received: from mails.dpdk.org (localhost [127.0.0.1]) by mails.dpdk.org (Postfix) with ESMTP id 0B2F3402DD; Tue, 7 Oct 2025 14:42:42 +0200 (CEST) Received: from mail-pg1-f228.google.com (mail-pg1-f228.google.com [209.85.215.228]) by mails.dpdk.org (Postfix) with ESMTP id B8AA3402DD for ; Tue, 7 Oct 2025 14:42:40 +0200 (CEST) Received: by mail-pg1-f228.google.com with SMTP id 41be03b00d2f7-b55517e74e3so7203968a12.2 for ; Tue, 07 Oct 2025 05:42:40 -0700 (PDT) DKIM-Signature: v=1; a=rsa-sha256; c=relaxed/relaxed; d=iol.unh.edu; s=unh-iol; t=1759840960; x=1760445760; darn=dpdk.org; h=cc:to:from:subject:message-id:date:from:to:cc:subject:date :message-id:reply-to; bh=7Alew+J4UG7pIaSIjvcmYhENhK/OvxsaVy55QM1nYBE=; b=is7IeJXOTtGvea0Erc1+Ht/xWPYI2Dzi4h34lXiiEH7M+a7Y3qVK8XsBvfteWz5Y8P 7sv8yvW9v8E20AJV2aQ/9fn3GB3/WswarQcy2PuzqfOuLRlBLxOr9oqsybpM7dCUoLaM db7ih8qDXJmGGhme4XxO/cqv4dcxHzQqrUjwo= X-Google-DKIM-Signature: v=1; a=rsa-sha256; c=relaxed/relaxed; d=1e100.net; s=20230601; t=1759840960; x=1760445760; h=cc:to:from:subject:message-id:date:x-gm-message-state:from:to:cc :subject:date:message-id:reply-to; bh=7Alew+J4UG7pIaSIjvcmYhENhK/OvxsaVy55QM1nYBE=; b=nqEGJd77z9TVfx0YxI40byVgGcXQh7/kgux5glIZsoxiaPRWXJMWM7M87nNoJwsFRc YpoUsRvIUijXQFvv0zAf0Pq9BI2dxS8b9CkMp3DUEbfui72/zqMFqrq0KIo6NWLEIA/4 buvqVJEruhds3pIOdEosisw/nPwJcvNylp3oXlFSBxsSwY26WCKD3N1zz4bH2Ia7QIdM zw8enfnzESlEQFTdBjZXPbXcqG1bc/3b7JOoMPvwmXiJNsCQzq7wECZt+RrdahvScFow cno22ZTpIOuuSquCHMRe9eMnI27LNgOJ88wBLDX6ZnOnzPwJRgT0aU6U3CFZTpYzJXXj fNPg== X-Gm-Message-State: AOJu0YyauWGkao7/Yw2TYyv9VujHx8WzQbnWVdIJi0SB9X8hwiXwk0sF GCve2tVOw7XXmu8NZXaWqahey37AGINR3LkqDDwfEAHoVBVfu5zYMNu1mlaIB6VzWgCW+plWzLy t3VNxPnFHLWC+fQx2RszkcFEq079zyxDQBwurqjd7NFnUnVpSBhgJ X-Gm-Gg: ASbGnctbs1HMSNzNSsx0vpjhXF0Ilcz66mdPW9aoiMFqTZZMBplFH4aeWefEd5AN6Hr w6w5r3dfFm1Rm1V5IbtJvEUgA9rKb7dQMtn7YWFEZFBi8h5sQ9guyRFpzXtMA/E/NcWazGXjz/R KZZRxdsCRlKO3QhQujhjP/ZhcILBnxapj1Ns08/jeEY7u/2cWs9opPTnuWrSMojJIxwC8ZEe41d FdIno8NzXincYdOYfi9MVXbRSA5mWQgNycQYPToA53Vl2p14loCB1yDzRzMs0gEz+ggjcG51FAw An1UheIMxzKW1Jnz30t6JkfNIVnVig/4YWP0/QYXG/S7aPKnXHaVkk8= X-Google-Smtp-Source: AGHT+IGC44fo9WHKiNdafux/Rd/ibcTv75QGmuKxmGgoyZfPftibGLCX43PHug/iUOVAnX9wW5KdZYf6iKhG X-Received: by 2002:a17:902:d4c4:b0:28e:cc41:b0e1 with SMTP id d9443c01a7336-28ecc41b604mr40320525ad.36.1759840959793; Tue, 07 Oct 2025 05:42:39 -0700 (PDT) Received: from postal.iol.unh.edu (postal.iol.unh.edu. [2606:4100:3880:1234::84]) by smtp-relay.gmail.com with ESMTPS id d9443c01a7336-28e8d108405sm12796555ad.5.2025.10.07.05.42.39 (version=TLS1_2 cipher=ECDHE-ECDSA-AES128-GCM-SHA256 bits=128/128); Tue, 07 Oct 2025 05:42:39 -0700 (PDT) X-Relaying-Domain: iol.unh.edu Date: Tue, 07 Oct 2025 05:42:39 -0700 (PDT) Message-ID: <68e50abf.170a0220.389ad4.5fcbSMTPIN_ADDED_MISSING@mx.google.com> Received: from [172.21.0.5] (unknown [172.18.0.240]) by postal.iol.unh.edu (Postfix) with ESMTP id 19FCF604D420; Tue, 7 Oct 2025 08:42:39 -0400 (EDT) Subject: |SUCCESS| [GIT MASTER] 3b43ce3f4a54468e7ef65760c2fd7b4d6ee6d9fc From: dpdklab@iol.unh.edu To: Test Report Cc: dpdk-test-reports@iol.unh.edu, Xueming Li , Christian Ehrhardt , Kevin Traynor , Luca Boccassi Content-Type: text/plain X-BeenThere: test-report@dpdk.org X-Mailman-Version: 2.1.29 Precedence: list List-Id: automatic DPDK test reports List-Unsubscribe: , List-Archive: List-Post: List-Help: List-Subscribe: , Errors-To: test-report-bounces@dpdk.org _Testing PASS_ Branch: tags/v22.11 3b43ce3f4a54468e7ef65760c2fd7b4d6ee6d9fc --> testing pass Upstream job id: Generic-DPDK-Compile-Meson#431590 Test environment and result as below: +------------------------------+--------------------+ | Environment | dpdk_meson_compile | +==============================+====================+ | Red Hat Enterprise Linux 9.5 | PASS | +------------------------------+--------------------+ | Ubuntu 20.04 | PASS | +------------------------------+--------------------+ | Debian GNU/Linux 12 | PASS | +------------------------------+--------------------+ | Fedora Linux 42 | PASS | +------------------------------+--------------------+ | Ubuntu 22.04 | PASS | +------------------------------+--------------------+ | Ubuntu 24.04 | PASS | +------------------------------+--------------------+ | CentOS Stream 9 | PASS | +------------------------------+--------------------+ | CentOS Stream 10 | PASS | +------------------------------+--------------------+ Red Hat Enterprise Linux 9.5 Kernel: 5.4 Compiler: gcc gcc (GCC) 11.5.0 20240719 (Red Hat 11.5.0-2) Ubuntu 20.04 Kernel: 5.15 Compiler: aarch64-linux-gnu-gcc gcc (Ubuntu 9.4.0-1ubuntu1~20.04.2) 9.4.0 Debian GNU/Linux 12 Kernel: 5.4 Compiler: gcc gcc (Debian 12.2.0-14+deb12u1) 12.2.0 Fedora Linux 42 Kernel: 5.4 Compiler: gcc gcc (GCC) 15.2.1 20250808 (Red Hat 15.2.1-1) Ubuntu 22.04 Kernel: 5.4 Compiler: gcc gcc (Ubuntu 11.4.0-1ubuntu1~22.04) 11.4.0 Ubuntu 24.04 Kernel: 5.4 Compiler: gcc gcc (Ubuntu 13.3.0-6ubuntu2~24.04) 13.3.0 CentOS Stream 9 Kernel: 5.4 Compiler: gcc gcc (GCC) 11.5.0 20240719 (Red Hat 11.5.0-11) CentOS Stream 10 Kernel: 5.4 Compiler: gcc gcc (GCC) 14.2.1 20250110 (Red Hat 14.2.1-8) To view detailed results, visit: https://lab.dpdk.org/results/dashboard/tarballs/35105/ UNH-IOL DPDK Community Lab To manage your email subscriptions, visit: https://lab.dpdk.org/results/dashboard/preferences/subscriptions/