From mboxrd@z Thu Jan 1 00:00:00 1970 Return-Path: Received: from mails.dpdk.org (mails.dpdk.org [217.70.189.124]) by inbox.dpdk.org (Postfix) with ESMTP id 59266488D5 for ; Tue, 7 Oct 2025 15:13:43 +0200 (CEST) Received: from mails.dpdk.org (localhost [127.0.0.1]) by mails.dpdk.org (Postfix) with ESMTP id 37CD94013F; Tue, 7 Oct 2025 15:13:43 +0200 (CEST) Received: from mail-pf1-f228.google.com (mail-pf1-f228.google.com [209.85.210.228]) by mails.dpdk.org (Postfix) with ESMTP id 0FCF04013F for ; Tue, 7 Oct 2025 15:13:42 +0200 (CEST) Received: by mail-pf1-f228.google.com with SMTP id d2e1a72fcca58-78f3bfe3f69so2489654b3a.2 for ; Tue, 07 Oct 2025 06:13:41 -0700 (PDT) DKIM-Signature: v=1; a=rsa-sha256; c=relaxed/relaxed; d=iol.unh.edu; s=unh-iol; t=1759842821; x=1760447621; darn=dpdk.org; h=cc:to:from:subject:message-id:date:from:to:cc:subject:date :message-id:reply-to; bh=fkJ8180ACSXIwBGxii7J8Muanjn2nSVVNVTqb2833VQ=; b=aTZSsK2o1JzdoR4HvLtBkfO6G3QCX9r/SmW+2W+UfZ6FXDAygiAsDk5LN0pa4B+HG6 vERVKfF2klVeBBQLjy4qgucxr2SWZMPAX8uAg5paWOzBKosJrYEUol8yYGUZOcM4cfn9 ja3dKAz5V0pGcbVVFE03h4qygrSWCESMKwDAI= X-Google-DKIM-Signature: v=1; a=rsa-sha256; c=relaxed/relaxed; d=1e100.net; s=20230601; t=1759842821; x=1760447621; h=cc:to:from:subject:message-id:date:x-gm-message-state:from:to:cc :subject:date:message-id:reply-to; bh=fkJ8180ACSXIwBGxii7J8Muanjn2nSVVNVTqb2833VQ=; b=l5sfotfexC5Xnzm6pd5xGvtdWgwAlwhtkloJvskEvkMXEUHtV1CfBE01NDLxjZ1ntY KAJFu+QyG25xnOzB6aTt/CVK5Za0ZMwPNjB/2ZcG8HGYi73EiD6rAugnorPumYW54ChS ym/kNKD44JqmcDapvqoXzblVoMqEbk67x0JqRM+Q+uU3uzyQUV1OIRMiJTLJ2iym4k/8 /163gLL0BvTjVB0ZGOzmOYVAqtm6w3rpcRcWiCl3Jjy/2lkD+/HI7ZREqb2R5AAZHw/L HpTI/7cmve+fh/l6hKbEM/EL5jFoQt3ehxFYxpfGJPvjcasQhkhCLJUdT20aQSMKxuds iM6g== X-Gm-Message-State: AOJu0Yzal9XcjavepT9ewXNlwBQDbY/raX84j7CA0CkLDmKL0b+BWEKY 3HRVj4J9rzXP1QyN8ZgSQNzbQW8HQaf95HqRIi3jUd3sB4wzkjiiekmueruPPad4O8cc7B1ReH2 vyqXnp8v8x2rUUFiC0oXOR0cPi5k+Q4klASNq X-Gm-Gg: ASbGncvHTgNGyTdIbG6YnUvmrkW150AQT2mWdjwWXk8917+DIuzuyIVDhax5Gz4p3vl O/Y34tnv4MKlLf2T/JQQrmuD9GfPS7oHhFetJu2ykarxgsfiAkbGN8d0sZmpoWwS9ZLHDJ+J11j sb5b+MDK19dIUeijnS2Qa2U+5QMwWjOlWC6ZsbE7qJvsjemoEuDyQNusiEEBGNAXKq1NN7CuukP HgwupezRcBetWR3ZyE0VSGqqRCVlrHMPDZXpQ4+K1RQ2Ngy0+tqXcMHUolHa5J/byjokwPSJ/AS 1l9KaxFAFAIkj8qSVGE8ZNVfwYAh5wscizKWIaZff/LqAW7IKIbg0GNGFUrigX9GH1I3dQ4q9Du t7Q== X-Google-Smtp-Source: AGHT+IFuBUX0ssgYsc+B4LHmlaK39yXjDRf72W1pw87MDBeR9YCmhZDrsNN9L1OJxjxuxP+VYLsF0/P8Rg9V X-Received: by 2002:a17:902:e78b:b0:27e:ef35:2dbf with SMTP id d9443c01a7336-28e9a6177camr174617195ad.30.1759842820849; Tue, 07 Oct 2025 06:13:40 -0700 (PDT) Received: from postal.iol.unh.edu (postal.iol.unh.edu. [132.177.123.84]) by smtp-relay.gmail.com with ESMTPS id d9443c01a7336-28e8d10878csm11760175ad.12.2025.10.07.06.13.40 (version=TLS1_2 cipher=ECDHE-ECDSA-AES128-GCM-SHA256 bits=128/128); Tue, 07 Oct 2025 06:13:40 -0700 (PDT) X-Relaying-Domain: iol.unh.edu Date: Tue, 07 Oct 2025 06:13:40 -0700 (PDT) Message-ID: <68e51204.170a0220.282471.005bSMTPIN_ADDED_MISSING@mx.google.com> Received: from [172.21.0.3] (unknown [172.18.0.240]) by postal.iol.unh.edu (Postfix) with ESMTP id 14E2E604D420; Tue, 7 Oct 2025 09:13:40 -0400 (EDT) Subject: |SUCCESS| [GIT MASTER] b287e404643aeab5bb5db084c142789df187844e From: dpdklab@iol.unh.edu To: Test Report Cc: dpdk-test-reports@iol.unh.edu, Xueming Li , Christian Ehrhardt , Kevin Traynor , Luca Boccassi Content-Type: text/plain X-BeenThere: test-report@dpdk.org X-Mailman-Version: 2.1.29 Precedence: list List-Id: automatic DPDK test reports List-Unsubscribe: , List-Archive: List-Post: List-Help: List-Subscribe: , Errors-To: test-report-bounces@dpdk.org _Testing PASS_ Branch: tags/v24.11 b287e404643aeab5bb5db084c142789df187844e --> testing pass Upstream job id: Generic-Unit-Test-DPDK#379009 Test environment and result as below: +------------------------------+----------------+---------------------------+--------------+------------------------------+ | Environment | dpdk_unit_test | cryptodev_sw_zuc_autotest | lpm_autotest | cryptodev_sw_snow3g_autotest | +==============================+================+===========================+==============+==============================+ | Fedora Linux 40 | PASS | SKIPPED | SKIPPED | SKIPPED | +------------------------------+----------------+---------------------------+--------------+------------------------------+ | Red Hat Enterprise Linux 9.5 | PASS | SKIPPED | SKIPPED | SKIPPED | +------------------------------+----------------+---------------------------+--------------+------------------------------+ | Debian GNU/Linux 12 | PASS | SKIPPED | SKIPPED | SKIPPED | +------------------------------+----------------+---------------------------+--------------+------------------------------+ | CentOS Stream 9 | PASS | SKIPPED | SKIPPED | SKIPPED | +------------------------------+----------------+---------------------------+--------------+------------------------------+ | Fedora Linux 41 | PASS | SKIPPED | SKIPPED | SKIPPED | +------------------------------+----------------+---------------------------+--------------+------------------------------+ | CentOS Stream 10 | PASS | SKIPPED | SKIPPED | SKIPPED | +------------------------------+----------------+---------------------------+--------------+------------------------------+ | Fedora Linux 42 | PASS | SKIPPED | SKIPPED | SKIPPED | +------------------------------+----------------+---------------------------+--------------+------------------------------+ | Ubuntu 24.04 | PASS | SKIPPED | SKIPPED | SKIPPED | +------------------------------+----------------+---------------------------+--------------+------------------------------+ | Ubuntu 22.04 | PASS | SKIPPED | SKIPPED | SKIPPED | +------------------------------+----------------+---------------------------+--------------+------------------------------+ | Ubuntu 20.04 | PASS | SKIPPED | PASS | SKIPPED | +------------------------------+----------------+---------------------------+--------------+------------------------------+ | Debian 12 (arm) | SKIPPED | PASS | SKIPPED | PASS | +------------------------------+----------------+---------------------------+--------------+------------------------------+ Fedora Linux 40 Kernel: 5.4 Compiler: clang gcc (GCC) 14.2.1 20240912 (Red Hat 14.2.1-3) Red Hat Enterprise Linux 9.5 Kernel: 5.4 Compiler: gcc gcc (GCC) 11.5.0 20240719 (Red Hat 11.5.0-2) Debian GNU/Linux 12 Kernel: 5.4 Compiler: gcc gcc (Debian 12.2.0-14+deb12u1) 12.2.0 CentOS Stream 9 Kernel: 5.4 Compiler: gcc gcc (GCC) 11.5.0 20240719 (Red Hat 11.5.0-11) Fedora Linux 41 Kernel: 5.4 Compiler: gcc gcc (GCC) 14.3.1 20250523 (Red Hat 14.3.1-1) CentOS Stream 10 Kernel: 5.4 Compiler: gcc gcc (GCC) 14.2.1 20250110 (Red Hat 14.2.1-8) Fedora Linux 42 Kernel: 5.4 Compiler: gcc gcc (GCC) 15.2.1 20250808 (Red Hat 15.2.1-1) Ubuntu 24.04 Kernel: 5.4 Compiler: gcc gcc (Ubuntu 13.3.0-6ubuntu2~24.04) 13.3.0 Ubuntu 22.04 Kernel: 5.4 Compiler: gcc gcc (Ubuntu 11.4.0-1ubuntu1~22.04) 11.4.0 Ubuntu 20.04 Kernel: 5.4 Compiler: gcc gcc (Ubuntu 9.4.0-1ubuntu1~20.04.2) 9.4.0 Debian 12 (arm) Kernel: Depends on container host Compiler: gcc (Debian 12.2.0-14) 12.2.0 To view detailed results, visit: https://lab.dpdk.org/results/dashboard/tarballs/35126/ UNH-IOL DPDK Community Lab To manage your email subscriptions, visit: https://lab.dpdk.org/results/dashboard/preferences/subscriptions/