From mboxrd@z Thu Jan 1 00:00:00 1970 Return-Path: Received: from mails.dpdk.org (mails.dpdk.org [217.70.189.124]) by inbox.dpdk.org (Postfix) with ESMTP id 17F62488D5 for ; Tue, 7 Oct 2025 15:41:15 +0200 (CEST) Received: from mails.dpdk.org (localhost [127.0.0.1]) by mails.dpdk.org (Postfix) with ESMTP id EE9E54013F; Tue, 7 Oct 2025 15:41:14 +0200 (CEST) Received: from mail-io1-f97.google.com (mail-io1-f97.google.com [209.85.166.97]) by mails.dpdk.org (Postfix) with ESMTP id B4F464013F for ; Tue, 7 Oct 2025 15:41:13 +0200 (CEST) Received: by mail-io1-f97.google.com with SMTP id ca18e2360f4ac-92790f12293so298835539f.2 for ; Tue, 07 Oct 2025 06:41:13 -0700 (PDT) DKIM-Signature: v=1; a=rsa-sha256; c=relaxed/relaxed; d=iol.unh.edu; s=unh-iol; t=1759844473; x=1760449273; darn=dpdk.org; h=cc:to:from:subject:message-id:date:from:to:cc:subject:date :message-id:reply-to; bh=juBuhNNRyUh5Y+odNW82g5twzK0Sp7kQWNa1QxFz0qo=; b=S6+aNH3w9LHqnoNv6sT+EANGoGx5XncyBPb0DgUdQwInvIOrJX+Pfu7CfljOE72RCl zOyKnCIMIqwwmmbvH4Ch8CV650rYfbExtOWHOt8oxeH4lyL+Ty6hrAodaE9o9c0babfJ x0L/6shCKdlW+NZkO6Tm8pBOPQWPOFUkzukwM= X-Google-DKIM-Signature: v=1; a=rsa-sha256; c=relaxed/relaxed; d=1e100.net; s=20230601; t=1759844473; x=1760449273; h=cc:to:from:subject:message-id:date:x-gm-message-state:from:to:cc :subject:date:message-id:reply-to; bh=juBuhNNRyUh5Y+odNW82g5twzK0Sp7kQWNa1QxFz0qo=; b=jO5Ng8bjeca3k1Vqz0KUWxTW0rCYjmtZAbSSBcHrXsRtLxm0YKRY9T6WlTSnZikpPq qVhr8Y9EzZjraQWHscZtFVDoR6pZR18LgDgcQy42XGWmkXG5J7vLYVb+PfOCs0oKJxGD uKNzS+BiU0r926hsja/ZffZ1HQuuK2Cz6C72T6Y6cwf7mlkJk4Qx73T9JEIE9wPHLbEa 4gRPkpoKoKgKkqfyfh01uyKFaJhCz+KcxCpsJY4pmFFFC99UhhMaA07RAOKyT6e4wUQA hNzKl7/U47GEjEBz0MT7drnVjIKjGbkoFti1GUMvl9paMl++18CiHSDbW4MeY+gRiRep 1UtA== X-Gm-Message-State: AOJu0YxsDIulX/lfXcmpZl83UNaZfgfuBt2/R/6cV73D7QzqeG2QyyCO B9NJMSVK42GxGX4AaMdxzak+F7gqUTmdD1To8c5Ry0c5Clz+tiVgTN3kXVy6D1QmABbCERXrSdY zACBaxtFDO9XsCV3G04HDK3erIqolAQqLXurNs3qNcrHQ X-Gm-Gg: ASbGncsR61THeIdmbtuFpAvXAY7UjHXOXDZSDh7/j97cq5MsWFH4sF3/UQr7U/iGFmA 8eHVs+mWnUfJ0IMVOy+LwEdH0QBVZXcVooIgUm12g4NCeEJCzDBnSUywD6exu9d8jsAwDdzO6RT lqPI9e452hzefEFDcfd5Zng0haTabtKO4RG7Ta9Z3DjsVJ2q0HhINwQugcvLJsWmm/spGgzfPhG ykB4nNGuzmdSf+HugbIgmhhxPs9j4MCKNhLS/dmw1lKH2J5phcGTLcILFSDV703Q6C9TzNDgUqM J+WZxDNoFyrTrQdQm2IcubpprbLwc2O5knYgoOvQoX54s9Ed2A2jeX/FQlmQWUg5Ln/jO3hGDNI ERQ== X-Google-Smtp-Source: AGHT+IE6UBD83amaRlgyl9sarjC0lP/SLFPMtIuqLL8gQWILu067CXd9DQPUiUCD8lL0CnJBaaqWs0DkfP6Y X-Received: by 2002:a05:6e02:2581:b0:425:6f0b:a1db with SMTP id e9e14a558f8ab-42e7ad16a3emr197000615ab.9.1759844472734; Tue, 07 Oct 2025 06:41:12 -0700 (PDT) Received: from postal.iol.unh.edu (postal.iol.unh.edu. [132.177.123.84]) by smtp-relay.gmail.com with ESMTPS id 8926c6da1cb9f-57b5ed26c19sm1197714173.23.2025.10.07.06.41.12 (version=TLS1_2 cipher=ECDHE-ECDSA-AES128-GCM-SHA256 bits=128/128); Tue, 07 Oct 2025 06:41:12 -0700 (PDT) X-Relaying-Domain: iol.unh.edu Date: Tue, 07 Oct 2025 06:41:12 -0700 (PDT) Message-ID: <68e51878.050a0220.b2718.2c73SMTPIN_ADDED_MISSING@mx.google.com> Received: from [172.21.0.2] (unknown [172.18.0.240]) by postal.iol.unh.edu (Postfix) with ESMTP id 3DFD1604D420; Tue, 7 Oct 2025 09:41:12 -0400 (EDT) Subject: |SUCCESS| [GIT MASTER] 2b403dd8fb37d0ba13723e44ffc7ee2c2795f838 From: dpdklab@iol.unh.edu To: Test Report Cc: dpdk-test-reports@iol.unh.edu Content-Type: text/plain X-BeenThere: test-report@dpdk.org X-Mailman-Version: 2.1.29 Precedence: list List-Id: automatic DPDK test reports List-Unsubscribe: , List-Archive: List-Post: List-Help: List-Subscribe: , Errors-To: test-report-bounces@dpdk.org _Testing PASS_ Branch: dpdk 2b403dd8fb37d0ba13723e44ffc7ee2c2795f838 --> testing pass Upstream job id: Generic-DPDK-Compile-Meson#431738 Test environment and result as below: +-------------------------------+--------------------+-------------------------+-------------------+----------------------+-------------------+------------------+ | Environment | dpdk_meson_compile | dpdk_llvm_clang_compile | dpdk_msvc_compile | dpdk_mingw64_compile | dpdk_compile_spdk | dpdk_compile_ovs | +===============================+====================+=========================+===================+======================+===================+==================+ | Ubuntu 20.04 | PASS | SKIPPED | SKIPPED | SKIPPED | SKIPPED | SKIPPED | +-------------------------------+--------------------+-------------------------+-------------------+----------------------+-------------------+------------------+ | FreeBSD 14.2 | PASS | SKIPPED | SKIPPED | SKIPPED | SKIPPED | SKIPPED | +-------------------------------+--------------------+-------------------------+-------------------+----------------------+-------------------+------------------+ | CentOS Stream 9 | PASS | SKIPPED | SKIPPED | SKIPPED | PASS | SKIPPED | +-------------------------------+--------------------+-------------------------+-------------------+----------------------+-------------------+------------------+ | CentOS Stream 10 | PASS | SKIPPED | SKIPPED | SKIPPED | SKIPPED | SKIPPED | +-------------------------------+--------------------+-------------------------+-------------------+----------------------+-------------------+------------------+ | Debian GNU/Linux 12 | PASS | SKIPPED | SKIPPED | SKIPPED | PASS | SKIPPED | +-------------------------------+--------------------+-------------------------+-------------------+----------------------+-------------------+------------------+ | Fedora Linux 42 | PASS | SKIPPED | SKIPPED | SKIPPED | PASS | PASS | +-------------------------------+--------------------+-------------------------+-------------------+----------------------+-------------------+------------------+ | openSUSE Leap 15.6 | PASS | SKIPPED | SKIPPED | SKIPPED | SKIPPED | SKIPPED | +-------------------------------+--------------------+-------------------------+-------------------+----------------------+-------------------+------------------+ | Red Hat Enterprise Linux 8.10 | PASS | SKIPPED | SKIPPED | SKIPPED | SKIPPED | SKIPPED | +-------------------------------+--------------------+-------------------------+-------------------+----------------------+-------------------+------------------+ | Red Hat Enterprise Linux 9.5 | PASS | SKIPPED | SKIPPED | SKIPPED | SKIPPED | SKIPPED | +-------------------------------+--------------------+-------------------------+-------------------+----------------------+-------------------+------------------+ | Ubuntu 22.04 | PASS | SKIPPED | SKIPPED | SKIPPED | PASS | SKIPPED | +-------------------------------+--------------------+-------------------------+-------------------+----------------------+-------------------+------------------+ | Ubuntu 24.04 | PASS | SKIPPED | SKIPPED | SKIPPED | PASS | PASS | +-------------------------------+--------------------+-------------------------+-------------------+----------------------+-------------------+------------------+ | Alpine Linux 3.22.0 | PASS | SKIPPED | SKIPPED | SKIPPED | SKIPPED | SKIPPED | +-------------------------------+--------------------+-------------------------+-------------------+----------------------+-------------------+------------------+ | Arch Linux 20250613.0.365270 | PASS | SKIPPED | SKIPPED | SKIPPED | SKIPPED | SKIPPED | +-------------------------------+--------------------+-------------------------+-------------------+----------------------+-------------------+------------------+ | Windows Server 2022 | SKIPPED | PASS | PASS | PASS | SKIPPED | SKIPPED | +-------------------------------+--------------------+-------------------------+-------------------+----------------------+-------------------+------------------+ Ubuntu 20.04 Kernel: 4.19 Compiler: gcc gcc (Ubuntu 9.4.0-1ubuntu1~20.04.2) 9.4.0 FreeBSD 14.2 Kernel: 14.2-RELEASE Compiler: clang 18.1.6 CentOS Stream 9 Kernel: 5.15 Compiler: gcc gcc (GCC) 11.5.0 20240719 (Red Hat 11.5.0-11) CentOS Stream 10 Kernel: 5.15 Compiler: gcc gcc (GCC) 14.2.1 20250110 (Red Hat 14.2.1-8) Debian GNU/Linux 12 Kernel: 5.15 Compiler: gcc gcc (Debian 12.2.0-14+deb12u1) 12.2.0 Fedora Linux 42 Kernel: 5.15 Compiler: clang gcc (GCC) 15.2.1 20250808 (Red Hat 15.2.1-1) openSUSE Leap 15.6 Kernel: 5.15 Compiler: gcc gcc (SUSE Linux) 7.5.0 Red Hat Enterprise Linux 8.10 Kernel: 5.15 Compiler: gcc gcc (GCC) 8.5.0 20210514 (Red Hat 8.5.0-22) Red Hat Enterprise Linux 9.5 Kernel: 5.15 Compiler: gcc gcc (GCC) 11.5.0 20240719 (Red Hat 11.5.0-2) Ubuntu 22.04 Kernel: 5.15 Compiler: gcc gcc (Ubuntu 11.4.0-1ubuntu1~22.04) 11.4.0 Ubuntu 24.04 Kernel: 5.15 Compiler: gcc gcc (Ubuntu 13.3.0-6ubuntu2~24.04) 13.3.0 Alpine Linux 3.22.0 Kernel: 5.15 Compiler: gcc gcc (Alpine 14.2.0) 14.2.0 Arch Linux 20250613.0.365270 Kernel: 5.15 Compiler: gcc gcc (GCC) 15.1.1 20250425 Windows Server 2022 Kernel: 10.0.20348.2031 Compiler: clang 15.0.7, gcc 14.1.0 (MinGW), and MSVC VS 19.39.33521 To view detailed results, visit: https://lab.dpdk.org/results/dashboard/tarballs/35112/ UNH-IOL DPDK Community Lab To manage your email subscriptions, visit: https://lab.dpdk.org/results/dashboard/preferences/subscriptions/