From mboxrd@z Thu Jan 1 00:00:00 1970 Return-Path: Received: from mails.dpdk.org (mails.dpdk.org [217.70.189.124]) by inbox.dpdk.org (Postfix) with ESMTP id 1495A488D5 for ; Tue, 7 Oct 2025 15:41:23 +0200 (CEST) Received: from mails.dpdk.org (localhost [127.0.0.1]) by mails.dpdk.org (Postfix) with ESMTP id 111FB4013F; Tue, 7 Oct 2025 15:41:23 +0200 (CEST) Received: from mail-io1-f97.google.com (mail-io1-f97.google.com [209.85.166.97]) by mails.dpdk.org (Postfix) with ESMTP id E187D4013F for ; Tue, 7 Oct 2025 15:41:21 +0200 (CEST) Received: by mail-io1-f97.google.com with SMTP id ca18e2360f4ac-911520e43edso251079039f.0 for ; Tue, 07 Oct 2025 06:41:21 -0700 (PDT) DKIM-Signature: v=1; a=rsa-sha256; c=relaxed/relaxed; d=iol.unh.edu; s=unh-iol; t=1759844481; x=1760449281; darn=dpdk.org; h=cc:to:from:subject:message-id:date:from:to:cc:subject:date :message-id:reply-to; bh=pLqfegXZCIFjaZA9F5b63lHi4vqLODHwXhN+Q3zskgk=; b=b2YbvMfjG+WS/A8CAPXweulDps7N33lC4KwKmwbJuHh+JDf65MoUJcVy/y6IZczEer Psdhi9jN8izyYz3kCSa/QM7+rra4vUMzblZMWM2diZMn/OUQ4e1g1uNMzlT4pzvVIvZu ck4LFdVjS7JWT5UmhFPSIpr6Em4czjgz45qOw= X-Google-DKIM-Signature: v=1; a=rsa-sha256; c=relaxed/relaxed; d=1e100.net; s=20230601; t=1759844481; x=1760449281; h=cc:to:from:subject:message-id:date:x-gm-message-state:from:to:cc :subject:date:message-id:reply-to; bh=pLqfegXZCIFjaZA9F5b63lHi4vqLODHwXhN+Q3zskgk=; b=CU5MhFCjwrVL8Ju+5YP6b5sCGrbybJOpIFtJTI9jyEqLxUpyvYfDTRbCt/T4dhsdmr t2LAo2n+2gFJyfwzLIw8ZgAhSCVtFC+TYerSoR3ZXK2sVOs0N8dapb/P/G7WFTVvw8D6 eKyd0uQoeINqWD+FalPD3Rjltgu0LrQ+FXnBzUZo95Ghsx5aIoGYKcXhBnRbzBN8JIXF cPl8zCS/Wi+YvhM/x5I9zxVq21k+iskJ9fC0Bdr6HihIimJEDr83z2+qvYbHbJ2PSQkZ tMa96Xa5ywop4LXrqGIL8J5ClC2lE++Wfer7bUYBUYy1itrMWp+PLomwCBHmB1hcd2U2 4VIg== X-Gm-Message-State: AOJu0Yzg0p6IXdn00LE6fzpXZp0utzAm9uHmlsh9sQfJ5BCHmmHJyS2z f2ct84C7rVvPZuKATfsDYPH4vkrNFmZ60FXVe8R/u4MuOy2Pj+N2bnfxYXv847ufmh6KG76mUc5 Y8MHMCSOd33LbMFYAYAFLvxdJLxaNDETSMh3XUd7uqz/o X-Gm-Gg: ASbGncsapa1NTMTaKY3Zbp1z6/Xtz4CXRgZTHDEkxzHheJI3UUNC97Hf3cvN0LsB17G xWA0X3iKdwfMTAalO8wX9RK6ZCUo8HTvGrtoammXO62BABdJcI+4mMSnbQnT1x2FV+qhPSrGgO6 GN33l+oCl4HCB7NChVKVD1+gKwTVT2JC5jZ+nXTVcw472zMUa8kTv24O1+Up/M7A+DNRaLJW5WV kZe3C1c8aSXuQnx1SVBiY8QaQHHnbZat/Z1RvkoTaYwr3R0fTHfDNsmN5R8YkddRj6e8lGrvkuQ NPF5X03f8Rzah0Gc3nAi4GGzPE7Oxj2wFs43sWac276LtNmZgFzxVBjvkD8yfKOSmHo3ngXRSf0 LXw== X-Google-Smtp-Source: AGHT+IEbbbDTUIJUzl+H4wYTaGIzfAEcyHp5YaNZQYsh0hcxXyfUFhsPL1tpp7D31r3dBTknyVog79cYzTkA X-Received: by 2002:a05:6602:340b:b0:92f:4e37:2f29 with SMTP id ca18e2360f4ac-93b96a97a10mr2250329939f.15.1759844481113; Tue, 07 Oct 2025 06:41:21 -0700 (PDT) Received: from postal.iol.unh.edu (postal.iol.unh.edu. [132.177.123.84]) by smtp-relay.gmail.com with ESMTPS id ca18e2360f4ac-93a7dfce75dsm77095339f.5.2025.10.07.06.41.21 (version=TLS1_2 cipher=ECDHE-ECDSA-AES128-GCM-SHA256 bits=128/128); Tue, 07 Oct 2025 06:41:21 -0700 (PDT) X-Relaying-Domain: iol.unh.edu Date: Tue, 07 Oct 2025 06:41:21 -0700 (PDT) Message-ID: <68e51881.5d0a0220.fc801.ba31SMTPIN_ADDED_MISSING@mx.google.com> Received: from [172.21.0.3] (unknown [172.18.0.240]) by postal.iol.unh.edu (Postfix) with ESMTP id AA685604D420; Tue, 7 Oct 2025 09:41:20 -0400 (EDT) Subject: |SUCCESS| [GIT MASTER] 2b403dd8fb37d0ba13723e44ffc7ee2c2795f838 From: dpdklab@iol.unh.edu To: Test Report Cc: dpdk-test-reports@iol.unh.edu Content-Type: text/plain X-BeenThere: test-report@dpdk.org X-Mailman-Version: 2.1.29 Precedence: list List-Id: automatic DPDK test reports List-Unsubscribe: , List-Archive: List-Post: List-Help: List-Subscribe: , Errors-To: test-report-bounces@dpdk.org _Testing PASS_ Branch: dpdk 2b403dd8fb37d0ba13723e44ffc7ee2c2795f838 --> testing pass Upstream job id: Generic-DPDK-Compile-Meson#431747 Test environment and result as below: +-------------------------------+--------------------+-------------------------+-------------------+----------------------+-------------------+------------------+ | Environment | dpdk_meson_compile | dpdk_llvm_clang_compile | dpdk_msvc_compile | dpdk_mingw64_compile | dpdk_compile_spdk | dpdk_compile_ovs | +===============================+====================+=========================+===================+======================+===================+==================+ | Ubuntu 20.04 | PASS | SKIPPED | SKIPPED | SKIPPED | SKIPPED | SKIPPED | +-------------------------------+--------------------+-------------------------+-------------------+----------------------+-------------------+------------------+ | FreeBSD 14.2 | PASS | SKIPPED | SKIPPED | SKIPPED | SKIPPED | SKIPPED | +-------------------------------+--------------------+-------------------------+-------------------+----------------------+-------------------+------------------+ | CentOS Stream 9 | PASS | SKIPPED | SKIPPED | SKIPPED | PASS | SKIPPED | +-------------------------------+--------------------+-------------------------+-------------------+----------------------+-------------------+------------------+ | CentOS Stream 10 | PASS | SKIPPED | SKIPPED | SKIPPED | SKIPPED | SKIPPED | +-------------------------------+--------------------+-------------------------+-------------------+----------------------+-------------------+------------------+ | Debian GNU/Linux 12 | PASS | SKIPPED | SKIPPED | SKIPPED | PASS | SKIPPED | +-------------------------------+--------------------+-------------------------+-------------------+----------------------+-------------------+------------------+ | Fedora Linux 42 | PASS | SKIPPED | SKIPPED | SKIPPED | PASS | PASS | +-------------------------------+--------------------+-------------------------+-------------------+----------------------+-------------------+------------------+ | openSUSE Leap 15.6 | PASS | SKIPPED | SKIPPED | SKIPPED | SKIPPED | SKIPPED | +-------------------------------+--------------------+-------------------------+-------------------+----------------------+-------------------+------------------+ | Red Hat Enterprise Linux 8.10 | PASS | SKIPPED | SKIPPED | SKIPPED | SKIPPED | SKIPPED | +-------------------------------+--------------------+-------------------------+-------------------+----------------------+-------------------+------------------+ | Red Hat Enterprise Linux 9.5 | PASS | SKIPPED | SKIPPED | SKIPPED | SKIPPED | SKIPPED | +-------------------------------+--------------------+-------------------------+-------------------+----------------------+-------------------+------------------+ | Ubuntu 22.04 | PASS | SKIPPED | SKIPPED | SKIPPED | PASS | SKIPPED | +-------------------------------+--------------------+-------------------------+-------------------+----------------------+-------------------+------------------+ | Ubuntu 24.04 | PASS | SKIPPED | SKIPPED | SKIPPED | PASS | PASS | +-------------------------------+--------------------+-------------------------+-------------------+----------------------+-------------------+------------------+ | Alpine Linux 3.22.0 | PASS | SKIPPED | SKIPPED | SKIPPED | SKIPPED | SKIPPED | +-------------------------------+--------------------+-------------------------+-------------------+----------------------+-------------------+------------------+ | Arch Linux 20250613.0.365270 | PASS | SKIPPED | SKIPPED | SKIPPED | SKIPPED | SKIPPED | +-------------------------------+--------------------+-------------------------+-------------------+----------------------+-------------------+------------------+ | Windows Server 2022 | SKIPPED | PASS | PASS | PASS | SKIPPED | SKIPPED | +-------------------------------+--------------------+-------------------------+-------------------+----------------------+-------------------+------------------+ Ubuntu 20.04 Kernel: 4.19 Compiler: gcc gcc (Ubuntu 9.4.0-1ubuntu1~20.04.2) 9.4.0 FreeBSD 14.2 Kernel: 14.2-RELEASE Compiler: clang 18.1.6 CentOS Stream 9 Kernel: 5.15 Compiler: gcc gcc (GCC) 11.5.0 20240719 (Red Hat 11.5.0-11) CentOS Stream 10 Kernel: 5.15 Compiler: gcc gcc (GCC) 14.2.1 20250110 (Red Hat 14.2.1-8) Debian GNU/Linux 12 Kernel: 5.15 Compiler: gcc gcc (Debian 12.2.0-14+deb12u1) 12.2.0 Fedora Linux 42 Kernel: 5.15 Compiler: clang gcc (GCC) 15.2.1 20250808 (Red Hat 15.2.1-1) openSUSE Leap 15.6 Kernel: 5.15 Compiler: gcc gcc (SUSE Linux) 7.5.0 Red Hat Enterprise Linux 8.10 Kernel: 5.15 Compiler: gcc gcc (GCC) 8.5.0 20210514 (Red Hat 8.5.0-22) Red Hat Enterprise Linux 9.5 Kernel: 5.15 Compiler: gcc gcc (GCC) 11.5.0 20240719 (Red Hat 11.5.0-2) Ubuntu 22.04 Kernel: 5.15 Compiler: gcc gcc (Ubuntu 11.4.0-1ubuntu1~22.04) 11.4.0 Ubuntu 24.04 Kernel: 5.15 Compiler: gcc gcc (Ubuntu 13.3.0-6ubuntu2~24.04) 13.3.0 Alpine Linux 3.22.0 Kernel: 5.15 Compiler: gcc gcc (Alpine 14.2.0) 14.2.0 Arch Linux 20250613.0.365270 Kernel: 5.15 Compiler: gcc gcc (GCC) 15.1.1 20250425 Windows Server 2022 Kernel: 10.0.20348.2031 Compiler: clang 15.0.7, gcc 14.1.0 (MinGW), and MSVC VS 19.39.33521 To view detailed results, visit: https://lab.dpdk.org/results/dashboard/tarballs/35112/ UNH-IOL DPDK Community Lab To manage your email subscriptions, visit: https://lab.dpdk.org/results/dashboard/preferences/subscriptions/