From mboxrd@z Thu Jan 1 00:00:00 1970 Return-Path: Received: from mails.dpdk.org (mails.dpdk.org [217.70.189.124]) by inbox.dpdk.org (Postfix) with ESMTP id 2C34B488D5 for ; Tue, 7 Oct 2025 15:52:40 +0200 (CEST) Received: from mails.dpdk.org (localhost [127.0.0.1]) by mails.dpdk.org (Postfix) with ESMTP id 2831E4013F; Tue, 7 Oct 2025 15:52:40 +0200 (CEST) Received: from mail-oa1-f99.google.com (mail-oa1-f99.google.com [209.85.160.99]) by mails.dpdk.org (Postfix) with ESMTP id 466B74013F for ; Tue, 7 Oct 2025 15:52:38 +0200 (CEST) Received: by mail-oa1-f99.google.com with SMTP id 586e51a60fabf-30ccec59b4bso4082029fac.3 for ; Tue, 07 Oct 2025 06:52:38 -0700 (PDT) DKIM-Signature: v=1; a=rsa-sha256; c=relaxed/relaxed; d=iol.unh.edu; s=unh-iol; t=1759845157; x=1760449957; darn=dpdk.org; h=references:in-reply-to:cc:to:from:subject:message-id:date:from:to :cc:subject:date:message-id:reply-to; bh=VTTXX39KUsr1L3xhCUDAUEiYJe4kwfuT7l5OvyT6ERg=; b=J0hllF7avVuCJZs2sfGYPTsdsLoqF7Bi78JxkJEloHwm4y3FXOzWmndNdRuEkS1fgt ZwF/aKJydVqmIn+cHpJUIpcegQpbd9pF89onT5UhNT1MjYBteIhUXzzwiUcTEAnd49Xc paQSM0+4T9Erh+7dvBdCs+4sdfWFfS961NHh8= X-Google-DKIM-Signature: v=1; a=rsa-sha256; c=relaxed/relaxed; d=1e100.net; s=20230601; t=1759845157; x=1760449957; h=references:in-reply-to:cc:to:from:subject:message-id:date :x-gm-message-state:from:to:cc:subject:date:message-id:reply-to; bh=VTTXX39KUsr1L3xhCUDAUEiYJe4kwfuT7l5OvyT6ERg=; b=ZeVE4Fn8TvSO0P82qQVFe0E3MoGcRp5yeEYSotWl9sSR5Gwn2YwxMg/vAS9cfkhh13 kUXKLrWebtCbYujaboLBw43/UavHFtGPEIlWUTPpKLWAp2d49Yx+RSIYm5I6p4PmiNJ6 JNtbdZIDByot5eA1YfnWFarlNZ95IbUxUkZHVVZqTybE9Jwuu+RHKR2hhlLhYOjfic6t 1aVwpZb2x+paFsMfcBEPceX88WRErrjMMjIrt32CcIFnHIB5aPVSHpCVZhN9u+z3rB+g LIsTyN4RblFHBHSOKUFqXqhl+vMCvBrRJof7IfFZMOdaOX0MrykgkrFfKu3SHHx57ya8 b3pg== X-Gm-Message-State: AOJu0YwEzQcoXlyKg02rqi2nPCrvfde5/s+kKek8Ai0SA1P7pH2Mj609 XNTOrJ7FbbrUy3H18cZ1Vu0+awBmBw/AqrQzWHh6L0mBMjeDXoEO2HuwwGp2fXWqvK7Ye9QS97E SqMaXFpE4rpY3DzJvf9HzHkWA5DplQP702PDgdOgTdjoP X-Gm-Gg: ASbGnctI+EYlscdmgwhWydN4tKD9pVF2QquO1RxiAwRZRDDQ2cBCD/kUIFUp8qrOdGx Meuhtht4S9qqwn/KI42CM+1MLWMlBdrUtYHfx3lEOCik8QJO1zr5Y3RXqFBORhLpStJTVY9OGeb yUDM7slIjO14TO0aZMkAWHWyPZO3slhsgTodbmdFpe2zggiqHpv7EL7nGEfSwIEkLSSnmAt2+ii 49q/2lfRfMs28fVyYf3DVKSoPzz6FA1Zdcu86Yui38ss75UncW0LTvjHvBjjkhoGQt8DO6n7zNh E/7czeIhmMA1W2PYQnQNtJoX916sQQRTYvF6LEIiSI4IFfVLmr/u7l/65grU1IuKYUyi4pjA+zC 8MQ== X-Google-Smtp-Source: AGHT+IFiluLyp0A3TshFEZZs3pGTdXlQXOv9iTk/Ysztml944Hx1xpKYRQaRYOC6JLOenZkwmx31xa9owwQA X-Received: by 2002:a05:6870:248b:b0:38a:9333:9688 with SMTP id 586e51a60fabf-3b0f4fc4ccemr7512382fac.18.1759845157443; Tue, 07 Oct 2025 06:52:37 -0700 (PDT) Received: from postal.iol.unh.edu (postal.iol.unh.edu. [132.177.123.84]) by smtp-relay.gmail.com with ESMTPS id 586e51a60fabf-3ab94d98916sm1231953fac.20.2025.10.07.06.52.37 (version=TLS1_2 cipher=ECDHE-ECDSA-AES128-GCM-SHA256 bits=128/128); Tue, 07 Oct 2025 06:52:37 -0700 (PDT) X-Relaying-Domain: iol.unh.edu Date: Tue, 07 Oct 2025 06:52:37 -0700 (PDT) Message-ID: <68e51b25.050a0220.7dcc6.4f70SMTPIN_ADDED_MISSING@mx.google.com> Received: from [172.21.0.2] (unknown [172.18.0.240]) by postal.iol.unh.edu (Postfix) with ESMTP id 1AE476051830; Tue, 7 Oct 2025 09:52:37 -0400 (EDT) Subject: |SUCCESS| pw157310-157311 [PATCH] [v2,2/2] net/ice: fix memory leak From: dpdklab@iol.unh.edu To: Test Report Cc: dpdk-test-reports@iol.unh.edu, Bruce Richardson In-Reply-To: <200ebf9129483347f6263f130e167ff7fa42e7c3.1759840924.git.anatoly.burakov@intel.com> References: <200ebf9129483347f6263f130e167ff7fa42e7c3.1759840924.git.anatoly.burakov@intel.com> Content-Type: text/plain X-BeenThere: test-report@dpdk.org X-Mailman-Version: 2.1.29 Precedence: list List-Id: automatic DPDK test reports List-Unsubscribe: , List-Archive: List-Post: List-Help: List-Subscribe: , Errors-To: test-report-bounces@dpdk.org Test-Label: iol-compile-amd64-testing Test-Status: SUCCESS http://dpdk.org/patch/157311 _Testing PASS_ Submitter: Burakov, Anatoly Date: Tuesday, October 07 2025 12:42:12 DPDK git baseline: Repo:dpdk-next-net-intel Branch: master CommitID:e7d8cc7ef4df3552575525697079d3c957cfcdaf 157310-157311 --> testing pass Upstream job id: Windows-Compile-DPDK-Native#31466 Test environment and result as below: +---------------------+-------------------------+--------------------+-------------------+----------------------+ | Environment | dpdk_llvm_clang_compile | dpdk_meson_compile | dpdk_msvc_compile | dpdk_mingw64_compile | +=====================+=========================+====================+===================+======================+ | Windows Server 2022 | PASS | SKIPPED | PASS | PASS | +---------------------+-------------------------+--------------------+-------------------+----------------------+ | Ubuntu 20.04 | SKIPPED | PASS | SKIPPED | SKIPPED | +---------------------+-------------------------+--------------------+-------------------+----------------------+ | FreeBSD 14.2 | SKIPPED | PASS | SKIPPED | SKIPPED | +---------------------+-------------------------+--------------------+-------------------+----------------------+ Windows Server 2022 Kernel: 10.0.20348.2031 Compiler: clang 15.0.7, gcc 14.1.0 (MinGW), and MSVC VS 19.39.33521 Ubuntu 20.04 Kernel: 4.19 Compiler: gcc gcc (Ubuntu 9.4.0-1ubuntu1~20.04.2) 9.4.0 FreeBSD 14.2 Kernel: 14.2-RELEASE Compiler: clang 18.1.6 To view detailed results, visit: https://lab.dpdk.org/results/dashboard/patchsets/34228/ UNH-IOL DPDK Community Lab To manage your email subscriptions, visit: https://lab.dpdk.org/results/dashboard/preferences/subscriptions/