From mboxrd@z Thu Jan 1 00:00:00 1970 Return-Path: Received: from mails.dpdk.org (mails.dpdk.org [217.70.189.124]) by inbox.dpdk.org (Postfix) with ESMTP id 4243F488D6 for ; Tue, 7 Oct 2025 16:02:51 +0200 (CEST) Received: from mails.dpdk.org (localhost [127.0.0.1]) by mails.dpdk.org (Postfix) with ESMTP id 17FAF4013F; Tue, 7 Oct 2025 16:02:51 +0200 (CEST) Received: from mail-pl1-f226.google.com (mail-pl1-f226.google.com [209.85.214.226]) by mails.dpdk.org (Postfix) with ESMTP id 0FF524013F for ; Tue, 7 Oct 2025 16:02:50 +0200 (CEST) Received: by mail-pl1-f226.google.com with SMTP id d9443c01a7336-27c369f8986so61904865ad.3 for ; Tue, 07 Oct 2025 07:02:49 -0700 (PDT) DKIM-Signature: v=1; a=rsa-sha256; c=relaxed/relaxed; d=iol.unh.edu; s=unh-iol; t=1759845769; x=1760450569; darn=dpdk.org; h=references:in-reply-to:cc:to:from:subject:message-id:date:from:to :cc:subject:date:message-id:reply-to; bh=3N1njiD63EVgm5Aoa41dvFUfnxUaWXemjv4caO6taGA=; b=MXHnpPUnDBT1cBbxg+1hbVjxKnjgKwV426Z9+OGjJW1zc5voJYuU0rc0ZYUwImw+il lnYBsGganN22ovt24nnjT4GvXeIsGFHCUDsLZmFGSfxprut8weMPDEwLkqDa86MAR3C5 uRs9Yw25TgbclWChKzUvQ9VXhUkbyRXia+3Fk= X-Google-DKIM-Signature: v=1; a=rsa-sha256; c=relaxed/relaxed; d=1e100.net; s=20230601; t=1759845769; x=1760450569; h=references:in-reply-to:cc:to:from:subject:message-id:date :x-gm-message-state:from:to:cc:subject:date:message-id:reply-to; bh=3N1njiD63EVgm5Aoa41dvFUfnxUaWXemjv4caO6taGA=; b=FG4dT8amFQBBL+LzeMyAnaKJ01wDDduXTjxoreDCg8f3rbWQdJcK2SFPWbqfu8wTBj UqAQfy0V/L1Uz24ZNGJqxVupayIw1DylPfpEiZmCVchB9iPCfiaFocQG7CzmCt/tFwav XeYLelnI2hdIQEiwFSQZS9fEDfKaHTTSWbtqHr67KJQ0sOuLAFwjdJZLiZJc/5lCI8uU QTiwOFRfKE6ftJptHgKoMZ6hi0oqdlbXqdYd0coN5Q1wiLONrxF48XoNLYbXnZi/WuG1 q4OTnpVzA/AfPQFBcCoA6l71ssEcgXaoYesWNtMDNoIb/tGfs5TgWQ5YTfppha0LChRK TfXA== X-Gm-Message-State: AOJu0YwOF+McTlZiP9V8NKotXbvnNYsvI2MN1JkUFFqAdVI1se8VmGeP 3AS7sNZB4uopjRpRggcglxk/ncNCAEz9lQcVHJAe7qNnEqm1kVpwhTefVzFkhF4Kq/Hs6Y6esDV vb9uQuzkO1LSeFFJcNe4taJ6q4v4I2OLcTQ8KZ7oqubkb X-Gm-Gg: ASbGncsFOOWx8lJi/3CzmecLpZJrNJ1uc2vqtP/DsioJnlJS289JSHVbLQcCbYJxx/T pq7QwN5uXb/sGi8uv7Cu6MNrrUS4obT49qwJ3EnudyD0b1x50Zj6QOB20V3/wCMzAuwOprRSg8f XtIFr6wIm48qcsAimbRHrTPqliJi9AVcLRjrCSTHZ5Fy2C48ZUjhy6zRJc9wLZzdpUCTs/z7En1 /SmV2BKttnFZtUU50qaHaXrqvc9fRjSoX4I2hDHxg62TYrwqT4y6lGKniS5uwpYpSg1WlemcA2O I/LqniBz/zKcsNvFfCKBen206gw1N+NkZPoyNJcB1afyrtJqvAil84mUl7K6+ESVBA0SdI0QBsY ndA== X-Google-Smtp-Source: AGHT+IEPyWJ2yALoAtdzS4uEhzt61fv1BhPvH+lRxMN0a7Wuolj/iLPgnZqgZt9i/hXX/HOZT9xlmWNtR2DY X-Received: by 2002:a17:903:3510:b0:267:e097:7a9c with SMTP id d9443c01a7336-28e9a6b1377mr202505725ad.53.1759845768548; Tue, 07 Oct 2025 07:02:48 -0700 (PDT) Received: from postal.iol.unh.edu (postal.iol.unh.edu. [132.177.123.84]) by smtp-relay.gmail.com with ESMTPS id d9443c01a7336-28e8d10841dsm10883495ad.11.2025.10.07.07.02.48 (version=TLS1_2 cipher=ECDHE-ECDSA-AES128-GCM-SHA256 bits=128/128); Tue, 07 Oct 2025 07:02:48 -0700 (PDT) X-Relaying-Domain: iol.unh.edu Date: Tue, 07 Oct 2025 07:02:48 -0700 (PDT) Message-ID: <68e51d88.170a0220.198e5.f518SMTPIN_ADDED_MISSING@mx.google.com> Received: from [172.21.0.2] (unknown [172.18.0.240]) by postal.iol.unh.edu (Postfix) with ESMTP id C93CA6050A61; Tue, 7 Oct 2025 10:02:47 -0400 (EDT) Subject: |SUCCESS| pw157310-157311 [PATCH] [v2,2/2] net/ice: fix memory leak From: dpdklab@iol.unh.edu To: Test Report Cc: dpdk-test-reports@iol.unh.edu, Bruce Richardson In-Reply-To: <200ebf9129483347f6263f130e167ff7fa42e7c3.1759840924.git.anatoly.burakov@intel.com> References: <200ebf9129483347f6263f130e167ff7fa42e7c3.1759840924.git.anatoly.burakov@intel.com> Content-Type: text/plain X-BeenThere: test-report@dpdk.org X-Mailman-Version: 2.1.29 Precedence: list List-Id: automatic DPDK test reports List-Unsubscribe: , List-Archive: List-Post: List-Help: List-Subscribe: , Errors-To: test-report-bounces@dpdk.org Test-Label: iol-unit-amd64-testing Test-Status: SUCCESS http://dpdk.org/patch/157311 _Testing PASS_ Submitter: Burakov, Anatoly Date: Tuesday, October 07 2025 12:42:12 DPDK git baseline: Repo:dpdk-next-net-intel Branch: master CommitID:e7d8cc7ef4df3552575525697079d3c957cfcdaf 157310-157311 --> testing pass Upstream job id: Generic-VM-Unit-Test-DPDK#31635 Test environment and result as below: +-------------------------------+----------------+ | Environment | dpdk_unit_test | +===============================+================+ | CentOS Stream 9 | PASS | +-------------------------------+----------------+ | Fedora Linux 40 | PASS | +-------------------------------+----------------+ | CentOS Stream 10 | PASS | +-------------------------------+----------------+ | Fedora Linux 42 | PASS | +-------------------------------+----------------+ | Debian GNU/Linux 12 | PASS | +-------------------------------+----------------+ | Fedora Linux 41 | PASS | +-------------------------------+----------------+ | Red Hat Enterprise Linux 9.5 | PASS | +-------------------------------+----------------+ | Ubuntu 22.04 | PASS | +-------------------------------+----------------+ | Ubuntu 20.04 | PASS | +-------------------------------+----------------+ | Ubuntu 24.04 | PASS | +-------------------------------+----------------+ | Red Hat Enterprise Linux 8.10 | PASS | +-------------------------------+----------------+ | Windows Server 2022 | PASS | +-------------------------------+----------------+ CentOS Stream 9 Kernel: 5.15 Compiler: gcc gcc (GCC) 11.5.0 20240719 (Red Hat 11.5.0-11) Fedora Linux 40 Kernel: 5.15 Compiler: gcc gcc (GCC) 14.2.1 20240912 (Red Hat 14.2.1-3) CentOS Stream 10 Kernel: 5.15 Compiler: gcc gcc (GCC) 14.2.1 20250110 (Red Hat 14.2.1-8) Fedora Linux 42 Kernel: 5.15 Compiler: gcc gcc (GCC) 15.2.1 20250808 (Red Hat 15.2.1-1) Debian GNU/Linux 12 Kernel: 5.15 Compiler: gcc gcc (Debian 12.2.0-14+deb12u1) 12.2.0 Fedora Linux 41 Kernel: 5.15 Compiler: gcc gcc (GCC) 14.3.1 20250523 (Red Hat 14.3.1-1) Red Hat Enterprise Linux 9.5 Kernel: 5.15 Compiler: gcc gcc (GCC) 11.5.0 20240719 (Red Hat 11.5.0-2) Ubuntu 22.04 Kernel: 5.15 Compiler: gcc gcc (Ubuntu 11.4.0-1ubuntu1~22.04) 11.4.0 Ubuntu 20.04 Kernel: 5.15 Compiler: gcc gcc (Ubuntu 9.4.0-1ubuntu1~20.04.2) 9.4.0 Ubuntu 24.04 Kernel: 5.15 Compiler: gcc gcc (Ubuntu 13.3.0-6ubuntu2~24.04) 13.3.0 Red Hat Enterprise Linux 8.10 Kernel: 5.15 Compiler: gcc gcc (GCC) 8.5.0 20210514 (Red Hat 8.5.0-22) Windows Server 2022 Kernel: 10.0.20348.2031 Compiler: clang 15.0.7, gcc 14.1.0 (MinGW), and MSVC VS 19.39.33521 To view detailed results, visit: https://lab.dpdk.org/results/dashboard/patchsets/34228/ UNH-IOL DPDK Community Lab To manage your email subscriptions, visit: https://lab.dpdk.org/results/dashboard/preferences/subscriptions/