From mboxrd@z Thu Jan 1 00:00:00 1970 Return-Path: Received: from mails.dpdk.org (mails.dpdk.org [217.70.189.124]) by inbox.dpdk.org (Postfix) with ESMTP id 78B6E488D6 for ; Tue, 7 Oct 2025 16:05:51 +0200 (CEST) Received: from mails.dpdk.org (localhost [127.0.0.1]) by mails.dpdk.org (Postfix) with ESMTP id 5A9424013F; Tue, 7 Oct 2025 16:05:51 +0200 (CEST) Received: from mail-yw1-f225.google.com (mail-yw1-f225.google.com [209.85.128.225]) by mails.dpdk.org (Postfix) with ESMTP id 8C9734013F for ; Tue, 7 Oct 2025 16:05:49 +0200 (CEST) Received: by mail-yw1-f225.google.com with SMTP id 00721157ae682-749399349ddso81685017b3.3 for ; Tue, 07 Oct 2025 07:05:49 -0700 (PDT) DKIM-Signature: v=1; a=rsa-sha256; c=relaxed/relaxed; d=iol.unh.edu; s=unh-iol; t=1759845949; x=1760450749; darn=dpdk.org; h=cc:to:from:subject:message-id:date:from:to:cc:subject:date :message-id:reply-to; bh=HnCuTHwPgOBIwczZ9mkYQZmvJaAfvv542dRqKQoGeL4=; b=e5Yp3VKNw/Ap0cYKXnNBzeVMkaKcTnDZeLzqgBTSrrMDAIwjVG7sYKtM+Smf6nmG2j oRjdiLVxGbHVVJEdmIEsm5FP/Sd3IL2gJszrBA1kJ6T0+5acgPi6rdquj6Ms/XBFM+k8 lDihJqFyK6zSkYNH1XxumN1uqWDt4cqqVSxfg= X-Google-DKIM-Signature: v=1; a=rsa-sha256; c=relaxed/relaxed; d=1e100.net; s=20230601; t=1759845949; x=1760450749; h=cc:to:from:subject:message-id:date:x-gm-message-state:from:to:cc :subject:date:message-id:reply-to; bh=HnCuTHwPgOBIwczZ9mkYQZmvJaAfvv542dRqKQoGeL4=; b=H73zwOL7gcMfN3dk0+MxyQE1Es0ofEcbDVoD0serxvzzXlkbLZYIsaaEOEQsYBf8XJ XMRprPAIhGjVs9ypSi6wpneAPA7ZrwmA+fRkwUET1LVFHfQ48tAZTBmI9DYYv2a/e/zb P94Cq6yuYjAFejXxXrC6sJYVenPPPTaaUpSYatFLf6q9c0d8SnkKRS6hy8W/v8djLqow GAllugc3x2bmxwAPQZDPkClG/NycGdWYbA5zVuZb3Ly+6QdGozbfKgkvba80Nu8JJEu+ vrmyn+Wduwa0nsDg75S0gWBU3lzvUc2w6KcT5haAJgfeg4fKwrB0r0EH9uIP7fpvmujA GbpA== X-Gm-Message-State: AOJu0YycVo72c++A6UFQM43eAww/fcUs3Ckvb11L2wDMHGeW5yXtD+aj qDNheZvsKdek0+U5JlKM59KviZuzKULSmKKAoDmoNSps2Lwo7D4Re8kIZnlkLdXi0Qfi6KG7Snw R6aV4nf3ZHcHV9FIDU22BaIRSeTumicHCP5jpFPhPgZvYXB34A0fE X-Gm-Gg: ASbGncs/zLkpq+cFckQFXoYBz7/h6MtFgfZm/hB/TcYVAgYA7RrUmz9MM3e8cCSsxkB TpqdNwY6rKl3fSNX+7uPfnT9YLXiZy8yawc8U2Ozo+j1KjGe/qA961hMGNoj06aTMTIs2epeb9X We4J2b2kD3CANLiUXs+c29FtlAvB/Rg/eFQmG5xNGRsNkOlmRJh+EuMVCMkHfK0QXx+whMt0lHE jQnntM/gXDMj3pJQTX4S+x9V3NGvyC9Hjc8MU1vrzCefn8Rx8qwnJccOz4ywxpi+w8vIgB95PyC pHf+PL0SNJyoHZtSImCjEI0C1G5m6mTnD5Zz0S+Hm2NjYQR5jVFCUWg= X-Google-Smtp-Source: AGHT+IEQXt1yO9mdTG3HBgdLS4Z0uAlc2hZ+xpG48e6PDAEVgOOm9P7nCvs2GPLLaFN1A09CDJHjrphEEZ82 X-Received: by 2002:a05:690e:147:b0:636:3cc:28b2 with SMTP id 956f58d0204a3-63b9a0f1756mr13170288d50.36.1759845948551; Tue, 07 Oct 2025 07:05:48 -0700 (PDT) Received: from postal.iol.unh.edu (postal.iol.unh.edu. [2606:4100:3880:1234::84]) by smtp-relay.gmail.com with ESMTPS id 956f58d0204a3-63b8466fbcasm945037d50.10.2025.10.07.07.05.48 (version=TLS1_2 cipher=ECDHE-ECDSA-AES128-GCM-SHA256 bits=128/128); Tue, 07 Oct 2025 07:05:48 -0700 (PDT) X-Relaying-Domain: iol.unh.edu Date: Tue, 07 Oct 2025 07:05:48 -0700 (PDT) Message-ID: <68e51e3c.530a0220.2f974f.3605SMTPIN_ADDED_MISSING@mx.google.com> Received: from [172.21.0.2] (unknown [172.18.0.240]) by postal.iol.unh.edu (Postfix) with ESMTP id 2DD276050A61; Tue, 7 Oct 2025 10:05:48 -0400 (EDT) Subject: |SUCCESS| [GIT MASTER] b287e404643aeab5bb5db084c142789df187844e From: dpdklab@iol.unh.edu To: Test Report Cc: dpdk-test-reports@iol.unh.edu, Xueming Li , Christian Ehrhardt , Kevin Traynor , Luca Boccassi Content-Type: text/plain X-BeenThere: test-report@dpdk.org X-Mailman-Version: 2.1.29 Precedence: list List-Id: automatic DPDK test reports List-Unsubscribe: , List-Archive: List-Post: List-Help: List-Subscribe: , Errors-To: test-report-bounces@dpdk.org _Testing PASS_ Branch: tags/v24.11 b287e404643aeab5bb5db084c142789df187844e --> testing pass Upstream job id: Generic-DPDK-Compile-Meson#431632 Test environment and result as below: +------------------------------+--------------------+ | Environment | dpdk_meson_compile | +==============================+====================+ | Debian GNU/Linux 12 | PASS | +------------------------------+--------------------+ | Red Hat Enterprise Linux 9.5 | PASS | +------------------------------+--------------------+ | Ubuntu 20.04 | PASS | +------------------------------+--------------------+ | Fedora Linux 42 | PASS | +------------------------------+--------------------+ | Ubuntu 22.04 | PASS | +------------------------------+--------------------+ | Ubuntu 24.04 | PASS | +------------------------------+--------------------+ | CentOS Stream 9 | PASS | +------------------------------+--------------------+ | CentOS Stream 10 | PASS | +------------------------------+--------------------+ Debian GNU/Linux 12 Kernel: 5.4 Compiler: gcc gcc (Debian 12.2.0-14+deb12u1) 12.2.0 Red Hat Enterprise Linux 9.5 Kernel: 5.4 Compiler: gcc gcc (GCC) 11.5.0 20240719 (Red Hat 11.5.0-2) Ubuntu 20.04 Kernel: 5.15 Compiler: aarch64-linux-gnu-gcc gcc (Ubuntu 9.4.0-1ubuntu1~20.04.2) 9.4.0 Fedora Linux 42 Kernel: 5.4 Compiler: gcc gcc (GCC) 15.2.1 20250808 (Red Hat 15.2.1-1) Ubuntu 22.04 Kernel: 5.4 Compiler: gcc gcc (Ubuntu 11.4.0-1ubuntu1~22.04) 11.4.0 Ubuntu 24.04 Kernel: 5.4 Compiler: gcc gcc (Ubuntu 13.3.0-6ubuntu2~24.04) 13.3.0 CentOS Stream 9 Kernel: 5.4 Compiler: gcc gcc (GCC) 11.5.0 20240719 (Red Hat 11.5.0-11) CentOS Stream 10 Kernel: 5.4 Compiler: gcc gcc (GCC) 14.2.1 20250110 (Red Hat 14.2.1-8) To view detailed results, visit: https://lab.dpdk.org/results/dashboard/tarballs/35107/ UNH-IOL DPDK Community Lab To manage your email subscriptions, visit: https://lab.dpdk.org/results/dashboard/preferences/subscriptions/