From mboxrd@z Thu Jan 1 00:00:00 1970 Return-Path: Received: from mails.dpdk.org (mails.dpdk.org [217.70.189.124]) by inbox.dpdk.org (Postfix) with ESMTP id 37274488D6 for ; Tue, 7 Oct 2025 16:14:49 +0200 (CEST) Received: from mails.dpdk.org (localhost [127.0.0.1]) by mails.dpdk.org (Postfix) with ESMTP id 312064013F; Tue, 7 Oct 2025 16:14:49 +0200 (CEST) Received: from mail-io1-f99.google.com (mail-io1-f99.google.com [209.85.166.99]) by mails.dpdk.org (Postfix) with ESMTP id CE7D64013F for ; Tue, 7 Oct 2025 16:14:47 +0200 (CEST) Received: by mail-io1-f99.google.com with SMTP id ca18e2360f4ac-912d4135379so249650139f.1 for ; Tue, 07 Oct 2025 07:14:47 -0700 (PDT) DKIM-Signature: v=1; a=rsa-sha256; c=relaxed/relaxed; d=iol.unh.edu; s=unh-iol; t=1759846487; x=1760451287; darn=dpdk.org; h=cc:to:from:subject:message-id:date:from:to:cc:subject:date :message-id:reply-to; bh=NcqZoLTOdTu3DyobBU7tix26gZXAVhqxNjteZiW/uv4=; b=VzoPaS7XxyE6e1Tvc2H282vnEkm0JV/pggKDaXkM/mEZxbWN2yzJ/HYK+sYm6F7vCS GFr3YGQlT3JKg2dcJ8XvD0Uj/VV0A+cVZIQ1xNBAw+7tkIdafClP1EohN4YhKH9nwhFY eN+1tpOM6oXE1VMQSi2JQV7W/JmffMcWdjvcg= X-Google-DKIM-Signature: v=1; a=rsa-sha256; c=relaxed/relaxed; d=1e100.net; s=20230601; t=1759846487; x=1760451287; h=cc:to:from:subject:message-id:date:x-gm-message-state:from:to:cc :subject:date:message-id:reply-to; bh=NcqZoLTOdTu3DyobBU7tix26gZXAVhqxNjteZiW/uv4=; b=mltJ+wenmwrcN9O1vKCQFR8bpg5XChz8lE4GA4RBX5usp5cZxj4nAmPuB4/MoKqAV2 gSHxudoVLoK21+Tr1385TGxgjDj/0pfu/DpjaxB/cI29ln07yFrwAGID2hM3rIcfxQ6e EyrBE8aIjQlvAF4Yo9tAmILB+fo9+IMv3h+YJG1yeciL9EY9NYRS2aGtdjdZcfBSXurZ ZuoAoSKUWuKbEg2h6qfR+22z1ETkdPQxvuhQFR0ZLvr0onboOoj9vNpXS8Ggx0STKd29 wl1OpNIiT+OOBVEk1ntf46vNfzX6W5nyd+VHCCi/h1VyAMel1W/Xtv7mZ8y3pDtALk7P bcNg== X-Gm-Message-State: AOJu0Yz3zjszTT/K5+1+yC4C+6OvuhIr4TY6XBNbDdXAZwajql48PJJm mjUsnKMYC41IysZ+l5Ko5P6PmSV9vHGwwzAUjrnPZBP2Mr+YmTiZaSZ3GeWY709kgK5/ILNj5rS mDva64cF43RHgPSuNa4nIlThCi7Av5dKmuSrC X-Gm-Gg: ASbGncuX3jiwmkqy4kSTtzNvHKhSXW99Q+m7J0khQrQu4JxnB8zeFUiFOSgSqbUP5dC 3hNJWnXvd8ek8loU3WmlU3anpvrs1G+OzcrkxALNwoGGfFJeUluYzlv8NXw/8VM8EbbC0hTEBiq nWtkRzPw+HJos+7ICaNxepLGBDjFD/fzS+oAgamKeSMxgHCp482H+sKUHlGH7Vd2pHCxi2F97C1 DZr/Z5UseQiR0dscAJzgA5UMuO5teG+8yT2AJqeNlOHuMo4Y0Qy71ub+W6W8xLEp2M/iduUkd6F xbhzgpkpN0ZrdZcOSHFzuBw9zYn7Q+eEYykHDEFzJvZF7PXwfsPEYVC5gIzxeDPKXzbFBfxpQmM 82g== X-Google-Smtp-Source: AGHT+IEMhN0pGzcP9q64VRkDLHuHSenThiBGxn3r6am0qmgdfrVuujqzJrjQBa647gTzbDC1nKIPS+7Q8BuV X-Received: by 2002:a05:6e02:3309:b0:42f:866e:f1c3 with SMTP id e9e14a558f8ab-42f866ef3efmr4049045ab.26.1759846486951; Tue, 07 Oct 2025 07:14:46 -0700 (PDT) Received: from postal.iol.unh.edu (postal.iol.unh.edu. [132.177.123.84]) by smtp-relay.gmail.com with ESMTPS id e9e14a558f8ab-42d8b278499sm12439805ab.27.2025.10.07.07.14.46 (version=TLS1_2 cipher=ECDHE-ECDSA-AES128-GCM-SHA256 bits=128/128); Tue, 07 Oct 2025 07:14:46 -0700 (PDT) X-Relaying-Domain: iol.unh.edu Date: Tue, 07 Oct 2025 07:14:46 -0700 (PDT) Message-ID: <68e52056.050a0220.232a4f.55a2SMTPIN_ADDED_MISSING@mx.google.com> Received: from [172.21.0.3] (unknown [172.18.0.240]) by postal.iol.unh.edu (Postfix) with ESMTP id EC02C6050A61; Tue, 7 Oct 2025 10:14:45 -0400 (EDT) Subject: |SUCCESS| [GIT MASTER] 3b43ce3f4a54468e7ef65760c2fd7b4d6ee6d9fc From: dpdklab@iol.unh.edu To: Test Report Cc: dpdk-test-reports@iol.unh.edu, Xueming Li , Christian Ehrhardt , Kevin Traynor , Luca Boccassi Content-Type: text/plain X-BeenThere: test-report@dpdk.org X-Mailman-Version: 2.1.29 Precedence: list List-Id: automatic DPDK test reports List-Unsubscribe: , List-Archive: List-Post: List-Help: List-Subscribe: , Errors-To: test-report-bounces@dpdk.org _Testing PASS_ Branch: tags/v22.11 3b43ce3f4a54468e7ef65760c2fd7b4d6ee6d9fc --> testing pass Upstream job id: Generic-DPDK-Compile-Meson#431768 Test environment and result as below: +-------------------------------+--------------------+-------------------------+----------------------+ | Environment | dpdk_meson_compile | dpdk_llvm_clang_compile | dpdk_mingw64_compile | +===============================+====================+=========================+======================+ | FreeBSD 14.2 | PASS | SKIPPED | SKIPPED | +-------------------------------+--------------------+-------------------------+----------------------+ | Ubuntu 20.04 | PASS | SKIPPED | SKIPPED | +-------------------------------+--------------------+-------------------------+----------------------+ | CentOS Stream 9 | PASS | SKIPPED | SKIPPED | +-------------------------------+--------------------+-------------------------+----------------------+ | CentOS Stream 10 | PASS | SKIPPED | SKIPPED | +-------------------------------+--------------------+-------------------------+----------------------+ | Debian GNU/Linux 12 | PASS | SKIPPED | SKIPPED | +-------------------------------+--------------------+-------------------------+----------------------+ | Fedora Linux 42 | PASS | SKIPPED | SKIPPED | +-------------------------------+--------------------+-------------------------+----------------------+ | openSUSE Leap 15.6 | PASS | SKIPPED | SKIPPED | +-------------------------------+--------------------+-------------------------+----------------------+ | Red Hat Enterprise Linux 8.10 | PASS | SKIPPED | SKIPPED | +-------------------------------+--------------------+-------------------------+----------------------+ | Red Hat Enterprise Linux 9.5 | PASS | SKIPPED | SKIPPED | +-------------------------------+--------------------+-------------------------+----------------------+ | Ubuntu 22.04 | PASS | SKIPPED | SKIPPED | +-------------------------------+--------------------+-------------------------+----------------------+ | Ubuntu 24.04 | PASS | SKIPPED | SKIPPED | +-------------------------------+--------------------+-------------------------+----------------------+ | Windows Server 2022 | SKIPPED | PASS | PASS | +-------------------------------+--------------------+-------------------------+----------------------+ FreeBSD 14.2 Kernel: 14.2-RELEASE Compiler: clang 18.1.6 Ubuntu 20.04 Kernel: 4.19 Compiler: gcc gcc (Ubuntu 9.4.0-1ubuntu1~20.04.2) 9.4.0 CentOS Stream 9 Kernel: 5.15 Compiler: gcc gcc (GCC) 11.5.0 20240719 (Red Hat 11.5.0-11) CentOS Stream 10 Kernel: 5.15 Compiler: gcc gcc (GCC) 14.2.1 20250110 (Red Hat 14.2.1-8) Debian GNU/Linux 12 Kernel: 5.15 Compiler: gcc gcc (Debian 12.2.0-14+deb12u1) 12.2.0 Fedora Linux 42 Kernel: 5.15 Compiler: clang gcc (GCC) 15.2.1 20250808 (Red Hat 15.2.1-1) openSUSE Leap 15.6 Kernel: 5.15 Compiler: gcc gcc (SUSE Linux) 7.5.0 Red Hat Enterprise Linux 8.10 Kernel: 5.15 Compiler: gcc gcc (GCC) 8.5.0 20210514 (Red Hat 8.5.0-22) Red Hat Enterprise Linux 9.5 Kernel: 5.15 Compiler: gcc gcc (GCC) 11.5.0 20240719 (Red Hat 11.5.0-2) Ubuntu 22.04 Kernel: 5.15 Compiler: gcc gcc (Ubuntu 11.4.0-1ubuntu1~22.04) 11.4.0 Ubuntu 24.04 Kernel: 5.15 Compiler: gcc gcc (Ubuntu 13.3.0-6ubuntu2~24.04) 13.3.0 Windows Server 2022 Kernel: 10.0.20348.2031 Compiler: clang 15.0.7, gcc 14.1.0 (MinGW), and MSVC VS 19.39.33521 To view detailed results, visit: https://lab.dpdk.org/results/dashboard/tarballs/35113/ UNH-IOL DPDK Community Lab To manage your email subscriptions, visit: https://lab.dpdk.org/results/dashboard/preferences/subscriptions/