From mboxrd@z Thu Jan 1 00:00:00 1970 Return-Path: Received: from mails.dpdk.org (mails.dpdk.org [217.70.189.124]) by inbox.dpdk.org (Postfix) with ESMTP id 67509488D6 for ; Tue, 7 Oct 2025 16:26:02 +0200 (CEST) Received: from mails.dpdk.org (localhost [127.0.0.1]) by mails.dpdk.org (Postfix) with ESMTP id 38B8D402D1; Tue, 7 Oct 2025 16:26:02 +0200 (CEST) Received: from mail-il1-f227.google.com (mail-il1-f227.google.com [209.85.166.227]) by mails.dpdk.org (Postfix) with ESMTP id A34AF402D1 for ; Tue, 7 Oct 2025 16:26:00 +0200 (CEST) Received: by mail-il1-f227.google.com with SMTP id e9e14a558f8ab-4291359714eso55797485ab.1 for ; Tue, 07 Oct 2025 07:26:00 -0700 (PDT) DKIM-Signature: v=1; a=rsa-sha256; c=relaxed/relaxed; d=iol.unh.edu; s=unh-iol; t=1759847160; x=1760451960; darn=dpdk.org; h=cc:to:from:subject:message-id:date:from:to:cc:subject:date :message-id:reply-to; bh=dHo1JywWKDwCUFNo5u4XH4kGnNKqQie7pFVjPIAfcFs=; b=D4AI+lqhOHcongtd36adRxhRpe6CVuCMxmS1AHApMlndm+yhkxu/fCb4s9rOC3nXUb OsXpj3l5sadLMFM7H8PisYMSJ66m086S6i/+ZrkP50IDhxyDP61bZt/+PhiOnKEDbpzj eM/hmgCOM0FuBE9NHqo8Ousa+iRlYhIKpFhpU= X-Google-DKIM-Signature: v=1; a=rsa-sha256; c=relaxed/relaxed; d=1e100.net; s=20230601; t=1759847160; x=1760451960; h=cc:to:from:subject:message-id:date:x-gm-message-state:from:to:cc :subject:date:message-id:reply-to; bh=dHo1JywWKDwCUFNo5u4XH4kGnNKqQie7pFVjPIAfcFs=; b=oQChmBegaMzoN4OpudS7tOEurXhzHComvejOlP4NUmcgiRehGYFoxPLj3R8KHvGBi7 Rcjo4moahb/1eQlSQm+q6qaaFDIawqnnrAFiHw/n/reKnPLkP2fp8+hjBPkQZUclEcVz CxQqGMF/w4lCzJwOeiLqKD/apAWD08TF7Fyp15W2iQKYPcbk1kNrJEAHj30qeQiBYA0v Djp4ZL8z2B+fSvTk22YISpUwrTli4I/w5P3UORn6bxSNKXrtMGEp/YJ2dU3lAzB40qnc ZnEIUjEmVXOJYD80hNauXgYRXR2J+B7ioBmEkcHSB3Y/1px36vmiChxeULC0QI2Odle/ Hd+g== X-Gm-Message-State: AOJu0Yx9sqk/SYTgi0JXAYNs/1pv8iytYZ5F1hrliyqL0nhgg89OyGXa KnPGEKwe7jMN/Or5COu/4vIGNuJmftovZjNy9YKQtoCNBoYhoGekpq/YbQFj8YSw3zl8eGg2JUB TOB6qZGqVWikRJPeOzefXiONUulnIeVSZlKv4k75VuTltdhrtkhJ3 X-Gm-Gg: ASbGncvywevMVpmYnA4+WOx9TjX8drH8uhZEB+aJ/EVyAXKKrVcIUyFMRd4g/CBdnaN C9WS5yOebj7WHOzN+djhIh/N8+9Ur9DiTH+dg3VM4J95YwUZ9g+w2rn/3omEyAcOwd9aWd2i4f4 ExV41hQWQRrTIYHWLPGSRSeFsUl4SBKGEm3QBwcdYf+SLFt/bwVohYfmZElr6e+KMbhQqKp0xhB pTBBn+QvQaIPo2++g2MLPs5Ue/5sYeWcx42ZeXBbxkwmI2nBMYDglvukIa/aqVFfS3E/18uh92Q 74vpjo6tW1yNpKW3QfmxPcbdoD17d/uEPudmg/9sJUOmAwRVbGhKQLU= X-Google-Smtp-Source: AGHT+IGqQe3ai39gZUuiKfYYjdJFgoiz5wnEg/uEe/MTks6CEBbe6GEibiWckOTvd1F+GESQ5IH2rWFZ8xHQ X-Received: by 2002:a05:6e02:12ef:b0:427:1de5:e10f with SMTP id e9e14a558f8ab-42e7ad9c5e9mr213816215ab.22.1759847159737; Tue, 07 Oct 2025 07:25:59 -0700 (PDT) Received: from postal.iol.unh.edu (postal.iol.unh.edu. [2606:4100:3880:1234::84]) by smtp-relay.gmail.com with ESMTPS id 8926c6da1cb9f-57b5ed65f4esm1295429173.34.2025.10.07.07.25.59 (version=TLS1_2 cipher=ECDHE-ECDSA-AES128-GCM-SHA256 bits=128/128); Tue, 07 Oct 2025 07:25:59 -0700 (PDT) X-Relaying-Domain: iol.unh.edu Date: Tue, 07 Oct 2025 07:25:59 -0700 (PDT) Message-ID: <68e522f7.050a0220.46542.54aaSMTPIN_ADDED_MISSING@mx.google.com> Received: from [172.21.0.2] (unknown [172.18.0.240]) by postal.iol.unh.edu (Postfix) with ESMTP id 4A6056050A61; Tue, 7 Oct 2025 10:25:59 -0400 (EDT) Subject: |WARNING| [GIT MASTER] 62f583c49bf67dd4d6733ece14e55fe6839e66d1 From: dpdklab@iol.unh.edu To: Test Report Cc: dpdk-test-reports@iol.unh.edu, Xueming Li , Christian Ehrhardt , Kevin Traynor , Luca Boccassi Content-Type: text/plain X-BeenThere: test-report@dpdk.org X-Mailman-Version: 2.1.29 Precedence: list List-Id: automatic DPDK test reports List-Unsubscribe: , List-Archive: List-Post: List-Help: List-Subscribe: , Errors-To: test-report-bounces@dpdk.org _Testing issues_ Branch: tags/v23.11 62f583c49bf67dd4d6733ece14e55fe6839e66d1 --> testing issues Upstream job id: Generic-Unit-Test-DPDK#379038 Test environment and result as below: +------------------------------+----------------+------------------------------+---------------------------+--------------+ | Environment | dpdk_unit_test | cryptodev_sw_snow3g_autotest | cryptodev_sw_zuc_autotest | lpm_autotest | +==============================+================+==============================+===========================+==============+ | CentOS Stream 10 | PASS | SKIPPED | SKIPPED | SKIPPED | +------------------------------+----------------+------------------------------+---------------------------+--------------+ | CentOS Stream 9 | PASS | SKIPPED | SKIPPED | SKIPPED | +------------------------------+----------------+------------------------------+---------------------------+--------------+ | Fedora Linux 40 | PASS | SKIPPED | SKIPPED | SKIPPED | +------------------------------+----------------+------------------------------+---------------------------+--------------+ | Debian GNU/Linux 12 | PASS | SKIPPED | SKIPPED | SKIPPED | +------------------------------+----------------+------------------------------+---------------------------+--------------+ | Fedora Linux 42 | PASS | SKIPPED | SKIPPED | SKIPPED | +------------------------------+----------------+------------------------------+---------------------------+--------------+ | Fedora Linux 41 | PASS | SKIPPED | SKIPPED | SKIPPED | +------------------------------+----------------+------------------------------+---------------------------+--------------+ | Red Hat Enterprise Linux 9.5 | PASS | SKIPPED | SKIPPED | SKIPPED | +------------------------------+----------------+------------------------------+---------------------------+--------------+ | Ubuntu 20.04 | PASS | SKIPPED | SKIPPED | PASS | +------------------------------+----------------+------------------------------+---------------------------+--------------+ | Ubuntu 24.04 | PASS | SKIPPED | SKIPPED | SKIPPED | +------------------------------+----------------+------------------------------+---------------------------+--------------+ | Ubuntu 22.04 | PASS | SKIPPED | SKIPPED | SKIPPED | +------------------------------+----------------+------------------------------+---------------------------+--------------+ | Debian 12 (arm) | SKIPPED | PASS | PASS | SKIPPED | +------------------------------+----------------+------------------------------+---------------------------+--------------+ CentOS Stream 10 Kernel: 5.4 Compiler: gcc gcc (GCC) 14.2.1 20250110 (Red Hat 14.2.1-8) CentOS Stream 9 Kernel: 5.4 Compiler: gcc gcc (GCC) 11.5.0 20240719 (Red Hat 11.5.0-11) Fedora Linux 40 Kernel: 5.4 Compiler: gcc gcc (GCC) 14.2.1 20240912 (Red Hat 14.2.1-3) Debian GNU/Linux 12 Kernel: 5.4 Compiler: gcc gcc (Debian 12.2.0-14+deb12u1) 12.2.0 Fedora Linux 42 Kernel: 5.4 Compiler: gcc gcc (GCC) 15.2.1 20250808 (Red Hat 15.2.1-1) Fedora Linux 41 Kernel: 5.4 Compiler: clang gcc (GCC) 14.3.1 20250523 (Red Hat 14.3.1-1) Red Hat Enterprise Linux 9.5 Kernel: 5.4 Compiler: gcc gcc (GCC) 11.5.0 20240719 (Red Hat 11.5.0-2) Ubuntu 20.04 Kernel: 5.4 Compiler: gcc gcc (Ubuntu 9.4.0-1ubuntu1~20.04.2) 9.4.0 Ubuntu 24.04 Kernel: 5.4 Compiler: gcc gcc (Ubuntu 13.3.0-6ubuntu2~24.04) 13.3.0 Ubuntu 22.04 Kernel: 5.15 Compiler: gcc gcc (Ubuntu 11.4.0-1ubuntu1~22.04.2) 11.4.0 Debian 12 (arm) Kernel: Depends on container host Compiler: gcc (Debian 12.2.0-14) 12.2.0 To view detailed results, visit: https://lab.dpdk.org/results/dashboard/tarballs/35125/ UNH-IOL DPDK Community Lab To manage your email subscriptions, visit: https://lab.dpdk.org/results/dashboard/preferences/subscriptions/