From mboxrd@z Thu Jan 1 00:00:00 1970 Return-Path: Received: from mails.dpdk.org (mails.dpdk.org [217.70.189.124]) by inbox.dpdk.org (Postfix) with ESMTP id 59B12488D6 for ; Tue, 7 Oct 2025 16:37:27 +0200 (CEST) Received: from mails.dpdk.org (localhost [127.0.0.1]) by mails.dpdk.org (Postfix) with ESMTP id 36D4F402D1; Tue, 7 Oct 2025 16:37:27 +0200 (CEST) Received: from mail-pf1-f226.google.com (mail-pf1-f226.google.com [209.85.210.226]) by mails.dpdk.org (Postfix) with ESMTP id 7918C402D1 for ; Tue, 7 Oct 2025 16:37:26 +0200 (CEST) Received: by mail-pf1-f226.google.com with SMTP id d2e1a72fcca58-782023ca359so5969381b3a.2 for ; Tue, 07 Oct 2025 07:37:26 -0700 (PDT) DKIM-Signature: v=1; a=rsa-sha256; c=relaxed/relaxed; d=iol.unh.edu; s=unh-iol; t=1759847845; x=1760452645; darn=dpdk.org; h=cc:to:from:subject:message-id:date:from:to:cc:subject:date :message-id:reply-to; bh=xMLovA1RYVdudAl3hI3TnGXWSjmTpdkuOBN19GrdM3o=; b=ADPoTuvtYb9A2AvkEh4SmyMrGWylxgd8hLczdxHPxuULecL30v6geq7wXgRT5V7R18 OvenbDtbhSLtCHUinv3WuoZHqUQtbt+qDjalOFYTOLSo+qgrA0VOV7y7ham4YfvxbasS xEqinftnwR8ba0csANW6g8MGg7FByUNy7MyAA= X-Google-DKIM-Signature: v=1; a=rsa-sha256; c=relaxed/relaxed; d=1e100.net; s=20230601; t=1759847845; x=1760452645; h=cc:to:from:subject:message-id:date:x-gm-message-state:from:to:cc :subject:date:message-id:reply-to; bh=xMLovA1RYVdudAl3hI3TnGXWSjmTpdkuOBN19GrdM3o=; b=m9xT2MCcFuqrqefCEqjWokoiLkdgcduitPdZuNjb+GpaPB5dFy9pBApv+ZnXdPq7cc f4RiarXJJOK/XjrBnSIcg2jPyZCV8soVCT9oobAVpor7IAnxhoRu0FQDA8OIb3/3rjRa zbBPcGV6m/k6eZVLr4Bh635//aIaX4so6u+DEfEju1X0UVqHLnyN4SjcMi7tGAR7t9F4 ATu++rNJDQoQh5mE6QYu9ExnaPVio7jJ8dGiYtefhYWgN0zCZIKP6oCiYJH8PlWGW1MX QcsBd4hFAK9pNDzu5MljTnECt11b7gcr2kZX4v2U9eB6x6/SA54vnqRb/xLaafkIWYgj JrxQ== X-Gm-Message-State: AOJu0Yx6dlV39ZPAMb+ICa5VGUNilsHiUZS+0AY23oQEtRYLC6/+yssV w2dbv6NDm+wL9hMD4cT08jln3Pw6lWkX3wzWG2neIkOSaZojuThrSeaVrhKuNeZa4fGT771EC+G 1JVT/x+GiMDxQurKiGROIoITb2sPVQ8tCTIht5JD8lsOhzXu/m8Ek X-Gm-Gg: ASbGnctjXUYvepyYH3nyrQG0pVcW7b827gR3LTaF+4PDnEOT836aixzHHZv0GNAh8iB +yMV7SlVZWZ6YgkR8d0mKTUTrVkrvvIVLBLKzAeRYTQ1SRHe7mOi4spSkgjv+FyseM1fd9M+NCG OLncKfHL88eRoKTouJyQYeWqmUlVBLj9x8D5HrCotkGIXw7iQKAwYi5tXN3RvQ/H9uynRD+lyam 3+z+CxN4N6XaDpyJ++m1EJcSzCrUv0o/PNUEc2wbN8yJh29jBYnW1QVKjG/SwpAYRlcqmr82hZ9 fzNrpUVUlSilOK38TV9yKxBcbR3+Ht1+9VS7aWeyUTFChBGdwU3YF4A= X-Google-Smtp-Source: AGHT+IFyjEAwCoqsIIs76ewz7iLJNUY5o9OuGTgQWeyo6P8GqIHpuUOCzqq/0RvH1XOULY8UyRYi418SQwMO X-Received: by 2002:a05:6a00:c8a:b0:77f:49da:166f with SMTP id d2e1a72fcca58-78c98cdf021mr19550552b3a.25.1759847845575; Tue, 07 Oct 2025 07:37:25 -0700 (PDT) Received: from postal.iol.unh.edu (postal.iol.unh.edu. [2606:4100:3880:1234::84]) by smtp-relay.gmail.com with ESMTPS id d2e1a72fcca58-78b01f92995sm1024906b3a.3.2025.10.07.07.37.25 (version=TLS1_2 cipher=ECDHE-ECDSA-AES128-GCM-SHA256 bits=128/128); Tue, 07 Oct 2025 07:37:25 -0700 (PDT) X-Relaying-Domain: iol.unh.edu Date: Tue, 07 Oct 2025 07:37:25 -0700 (PDT) Message-ID: <68e525a5.050a0220.1bceb6.879cSMTPIN_ADDED_MISSING@mx.google.com> Received: from [172.21.0.2] (unknown [172.18.0.240]) by postal.iol.unh.edu (Postfix) with ESMTP id C68B6604D420; Tue, 7 Oct 2025 10:37:24 -0400 (EDT) Subject: |SUCCESS| [GIT MASTER] b287e404643aeab5bb5db084c142789df187844e From: dpdklab@iol.unh.edu To: Test Report Cc: dpdk-test-reports@iol.unh.edu, Xueming Li , Christian Ehrhardt , Kevin Traynor , Luca Boccassi Content-Type: text/plain X-BeenThere: test-report@dpdk.org X-Mailman-Version: 2.1.29 Precedence: list List-Id: automatic DPDK test reports List-Unsubscribe: , List-Archive: List-Post: List-Help: List-Subscribe: , Errors-To: test-report-bounces@dpdk.org _Testing PASS_ Branch: tags/v24.11 b287e404643aeab5bb5db084c142789df187844e --> testing pass Upstream job id: Generic-DPDK-Compile-Meson#431788 Test environment and result as below: +-------------------------------+--------------------+-------------------+-------------------------+----------------------+------------------+-------------------+ | Environment | dpdk_meson_compile | dpdk_msvc_compile | dpdk_llvm_clang_compile | dpdk_mingw64_compile | dpdk_compile_ovs | dpdk_compile_spdk | +===============================+====================+===================+=========================+======================+==================+===================+ | Ubuntu 20.04 | PASS | SKIPPED | SKIPPED | SKIPPED | SKIPPED | SKIPPED | +-------------------------------+--------------------+-------------------+-------------------------+----------------------+------------------+-------------------+ | FreeBSD 14.2 | PASS | SKIPPED | SKIPPED | SKIPPED | SKIPPED | SKIPPED | +-------------------------------+--------------------+-------------------+-------------------------+----------------------+------------------+-------------------+ | Ubuntu 24.04 | PASS | SKIPPED | SKIPPED | SKIPPED | PASS | PASS | +-------------------------------+--------------------+-------------------+-------------------------+----------------------+------------------+-------------------+ | CentOS Stream 9 | PASS | SKIPPED | SKIPPED | SKIPPED | SKIPPED | PASS | +-------------------------------+--------------------+-------------------+-------------------------+----------------------+------------------+-------------------+ | CentOS Stream 10 | PASS | SKIPPED | SKIPPED | SKIPPED | SKIPPED | SKIPPED | +-------------------------------+--------------------+-------------------+-------------------------+----------------------+------------------+-------------------+ | Debian GNU/Linux 12 | PASS | SKIPPED | SKIPPED | SKIPPED | SKIPPED | PASS | +-------------------------------+--------------------+-------------------+-------------------------+----------------------+------------------+-------------------+ | Fedora Linux 42 | PASS | SKIPPED | SKIPPED | SKIPPED | PASS | PASS | +-------------------------------+--------------------+-------------------+-------------------------+----------------------+------------------+-------------------+ | openSUSE Leap 15.6 | PASS | SKIPPED | SKIPPED | SKIPPED | SKIPPED | SKIPPED | +-------------------------------+--------------------+-------------------+-------------------------+----------------------+------------------+-------------------+ | Red Hat Enterprise Linux 8.10 | PASS | SKIPPED | SKIPPED | SKIPPED | SKIPPED | SKIPPED | +-------------------------------+--------------------+-------------------+-------------------------+----------------------+------------------+-------------------+ | Red Hat Enterprise Linux 9.5 | PASS | SKIPPED | SKIPPED | SKIPPED | SKIPPED | SKIPPED | +-------------------------------+--------------------+-------------------+-------------------------+----------------------+------------------+-------------------+ | Ubuntu 22.04 | PASS | SKIPPED | SKIPPED | SKIPPED | SKIPPED | PASS | +-------------------------------+--------------------+-------------------+-------------------------+----------------------+------------------+-------------------+ | Alpine Linux 3.22.0 | PASS | SKIPPED | SKIPPED | SKIPPED | SKIPPED | SKIPPED | +-------------------------------+--------------------+-------------------+-------------------------+----------------------+------------------+-------------------+ | Windows Server 2022 | SKIPPED | PASS | PASS | PASS | SKIPPED | SKIPPED | +-------------------------------+--------------------+-------------------+-------------------------+----------------------+------------------+-------------------+ Ubuntu 20.04 Kernel: 4.19 Compiler: gcc gcc (Ubuntu 9.4.0-1ubuntu1~20.04.2) 9.4.0 FreeBSD 14.2 Kernel: 14.2-RELEASE Compiler: clang 18.1.6 Ubuntu 24.04 Kernel: 5.15 Compiler: gcc gcc (Ubuntu 13.3.0-6ubuntu2~24.04) 13.3.0 CentOS Stream 9 Kernel: 5.15 Compiler: gcc gcc (GCC) 11.5.0 20240719 (Red Hat 11.5.0-11) CentOS Stream 10 Kernel: 5.15 Compiler: gcc gcc (GCC) 14.2.1 20250110 (Red Hat 14.2.1-8) Debian GNU/Linux 12 Kernel: 5.15 Compiler: gcc gcc (Debian 12.2.0-14+deb12u1) 12.2.0 Fedora Linux 42 Kernel: 5.15 Compiler: clang gcc (GCC) 15.2.1 20250808 (Red Hat 15.2.1-1) openSUSE Leap 15.6 Kernel: 5.15 Compiler: gcc gcc (SUSE Linux) 7.5.0 Red Hat Enterprise Linux 8.10 Kernel: 5.15 Compiler: gcc gcc (GCC) 8.5.0 20210514 (Red Hat 8.5.0-22) Red Hat Enterprise Linux 9.5 Kernel: 5.15 Compiler: gcc gcc (GCC) 11.5.0 20240719 (Red Hat 11.5.0-2) Ubuntu 22.04 Kernel: 5.15 Compiler: gcc gcc (Ubuntu 11.4.0-1ubuntu1~22.04) 11.4.0 Alpine Linux 3.22.0 Kernel: 5.15 Compiler: gcc gcc (Alpine 14.2.0) 14.2.0 Windows Server 2022 Kernel: 10.0.20348.2031 Compiler: clang 15.0.7, gcc 14.1.0 (MinGW), and MSVC VS 19.39.33521 To view detailed results, visit: https://lab.dpdk.org/results/dashboard/tarballs/35115/ UNH-IOL DPDK Community Lab To manage your email subscriptions, visit: https://lab.dpdk.org/results/dashboard/preferences/subscriptions/