From mboxrd@z Thu Jan 1 00:00:00 1970 Return-Path: Received: from mails.dpdk.org (mails.dpdk.org [217.70.189.124]) by inbox.dpdk.org (Postfix) with ESMTP id C5A8A488D0 for ; Tue, 7 Oct 2025 17:38:19 +0200 (CEST) Received: from mails.dpdk.org (localhost [127.0.0.1]) by mails.dpdk.org (Postfix) with ESMTP id C1C3D40261; Tue, 7 Oct 2025 17:38:19 +0200 (CEST) Received: from mail-vk1-f228.google.com (mail-vk1-f228.google.com [209.85.221.228]) by mails.dpdk.org (Postfix) with ESMTP id 0303940261 for ; Tue, 7 Oct 2025 17:38:19 +0200 (CEST) Received: by mail-vk1-f228.google.com with SMTP id 71dfb90a1353d-54bc6f33513so4385480e0c.2 for ; Tue, 07 Oct 2025 08:38:18 -0700 (PDT) DKIM-Signature: v=1; a=rsa-sha256; c=relaxed/relaxed; d=iol.unh.edu; s=unh-iol; t=1759851498; x=1760456298; darn=dpdk.org; h=references:in-reply-to:cc:to:from:subject:message-id:date:from:to :cc:subject:date:message-id:reply-to; bh=28AC2jYWcYOHoOOB+LrRXRqJj+01RW5cgTbDYcJRdDc=; b=VOep2zUafDebOafv6QVtX6fAHfMnsMBtuSKwVHKSkZHhxk9w4URQc4L8x8KfbeG1BS keyHyVFi2AXI079fbQFxPL3cRzTFWpMXW57IsWAR5fVoPUFMiUdzX4nhtVDGiUEyQNKl mawrJIT9ZzEI1SZt5Fif3X5ibmVCu1wqb8ovI= X-Google-DKIM-Signature: v=1; a=rsa-sha256; c=relaxed/relaxed; d=1e100.net; s=20230601; t=1759851498; x=1760456298; h=references:in-reply-to:cc:to:from:subject:message-id:date :x-gm-message-state:from:to:cc:subject:date:message-id:reply-to; bh=28AC2jYWcYOHoOOB+LrRXRqJj+01RW5cgTbDYcJRdDc=; b=Z/i3HrFCDIM6bnBRneaMigXZbxo+hZ7VgmmW63L1gISU0q6EqkJ/p/KJ3wwVXJOvF2 Ga6LomCyITI6OvM0J8vAbSsE+5qE/aEJ29yRq860rsKN6pr9ZJtge3XM8/tkIHsJSG9P aCm/5LNurH9/uXAEjRdAhr1JNpkH+uhKihF1bjvf1ZsiYvIABbpJDySmyBsM/FVxwa2G M/o6UT4h69p7zhI0t8u801HLRn9LJRin8FRcqkOSD8JTeycr1U/NggPWdiXos7YGus+A Giczje9eCzfsSrFxaPrRGJJR+4PAj7uxsaVC3AHgyYrkKfb61aCol0oDYP8qeolM3BkW YbGQ== X-Gm-Message-State: AOJu0Yx01zsGWpn3gXbKUbfUe1FD9+rWHmvPHJv+6ib+VyJbDzVg0Urk upfhDkpuaScMKWm8rBIIGzXleJl7Fb0GRcbcmYcv9CAg9ZtLIIPBfNJzDjHedDGvxr/b2qn5R1/ bIw9g9kTYZZZL5DnpRHqIQM3K0WaSkUqyjdn0VSljeBWv X-Gm-Gg: ASbGnct102//FbSrCuRe0YR8l5J8IJHdU7D+rMdEXn4b4+mOd4wcj8KdJbBHzkaoW7+ q5PM+Kz8nuYRV/9o23kIc8tgna5e3aQTax0HwXmvVDymIo5m/nTjxftEQryU/EGflbZkx8MlfJj KnBXuAkoC/wUpIYFKUo24PqArOnCBtpzELhPGtnadrU63qrX7ys/ihr9bhA8/3uAdj5DyR46QID 33TRHhxPkC2AESs/bHcrDtevaVXiv771cCBhvj08lGxqsbMsTYAnWO+6teBdmS2pjBzJPU/Oo9+ QpfFwJT/SxQTi3VoOCO7llJJjlqQwRpbB9wJNXAbLD+M12wHlCmI9Bua/XE4Fc4f8Bn5MHFCgra n/A== X-Google-Smtp-Source: AGHT+IGcq20RFgSt/uOX3cSLceJpnEtre8QltRgKp4P3hO/BBc+C0AaZvfx24E6AGP54KFdb6zJwgtEvJXdU X-Received: by 2002:a05:6122:220e:b0:530:7ab8:49ab with SMTP id 71dfb90a1353d-5524e424a07mr6478746e0c.0.1759851498361; Tue, 07 Oct 2025 08:38:18 -0700 (PDT) Received: from postal.iol.unh.edu (postal.iol.unh.edu. [132.177.123.84]) by smtp-relay.gmail.com with ESMTPS id 71dfb90a1353d-5523d031ffbsm1671718e0c.5.2025.10.07.08.38.18 (version=TLS1_2 cipher=ECDHE-ECDSA-AES128-GCM-SHA256 bits=128/128); Tue, 07 Oct 2025 08:38:18 -0700 (PDT) X-Relaying-Domain: iol.unh.edu Date: Tue, 07 Oct 2025 08:38:18 -0700 (PDT) Message-ID: <68e533ea.050a0220.34a713.a7c2SMTPIN_ADDED_MISSING@mx.google.com> Received: from [172.21.0.2] (unknown [172.18.0.240]) by postal.iol.unh.edu (Postfix) with ESMTP id 155D66050A61; Tue, 7 Oct 2025 11:38:18 -0400 (EDT) Subject: |SUCCESS| pw157312 [PATCH] [v2] net/virtio-user: fix used ring addre From: dpdklab@iol.unh.edu To: Test Report Cc: dpdk-test-reports@iol.unh.edu, Chenbo Xia , Maxime Coquelin In-Reply-To: <20251007144754.1690606-1-maxime.coquelin@redhat.com> References: <20251007144754.1690606-1-maxime.coquelin@redhat.com> Content-Type: text/plain X-BeenThere: test-report@dpdk.org X-Mailman-Version: 2.1.29 Precedence: list List-Id: automatic DPDK test reports List-Unsubscribe: , List-Archive: List-Post: List-Help: List-Subscribe: , Errors-To: test-report-bounces@dpdk.org Test-Label: iol-compile-amd64-testing Test-Status: SUCCESS http://dpdk.org/patch/157312 _Testing PASS_ Submitter: Maxime Coquelin Date: Tuesday, October 07 2025 14:47:54 DPDK git baseline: Repo:dpdk-next-virtio Branch: master CommitID:4159ea62922ce41566c7bab44655ad78bee85458 157312 --> testing pass Upstream job id: Windows-Compile-DPDK-Native#31467 Test environment and result as below: +---------------------+--------------------+-------------------+-------------------------+ | Environment | dpdk_meson_compile | dpdk_msvc_compile | dpdk_llvm_clang_compile | +=====================+====================+===================+=========================+ | FreeBSD 14.2 | PASS | SKIPPED | SKIPPED | +---------------------+--------------------+-------------------+-------------------------+ | Ubuntu 20.04 | PASS | SKIPPED | SKIPPED | +---------------------+--------------------+-------------------+-------------------------+ | Windows Server 2022 | SKIPPED | PASS | PASS | +---------------------+--------------------+-------------------+-------------------------+ FreeBSD 14.2 Kernel: 14.2-RELEASE Compiler: clang 18.1.6 Ubuntu 20.04 Kernel: 4.19 Compiler: gcc gcc (Ubuntu 9.4.0-1ubuntu1~20.04.2) 9.4.0 Windows Server 2022 Kernel: 10.0.20348.2031 Compiler: clang 15.0.7, gcc 14.1.0 (MinGW), and MSVC VS 19.39.33521 To view detailed results, visit: https://lab.dpdk.org/results/dashboard/patchsets/34229/ UNH-IOL DPDK Community Lab To manage your email subscriptions, visit: https://lab.dpdk.org/results/dashboard/preferences/subscriptions/