From mboxrd@z Thu Jan 1 00:00:00 1970 Return-Path: Received: from mails.dpdk.org (mails.dpdk.org [217.70.189.124]) by inbox.dpdk.org (Postfix) with ESMTP id 37F19488D6 for ; Tue, 7 Oct 2025 17:52:20 +0200 (CEST) Received: from mails.dpdk.org (localhost [127.0.0.1]) by mails.dpdk.org (Postfix) with ESMTP id 19FE340261; Tue, 7 Oct 2025 17:52:20 +0200 (CEST) Received: from mail-vk1-f228.google.com (mail-vk1-f228.google.com [209.85.221.228]) by mails.dpdk.org (Postfix) with ESMTP id 88B6040261 for ; Tue, 7 Oct 2025 17:52:18 +0200 (CEST) Received: by mail-vk1-f228.google.com with SMTP id 71dfb90a1353d-5521c99636cso2217084e0c.3 for ; Tue, 07 Oct 2025 08:52:18 -0700 (PDT) DKIM-Signature: v=1; a=rsa-sha256; c=relaxed/relaxed; d=iol.unh.edu; s=unh-iol; t=1759852338; x=1760457138; darn=dpdk.org; h=references:in-reply-to:cc:to:from:subject:message-id:date:from:to :cc:subject:date:message-id:reply-to; bh=3PnchDmjXNEoJqYlhky2Ll27HPtafmcd+v0eVyUoMqw=; b=XvVI4FElsAQr1RkXn37onRISpEEdlgwK+pfCga/CAMZHjpgiz/aTV2QyuemHKLdjFr +ZpZ9ni0NiffPeAeKQ6c7PvcqJVd4ic1KT5C5maw0qolrM/xpsnh4i9xA/f6oshhs4JZ 5PQoeiwMQLiuiyUYo9VTdmBYU22EOB/ALrja4= X-Google-DKIM-Signature: v=1; a=rsa-sha256; c=relaxed/relaxed; d=1e100.net; s=20230601; t=1759852338; x=1760457138; h=references:in-reply-to:cc:to:from:subject:message-id:date :x-gm-message-state:from:to:cc:subject:date:message-id:reply-to; bh=3PnchDmjXNEoJqYlhky2Ll27HPtafmcd+v0eVyUoMqw=; b=M2gbCgoqinHPsRzzTPjD2iMw+waHUwH0z+0U4TYXb+GZ2DAn5m02nQdjG3oHA7jro5 owWEsyoIfHgNY6TTc4g5XnsZ+stOvX5kzr6AXTGB07PibyH7eQHsezLFU1KLQ05hvKvJ bEa5G2JaFtnuTAoSj62nAnSBXC7SiNcuAxpWnwpKt+s/+ZKlxSOJC7xmgZpkYczZy+Dk xQe/D9jrBs5B9UWtTGHkwmMn0mGJc5E3xiANR8Vw9JY5eYg+1ND4pSVIGLULquctOrJr yuFRIDiZS1DsSEfiRg/1IVB+raccotn/Cefz2mtTWXQmFuhiDEiXlKK55CkA+4pOe0/d 8o3A== X-Gm-Message-State: AOJu0YwUTVL31xKvnw6r9AG8RbX9EkEnG74WRX/gmMHl0ZJR+zvMWGlV IpSPBqEeXLkyML6910iA4sbG5+6b3alUzwFSOGkpOry+mv/jjbDd46qiDi1zw/88dlS5f2pj6eW JWcR9lby/kxZtwzZtpvQtziE/eVoT9EEzjUbvR6C4GAky+iKoQfpzEh4pHoL7 X-Gm-Gg: ASbGncu9NX5fih+vy4UwKjjddHHyu5bDjZQJ5MFnG7qa9vbrUJNvTcyiVZuD5DN81Om J8mF6/HO+IHctuV6qi1WcBMH29rHrlwq99bcua4SDVtgxb8Cw2A7sqpczKqgqbLIbCu6DRbfm44 AMq/fK6Zy67agtNG7rRZXG1Gvgc7vD72LbLk+DmOfQNZkJdArZGnh4Bj0+jsCXYAmWnKkJWfBB3 JbC49kPuNids3DeTKI9niVNyay65gPbqD+zkUu2NzzEWWGMRjsfB9eZGXfC0pYusGHqYTJZBC2R YFECM/BIoq4d5+aLKWx25YkuIgc9Q/5pEWwjfp7cUE4/yg1kUlHdp1c= X-Google-Smtp-Source: AGHT+IFaasnZegm/6krnKHsbDfw+j8rPuYlvqJuRVejs1EJUEJ/7lCCEE50S/cOQft6ynFpN/uvMu4vzzjWU X-Received: by 2002:a67:e7ca:0:b0:4e5:980a:d164 with SMTP id ada2fe7eead31-5d41cdf4a3bmr6500459137.0.1759852337720; Tue, 07 Oct 2025 08:52:17 -0700 (PDT) Received: from postal.iol.unh.edu (postal.iol.unh.edu. [2606:4100:3880:1234::84]) by smtp-relay.gmail.com with ESMTPS id ada2fe7eead31-5d5d39db9ccsm360503137.5.2025.10.07.08.52.17 (version=TLS1_2 cipher=ECDHE-ECDSA-AES128-GCM-SHA256 bits=128/128); Tue, 07 Oct 2025 08:52:17 -0700 (PDT) X-Relaying-Domain: iol.unh.edu Date: Tue, 07 Oct 2025 08:52:17 -0700 (PDT) Message-ID: <68e53731.050a0220.325403.401fSMTPIN_ADDED_MISSING@mx.google.com> Received: from [172.21.0.2] (unknown [172.18.0.240]) by postal.iol.unh.edu (Postfix) with ESMTP id 670E56051830; Tue, 7 Oct 2025 11:52:17 -0400 (EDT) Subject: |SUCCESS| pw157303 [PATCH] net/idpf: correct the enum constant name From: dpdklab@iol.unh.edu To: Test Report Cc: dpdk-test-reports@iol.unh.edu, Bruce Richardson In-Reply-To: <20251007040436.2924355-1-shaiq.wani@intel.com> References: <20251007040436.2924355-1-shaiq.wani@intel.com> Content-Type: text/plain X-BeenThere: test-report@dpdk.org X-Mailman-Version: 2.1.29 Precedence: list List-Id: automatic DPDK test reports List-Unsubscribe: , List-Archive: List-Post: List-Help: List-Subscribe: , Errors-To: test-report-bounces@dpdk.org Test-Label: iol-unit-arm64-testing Test-Status: SUCCESS http://dpdk.org/patch/157303 _Testing PASS_ Submitter: Shaiq Wani Date: Tuesday, October 07 2025 04:04:36 DPDK git baseline: Repo:dpdk-next-net-intel Branch: master CommitID:e7d8cc7ef4df3552575525697079d3c957cfcdaf 157303 --> testing pass Upstream job id: Generic-Unit-Test-DPDK#379073 Test environment and result as below: +------------------------------+--------------+----------------+------------------------------+---------------------------+ | Environment | lpm_autotest | dpdk_unit_test | cryptodev_sw_snow3g_autotest | cryptodev_sw_zuc_autotest | +==============================+==============+================+==============================+===========================+ | Ubuntu 20.04 | PASS | PASS | SKIPPED | SKIPPED | +------------------------------+--------------+----------------+------------------------------+---------------------------+ | CentOS Stream 10 | SKIPPED | PASS | SKIPPED | SKIPPED | +------------------------------+--------------+----------------+------------------------------+---------------------------+ | CentOS Stream 9 | SKIPPED | PASS | SKIPPED | SKIPPED | +------------------------------+--------------+----------------+------------------------------+---------------------------+ | Debian GNU/Linux 12 | SKIPPED | PASS | SKIPPED | SKIPPED | +------------------------------+--------------+----------------+------------------------------+---------------------------+ | Fedora Linux 40 | SKIPPED | PASS | SKIPPED | SKIPPED | +------------------------------+--------------+----------------+------------------------------+---------------------------+ | Fedora Linux 41 | SKIPPED | PASS | SKIPPED | SKIPPED | +------------------------------+--------------+----------------+------------------------------+---------------------------+ | Red Hat Enterprise Linux 9.5 | SKIPPED | PASS | SKIPPED | SKIPPED | +------------------------------+--------------+----------------+------------------------------+---------------------------+ | Fedora Linux 42 | SKIPPED | PASS | SKIPPED | SKIPPED | +------------------------------+--------------+----------------+------------------------------+---------------------------+ | Ubuntu 24.04 | SKIPPED | PASS | SKIPPED | SKIPPED | +------------------------------+--------------+----------------+------------------------------+---------------------------+ | Ubuntu 22.04 | SKIPPED | PASS | SKIPPED | SKIPPED | +------------------------------+--------------+----------------+------------------------------+---------------------------+ | Debian 12 (arm) | SKIPPED | SKIPPED | PASS | PASS | +------------------------------+--------------+----------------+------------------------------+---------------------------+ Ubuntu 20.04 Kernel: 5.4 Compiler: gcc gcc (Ubuntu 9.4.0-1ubuntu1~20.04.2) 9.4.0 CentOS Stream 10 Kernel: 5.4 Compiler: gcc gcc (GCC) 14.2.1 20250110 (Red Hat 14.2.1-8) CentOS Stream 9 Kernel: 5.4 Compiler: gcc gcc (GCC) 11.5.0 20240719 (Red Hat 11.5.0-11) Debian GNU/Linux 12 Kernel: 5.4 Compiler: gcc gcc (Debian 12.2.0-14+deb12u1) 12.2.0 Fedora Linux 40 Kernel: 5.4 Compiler: clang gcc (GCC) 14.2.1 20240912 (Red Hat 14.2.1-3) Fedora Linux 41 Kernel: 5.4 Compiler: gcc gcc (GCC) 14.3.1 20250523 (Red Hat 14.3.1-1) Red Hat Enterprise Linux 9.5 Kernel: 5.4 Compiler: gcc gcc (GCC) 11.5.0 20240719 (Red Hat 11.5.0-2) Fedora Linux 42 Kernel: 5.4 Compiler: clang gcc (GCC) 15.2.1 20250808 (Red Hat 15.2.1-1) Ubuntu 24.04 Kernel: 5.4 Compiler: gcc gcc (Ubuntu 13.3.0-6ubuntu2~24.04) 13.3.0 Ubuntu 22.04 Kernel: 5.4 Compiler: gcc gcc (Ubuntu 11.4.0-1ubuntu1~22.04) 11.4.0 Debian 12 (arm) Kernel: Depends on container host Compiler: gcc (Debian 12.2.0-14) 12.2.0 To view detailed results, visit: https://lab.dpdk.org/results/dashboard/patchsets/34225/ UNH-IOL DPDK Community Lab To manage your email subscriptions, visit: https://lab.dpdk.org/results/dashboard/preferences/subscriptions/