From mboxrd@z Thu Jan 1 00:00:00 1970 Return-Path: Received: from mails.dpdk.org (mails.dpdk.org [217.70.189.124]) by inbox.dpdk.org (Postfix) with ESMTP id 55428488D7 for ; Tue, 7 Oct 2025 18:04:00 +0200 (CEST) Received: from mails.dpdk.org (localhost [127.0.0.1]) by mails.dpdk.org (Postfix) with ESMTP id 4C9C6402D1; Tue, 7 Oct 2025 18:04:00 +0200 (CEST) Received: from mail-pf1-f226.google.com (mail-pf1-f226.google.com [209.85.210.226]) by mails.dpdk.org (Postfix) with ESMTP id BA499402D1 for ; Tue, 7 Oct 2025 18:03:58 +0200 (CEST) Received: by mail-pf1-f226.google.com with SMTP id d2e1a72fcca58-77f1f29a551so8209497b3a.3 for ; Tue, 07 Oct 2025 09:03:58 -0700 (PDT) DKIM-Signature: v=1; a=rsa-sha256; c=relaxed/relaxed; d=iol.unh.edu; s=unh-iol; t=1759853038; x=1760457838; darn=dpdk.org; h=references:in-reply-to:cc:to:from:subject:message-id:date:from:to :cc:subject:date:message-id:reply-to; bh=zQkNuyhk7L+f2qvL3R/VnwVG+BlFr5brSgavj2dNwss=; b=V0YB66QJTDxv7OVIZGriCOjq7iTeQ9q8fBAuvHYwuZx5z0cb2Cq0aV6TXXa4LnGu/+ AgctXbuFBi6ND9denaFpvANuEG1Ph5D7RjQFahgVxW3QKy7qe43fknOSGK8D/K6wrGvu +IRoLMOXf8I9OkVMk/iySASoFlvF0FK++yY5s= X-Google-DKIM-Signature: v=1; a=rsa-sha256; c=relaxed/relaxed; d=1e100.net; s=20230601; t=1759853038; x=1760457838; h=references:in-reply-to:cc:to:from:subject:message-id:date :x-gm-message-state:from:to:cc:subject:date:message-id:reply-to; bh=zQkNuyhk7L+f2qvL3R/VnwVG+BlFr5brSgavj2dNwss=; b=aQOj6Lrum1Xs6rzzaETAVvd2jvhxqDEuYst4BisRkxfa32+hfNia/S5K1KzJDVdX+b 2zAUEbmhXT0dd6dWFiV45nAVcdyCzyfjmVnhet9/ZC9gFmLHq1uzSoC//BLrkt0R6vKJ 5HcCdikS1+K4vSGjgRauknAAv1++qcKpKaIb2P4JGE8RIEOzt5fSkd2v5q099n3aTsow u00tSe/BwXfDr0MCTZMn+8qGuDkpg1vTRCmbX6SLhUp2wWS95mPBJlk+KPNWqW++cGXx A05Xn+rXpvFMaz7VZZU7VmIxTetllvVfbWLTvUKUvmKJw8XSzl+wQzXJegZsx3Hj9r+Q 3I0Q== X-Gm-Message-State: AOJu0YyBVMVtdjt9knx/zTeT7ZsL0F77l40ng8CMSFZ4u0LjNk8tpJOg pGrIBA1F75uEWthB5C1Agb5CryfgQ5hqSKUU48AMGlKuE50zwvrMzpBX4qgggT9j06snOCy1O/d TH+MW46v+nXkCvdv6/3g6F1GDt3YFmDIGqiGTDe+r8OMH X-Gm-Gg: ASbGnctkAxyKfdFmrBc0v0eSvVv42V+aZ2Rlel/qQXEt4WtC8BqjRCbdO1xRBBkz6xB DyZU4fLyjzBPrjMma0qHA3R5QC/gxt2TEb49qwKC/IFrSlyO2oIp2HrwNDctbdYeFHK35kS6Csm UbERTKZV+yP6rVtHa5znWUnDH+BQ/Ta5lUklr5tKWGq+KYxvQeLbKlcerRsPwr3lKKDS+kjnQVK FnzjuqrNd6Ang7QMXXziM0h31/9LLPIhoQt/liCXBrXpss7mvP67dL9nus4t9tBhwVy9pTvf4F/ IXNjmoyRLHropsLF96s7xmHBw9Zrg76NbjaR7/WSTaK9q23Fdm9rh7LogHUk8NI6TqY2UWJYngD bLQ== X-Google-Smtp-Source: AGHT+IF2mUlzk6nKKLv9R6p0yCHXJDiT9FlPJvJe7v3Ms7ztnHRvmtJiaGT3kHNNgJ64QBG1uvqRhVNLMU8x X-Received: by 2002:a17:903:1b4d:b0:28e:9a74:7b58 with SMTP id d9443c01a7336-290273ecbb7mr2710285ad.31.1759853037643; Tue, 07 Oct 2025 09:03:57 -0700 (PDT) Received: from postal.iol.unh.edu (postal.iol.unh.edu. [132.177.123.84]) by smtp-relay.gmail.com with ESMTPS id 98e67ed59e1d1-33b510e1598sm2872a91.2.2025.10.07.09.03.57 (version=TLS1_2 cipher=ECDHE-ECDSA-AES128-GCM-SHA256 bits=128/128); Tue, 07 Oct 2025 09:03:57 -0700 (PDT) X-Relaying-Domain: iol.unh.edu Date: Tue, 07 Oct 2025 09:03:57 -0700 (PDT) Message-ID: <68e539ed.170a0220.d1039.0260SMTPIN_ADDED_MISSING@mx.google.com> Received: from [172.21.0.2] (unknown [172.18.0.240]) by postal.iol.unh.edu (Postfix) with ESMTP id E447F6050A61; Tue, 7 Oct 2025 12:03:55 -0400 (EDT) Subject: |SUCCESS| pw157261-157263 [PATCH] [v5,3/3] net/ice: add PFC statisti From: dpdklab@iol.unh.edu To: Test Report Cc: dpdk-test-reports@iol.unh.edu, Bruce Richardson In-Reply-To: <20251003124037.342760-4-vladimir.medvedkin@intel.com> References: <20251003124037.342760-4-vladimir.medvedkin@intel.com> Content-Type: text/plain X-BeenThere: test-report@dpdk.org X-Mailman-Version: 2.1.29 Precedence: list List-Id: automatic DPDK test reports List-Unsubscribe: , List-Archive: List-Post: List-Help: List-Subscribe: , Errors-To: test-report-bounces@dpdk.org Test-Label: iol-compile-amd64-testing Test-Status: SUCCESS http://dpdk.org/patch/157263 _Testing PASS RETEST #1_ Submitter: Medvedkin, Vladimir Date: Friday, October 03 2025 12:40:37 DPDK git baseline: Repo:dpdk-next-net-intel Branch: master CommitID:e7d8cc7ef4df3552575525697079d3c957cfcdaf 157261-157263 --> testing pass Upstream job id: Windows-Compile-DPDK-VS#7126 Test environment and result as below: +---------------------+--------------------+-------------------+ | Environment | dpdk_meson_compile | dpdk_msvc_compile | +=====================+====================+===================+ | Ubuntu 20.04 | PASS | SKIPPED | +---------------------+--------------------+-------------------+ | FreeBSD 14.2 | PASS | SKIPPED | +---------------------+--------------------+-------------------+ | Windows Server 2022 | SKIPPED | PASS | +---------------------+--------------------+-------------------+ Ubuntu 20.04 Kernel: 4.19 Compiler: gcc gcc (Ubuntu 9.4.0-1ubuntu1~20.04.2) 9.4.0 FreeBSD 14.2 Kernel: 14.2-RELEASE Compiler: clang 18.1.6 Windows Server 2022 Kernel: 10.0.20348.2031 Compiler: clang 15.0.7, gcc 14.1.0 (MinGW), and MSVC VS 19.39.33521 To view detailed results, visit: https://lab.dpdk.org/results/dashboard/patchsets/34210/ UNH-IOL DPDK Community Lab To manage your email subscriptions, visit: https://lab.dpdk.org/results/dashboard/preferences/subscriptions/