From mboxrd@z Thu Jan 1 00:00:00 1970 Return-Path: Received: from mails.dpdk.org (mails.dpdk.org [217.70.189.124]) by inbox.dpdk.org (Postfix) with ESMTP id 6F6AC488D7 for ; Tue, 7 Oct 2025 18:04:53 +0200 (CEST) Received: from mails.dpdk.org (localhost [127.0.0.1]) by mails.dpdk.org (Postfix) with ESMTP id 6979B402D1; Tue, 7 Oct 2025 18:04:53 +0200 (CEST) Received: from mail-pl1-f227.google.com (mail-pl1-f227.google.com [209.85.214.227]) by mails.dpdk.org (Postfix) with ESMTP id 95EB2402D1 for ; Tue, 7 Oct 2025 18:04:52 +0200 (CEST) Received: by mail-pl1-f227.google.com with SMTP id d9443c01a7336-2680cf68265so47556035ad.2 for ; Tue, 07 Oct 2025 09:04:52 -0700 (PDT) DKIM-Signature: v=1; a=rsa-sha256; c=relaxed/relaxed; d=iol.unh.edu; s=unh-iol; t=1759853092; x=1760457892; darn=dpdk.org; h=references:in-reply-to:cc:to:from:subject:message-id:date:from:to :cc:subject:date:message-id:reply-to; bh=QMVXjsd4yqaQhKFg5A52bXBD5bAHa50LOVz5SEvuYbM=; b=fFujLIWn/8LiNCRepWXXd17jJOFO06FGyjdK2xY9MIJCNE9SlOfkvazVZnf2M6cl12 zDFEfoGZ4JmtvJ7oJ9rUF8lqJvhM384yoXco29iJSTUbEGwlUGqgrRt0Vua6m5ATh1PE H10cYgpH2oZSdaR2Z0TNhntQC7o4Uc9+Ej9yA= X-Google-DKIM-Signature: v=1; a=rsa-sha256; c=relaxed/relaxed; d=1e100.net; s=20230601; t=1759853092; x=1760457892; h=references:in-reply-to:cc:to:from:subject:message-id:date :x-gm-message-state:from:to:cc:subject:date:message-id:reply-to; bh=QMVXjsd4yqaQhKFg5A52bXBD5bAHa50LOVz5SEvuYbM=; b=OY4J0ibsrGephvQInwyYN61Ry0Y67ZEjbwcIdAIaYbsF3Uhfvu8vifACTbIalO8dI/ nwA28E0Mhm/tbHU4uIh1oEwpdKEZphe/O/CZrMB8qj9JlzTm+xmizftnErk/6f/3Bt61 vgJWRltMDQ6TetkTTGG2Gg24j5r2o5eGRbfOW/gEsq7E6o7F1Q6QGusimX+/rfo+UYmY ZocGgMVX7zR56x2ilALRdisoU7BW6NKPSIxRpaIqyPQ50829wQk9BOVhGEIO7Jai4eNo YY3LfJTIeLjhrx1Mxu31OMLrnfBc21Y8va+cO1bFdKahRg/OwhJnryStTBlUY7rWtWLV gfXA== X-Gm-Message-State: AOJu0Yyjm4lMKemGv4ZdrG5KGg7rRYU6dSt4OGbjQmhoi8AfEcmL+pgR l9z3ycPoVFhzufoVx84Ctp+5oF6i9g+EGzinEkdevdiFs9D7mB6DakVCB8OEFj4AgpekeitnpWZ wAq7NDyKxAgWli3CPerv6HB8IF2eqBPp0NOmQpqXzWiKM6VlMD/iLYJwAu7Qx X-Gm-Gg: ASbGnctybMAVZS9aBQTD4HHCoCwTj4ulSgteXFNaVZJe9AIb79QbTE42UJa+ZSvi3+N xJn1gMUkQMNfFHYD7RFa+gZFMrDsY+IE8umatZvWOW7HqUEIQ8H07BOM/zS67618Fxvtq0aev3S UjKX42gjUCJ/VbVM5ZJT3uRDqkSxD7Dli1RRQbu83IXXJ3MJXmwIMVHJ8zsavSr0us3EOP+bkc2 gDZ71q2fHeyax9SyohNwyHe4uLqVJvPyyh2WozPYWQ4rjvbo9jrne6ErkStThSbVnpZcLUaFe9j 8sBh0lPsWPSSWQfel9fObfHqg3FjGg7TxPRqS/FOV5OcRNCgZVsQ+0M= X-Google-Smtp-Source: AGHT+IGer4lDStdBgK3v28gdJJp8kOUb9q426MqcwmVTSnoFV1pAwG+20irjmiNvHgaUK+kGhE/ZHkJjvU18 X-Received: by 2002:a17:903:320b:b0:275:b1cf:6dd7 with SMTP id d9443c01a7336-290272c376amr3354105ad.34.1759853091473; Tue, 07 Oct 2025 09:04:51 -0700 (PDT) Received: from postal.iol.unh.edu (postal.iol.unh.edu. [2606:4100:3880:1234::84]) by smtp-relay.gmail.com with ESMTPS id d9443c01a7336-28e8d1082fbsm11926695ad.4.2025.10.07.09.04.51 (version=TLS1_2 cipher=ECDHE-ECDSA-AES128-GCM-SHA256 bits=128/128); Tue, 07 Oct 2025 09:04:51 -0700 (PDT) X-Relaying-Domain: iol.unh.edu Date: Tue, 07 Oct 2025 09:04:51 -0700 (PDT) Message-ID: <68e53a23.170a0220.1a2c40.069fSMTPIN_ADDED_MISSING@mx.google.com> Received: from [172.21.0.3] (unknown [172.18.0.240]) by postal.iol.unh.edu (Postfix) with ESMTP id EE7F06050A61; Tue, 7 Oct 2025 12:04:50 -0400 (EDT) Subject: |SUCCESS| pw157312 [PATCH] [v2] net/virtio-user: fix used ring addre From: dpdklab@iol.unh.edu To: Test Report Cc: dpdk-test-reports@iol.unh.edu, Chenbo Xia , Maxime Coquelin In-Reply-To: <20251007144754.1690606-1-maxime.coquelin@redhat.com> References: <20251007144754.1690606-1-maxime.coquelin@redhat.com> Content-Type: text/plain X-BeenThere: test-report@dpdk.org X-Mailman-Version: 2.1.29 Precedence: list List-Id: automatic DPDK test reports List-Unsubscribe: , List-Archive: List-Post: List-Help: List-Subscribe: , Errors-To: test-report-bounces@dpdk.org Test-Label: iol-compile-amd64-testing Test-Status: SUCCESS http://dpdk.org/patch/157312 _Testing PASS_ Submitter: Maxime Coquelin Date: Tuesday, October 07 2025 14:47:54 DPDK git baseline: Repo:dpdk-next-virtio Branch: master CommitID:4159ea62922ce41566c7bab44655ad78bee85458 157312 --> testing pass Upstream job id: Windows-Compile-DPDK-Native#31468 Test environment and result as below: +---------------------+--------------------+-------------------+-------------------------+----------------------+ | Environment | dpdk_meson_compile | dpdk_msvc_compile | dpdk_llvm_clang_compile | dpdk_mingw64_compile | +=====================+====================+===================+=========================+======================+ | FreeBSD 14.2 | PASS | SKIPPED | SKIPPED | SKIPPED | +---------------------+--------------------+-------------------+-------------------------+----------------------+ | Ubuntu 20.04 | PASS | SKIPPED | SKIPPED | SKIPPED | +---------------------+--------------------+-------------------+-------------------------+----------------------+ | Windows Server 2022 | SKIPPED | PASS | PASS | PASS | +---------------------+--------------------+-------------------+-------------------------+----------------------+ FreeBSD 14.2 Kernel: 14.2-RELEASE Compiler: clang 18.1.6 Ubuntu 20.04 Kernel: 4.19 Compiler: gcc gcc (Ubuntu 9.4.0-1ubuntu1~20.04.2) 9.4.0 Windows Server 2022 Kernel: 10.0.20348.2031 Compiler: clang 15.0.7, gcc 14.1.0 (MinGW), and MSVC VS 19.39.33521 To view detailed results, visit: https://lab.dpdk.org/results/dashboard/patchsets/34229/ UNH-IOL DPDK Community Lab To manage your email subscriptions, visit: https://lab.dpdk.org/results/dashboard/preferences/subscriptions/