From mboxrd@z Thu Jan 1 00:00:00 1970 Return-Path: Received: from mails.dpdk.org (mails.dpdk.org [217.70.189.124]) by inbox.dpdk.org (Postfix) with ESMTP id 813BB488D7 for ; Tue, 7 Oct 2025 18:05:19 +0200 (CEST) Received: from mails.dpdk.org (localhost [127.0.0.1]) by mails.dpdk.org (Postfix) with ESMTP id 7B594402D1; Tue, 7 Oct 2025 18:05:19 +0200 (CEST) Received: from mail-oa1-f98.google.com (mail-oa1-f98.google.com [209.85.160.98]) by mails.dpdk.org (Postfix) with ESMTP id A614A402D1 for ; Tue, 7 Oct 2025 18:05:18 +0200 (CEST) Received: by mail-oa1-f98.google.com with SMTP id 586e51a60fabf-3af5fccaef2so11097fac.1 for ; Tue, 07 Oct 2025 09:05:18 -0700 (PDT) DKIM-Signature: v=1; a=rsa-sha256; c=relaxed/relaxed; d=iol.unh.edu; s=unh-iol; t=1759853118; x=1760457918; darn=dpdk.org; h=cc:to:from:subject:message-id:date:from:to:cc:subject:date :message-id:reply-to; bh=vrO19E8/arOGg3KeN4ermI8AG4SFMhKsbyUMWhAZu8E=; b=UwWUA95LAi+98ik9oLSIlNudvaj5VdIS8KZf5/D2pPRkCOxALO5uWFWn5YvuoYtBnH ONpYigXlo4kGCKQ6H0GK/AGEivFFxtFWkidx198Pd/1igd/mgb+2hKMvmCHN81SeIM+d 1c/BS0Yd4yGx3nKmsVWSRLCOtkWanC/0WPOTY= X-Google-DKIM-Signature: v=1; a=rsa-sha256; c=relaxed/relaxed; d=1e100.net; s=20230601; t=1759853118; x=1760457918; h=cc:to:from:subject:message-id:date:x-gm-message-state:from:to:cc :subject:date:message-id:reply-to; bh=vrO19E8/arOGg3KeN4ermI8AG4SFMhKsbyUMWhAZu8E=; b=DIP6PHfOFFEnDQ4rlD1STRZtWUOaX27CiVwwr8m5wE1PICkFAWufyZ1hgUkdjFGjSS loydq9jHo+1gx4pOXb7Mmbjo8+kYNjqfIvHBlpxX0PL9Ha88/P6v/oAvWAgZwC7xTDE0 nomV1AlC1/5q5S0EQI4umDWAHYvIa6WULMtYfZACgYL8bTrS3N0AETuyPm9cvuYKxqoA zTWu+qPx7rs0q1ph9V0duURwTZRjC6eGYKEQ5MbLBOVf0eG7Bb81tLBE862MWWX4AXjm h4B6jhn6m/ah8cL0QSNcdSUfjLFW2VUjzNMBFVn3oZeHhEE1tPubxZpGTj7Pn0zkPTIC gwsA== X-Gm-Message-State: AOJu0YzcAzAnLdAieuTzbZ0s/XQIPNiHK0BdJa8KoZaLIpaN+T1U+oBy Pe2bYM0gTwvGz9zTZZugw1ZgTU0a7LHefdHYcRKKw5Od4uURRQpQlFcTBfFeC2o6H8b9ae2wXKO UNs+Jv+FzkAH4tt2yMzSm+RwimVb3uVxiERWEjWxH0KxNa21qy6vg X-Gm-Gg: ASbGncthDVb3CUUPUoIAwhiY46dm/CCyYNL2+yrtOsQzcVY7fVDaiToq1cffagar4DB rF4XCNRCqqzcX8VVhoVwEf4O5ID5BcEf+UaF/RlU/DjUnGSvlHc3kpbP/odNiuZDPwFrfGJYMSj o13V/rTdaTOuFRE1FTWAX79L9cwtXr4h7d9XEc/nJfE8vnf8A6hGdhRginYnQk8PvZN3rR+HEet w1SiPiAZsM/afKVCZKyLG0TNCsaHfCvvPwqmHUGB67ZavzScBeVRQPL4IdRr+n3+NCIfIgzG41g bs7x4LD+NO5p+9knDYJQqM38EPRrkaAAZhCi9FRXS2yiWpQmPhyYggM= X-Google-Smtp-Source: AGHT+IE0+5NmF3gYz8PEVdWfEC8jv5jIw8ltD4U2gt95XmfbImDDkKW7CTB+/C8MVZ1H6l3CeBrOQ9zn+Nwy X-Received: by 2002:a05:6870:6391:b0:314:d62b:3f84 with SMTP id 586e51a60fabf-3be6e02591bmr2028313fac.17.1759853117208; Tue, 07 Oct 2025 09:05:17 -0700 (PDT) Received: from postal.iol.unh.edu (postal.iol.unh.edu. [2606:4100:3880:1234::84]) by smtp-relay.gmail.com with ESMTPS id 586e51a60fabf-3ab79f51586sm1374368fac.3.2025.10.07.09.05.17 (version=TLS1_2 cipher=ECDHE-ECDSA-AES128-GCM-SHA256 bits=128/128); Tue, 07 Oct 2025 09:05:17 -0700 (PDT) X-Relaying-Domain: iol.unh.edu Date: Tue, 07 Oct 2025 09:05:17 -0700 (PDT) Message-ID: <68e53a3d.050a0220.26cf16.a14fSMTPIN_ADDED_MISSING@mx.google.com> Received: from [172.21.0.2] (unknown [172.18.0.240]) by postal.iol.unh.edu (Postfix) with ESMTP id 46BD16050A61; Tue, 7 Oct 2025 12:05:16 -0400 (EDT) Subject: |SUCCESS| [GIT MASTER] 3b43ce3f4a54468e7ef65760c2fd7b4d6ee6d9fc From: dpdklab@iol.unh.edu To: Test Report Cc: dpdk-test-reports@iol.unh.edu, Xueming Li , Christian Ehrhardt , Kevin Traynor , Luca Boccassi Content-Type: text/plain X-BeenThere: test-report@dpdk.org X-Mailman-Version: 2.1.29 Precedence: list List-Id: automatic DPDK test reports List-Unsubscribe: , List-Archive: List-Post: List-Help: List-Subscribe: , Errors-To: test-report-bounces@dpdk.org _Testing PASS_ Branch: tags/v22.11 3b43ce3f4a54468e7ef65760c2fd7b4d6ee6d9fc --> testing pass Upstream job id: Generic-DPDK-Compile-Meson#431659 Test environment and result as below: +------------------------------+--------------------+ | Environment | dpdk_meson_compile | +==============================+====================+ | Red Hat Enterprise Linux 9.5 | PASS | +------------------------------+--------------------+ | Ubuntu 20.04 | PASS | +------------------------------+--------------------+ | Debian GNU/Linux 12 | PASS | +------------------------------+--------------------+ | Fedora Linux 42 | PASS | +------------------------------+--------------------+ | Ubuntu 22.04 | PASS | +------------------------------+--------------------+ | Ubuntu 24.04 | PASS | +------------------------------+--------------------+ | CentOS Stream 9 | PASS | +------------------------------+--------------------+ | CentOS Stream 10 | PASS | +------------------------------+--------------------+ Red Hat Enterprise Linux 9.5 Kernel: 5.4 Compiler: gcc gcc (GCC) 11.5.0 20240719 (Red Hat 11.5.0-2) Ubuntu 20.04 Kernel: 5.15 Compiler: aarch64-linux-gnu-gcc gcc (Ubuntu 9.4.0-1ubuntu1~20.04.2) 9.4.0 Debian GNU/Linux 12 Kernel: 5.4 Compiler: gcc gcc (Debian 12.2.0-14+deb12u1) 12.2.0 Fedora Linux 42 Kernel: 5.4 Compiler: gcc gcc (GCC) 15.2.1 20250808 (Red Hat 15.2.1-1) Ubuntu 22.04 Kernel: 5.4 Compiler: gcc gcc (Ubuntu 11.4.0-1ubuntu1~22.04) 11.4.0 Ubuntu 24.04 Kernel: 5.4 Compiler: gcc gcc (Ubuntu 13.3.0-6ubuntu2~24.04) 13.3.0 CentOS Stream 9 Kernel: 5.4 Compiler: gcc gcc (GCC) 11.5.0 20240719 (Red Hat 11.5.0-11) CentOS Stream 10 Kernel: 5.4 Compiler: gcc gcc (GCC) 14.2.1 20250110 (Red Hat 14.2.1-8) To view detailed results, visit: https://lab.dpdk.org/results/dashboard/tarballs/35108/ UNH-IOL DPDK Community Lab To manage your email subscriptions, visit: https://lab.dpdk.org/results/dashboard/preferences/subscriptions/