From mboxrd@z Thu Jan 1 00:00:00 1970 Return-Path: Received: from mails.dpdk.org (mails.dpdk.org [217.70.189.124]) by inbox.dpdk.org (Postfix) with ESMTP id D9397488D7 for ; Tue, 7 Oct 2025 18:27:14 +0200 (CEST) Received: from mails.dpdk.org (localhost [127.0.0.1]) by mails.dpdk.org (Postfix) with ESMTP id B0A16402D1; Tue, 7 Oct 2025 18:27:14 +0200 (CEST) Received: from mail-yw1-f227.google.com (mail-yw1-f227.google.com [209.85.128.227]) by mails.dpdk.org (Postfix) with ESMTP id A12D6402D1 for ; Tue, 7 Oct 2025 18:27:13 +0200 (CEST) Received: by mail-yw1-f227.google.com with SMTP id 00721157ae682-73f20120601so78029507b3.2 for ; Tue, 07 Oct 2025 09:27:13 -0700 (PDT) DKIM-Signature: v=1; a=rsa-sha256; c=relaxed/relaxed; d=iol.unh.edu; s=unh-iol; t=1759854433; x=1760459233; darn=dpdk.org; h=references:in-reply-to:cc:to:from:subject:message-id:date:from:to :cc:subject:date:message-id:reply-to; bh=z+CghQIYUm6WtQKiWrefi/f2K3jMM9ar+Yzqdsw4Jio=; b=Sv8tPRGt5i2kA5rZwFaSwqdgwZ6lbEvyTUrmF3lmSEHADuj5ewJJpa5n0UOEEtPp8n BD2ayUZWzNzQ6vpvWhh1YlJNOb/+zED946HZMcE8ryoyv7skdSv+RuHfUa6RPrOkcBAh HitzTlyZYvubdkHU/LF4lT8g4cNcP3/mxTYYE= X-Google-DKIM-Signature: v=1; a=rsa-sha256; c=relaxed/relaxed; d=1e100.net; s=20230601; t=1759854433; x=1760459233; h=references:in-reply-to:cc:to:from:subject:message-id:date :x-gm-message-state:from:to:cc:subject:date:message-id:reply-to; bh=z+CghQIYUm6WtQKiWrefi/f2K3jMM9ar+Yzqdsw4Jio=; b=rqCqrNNaAM4hwNovOdz/V5eJOu8nJjMMUXfYF5nB3sKPzglpuCIyuZmUwA7cFhDPDb 5cKMmmEAS4TcloskrTcnvsQWHqEapTARiRjSIpnpB0mjb0NrgdTcQEsLGf4u9+jpG4bc 7CgfaosUaALQacOdGZNGqq82RQwB8QiP0/8aUJLRIJvjfESNWfQe+zZSXduhdTRYeIzd lzuLoBW6BULiWriiHzhbmYykTDoZebYIrmKm/QADWVlUwgrXCo5K3lk6Z8M4ULVMJOSr T01Jyc8I3Biq2Qm/QgnlTqSJq4dOQax+QMrDVpf94/EZ9CnhqIjZIBPuQ+CQN6PX8/YI Dqvg== X-Gm-Message-State: AOJu0YyhnXFPGubAjeS/ulLYbN381gtKdFXOa8AtUYUDxpncuupk9Ioj DHl1wtDT0Vz6IuiK+b39HUK6F2icq2AfJsIsJLb0vD26UnAWgN1riJ3/FXeBtovQ1RQ0MR73OhR Qosm3+i9ioVTRMSR+H5mFjtYDVzAq/Gua9WaEprrcVyDqQGEY+GNWk90nW8DJ X-Gm-Gg: ASbGncsJINxLMhvSHrmpucHsqbqvcf/dsKKzmbK6z6tEnNvibWuyQjzA7bP/CiiyRvk wFIdhRn+OZ4zgn4tSFUchQIt8a4lQbcFaEBRf/rAXff9dnpTLokGgspH5Tk4XlHoeC8hS2q22JM npLOGYEjXXXD1gjDeVMjei5931CIHQFLprI0OcGC34Y7n6CWgccXm8AfSut1e48irEr19qw+r6o eeY0kttkEIig2Bpoc4gfBCo8tgvB+GkgxNizo3yOUtCAB64x7wbsgtP3zehKOTIzzTl9Gyq4gyO 96nyEBbBBh+A7PoFWCy26+In9AgMBAv3N0RPeOxXktLxWcKcZxmexDE= X-Google-Smtp-Source: AGHT+IHZmfXAYLh7I0ZwNAFj61Fecnv3VSU8e7eOoXiyj6IKYe8BvmCft0NyMBWh//NVpd2+7mwIs4WbxRy1 X-Received: by 2002:a05:690c:9a13:b0:765:d606:307c with SMTP id 00721157ae682-780e167f4d8mr4420987b3.22.1759854432924; Tue, 07 Oct 2025 09:27:12 -0700 (PDT) Received: from postal.iol.unh.edu (postal.iol.unh.edu. [2606:4100:3880:1234::84]) by smtp-relay.gmail.com with ESMTPS id 00721157ae682-77f81d2be6esm8548317b3.32.2025.10.07.09.27.12 (version=TLS1_2 cipher=ECDHE-ECDSA-AES128-GCM-SHA256 bits=128/128); Tue, 07 Oct 2025 09:27:12 -0700 (PDT) X-Relaying-Domain: iol.unh.edu Date: Tue, 07 Oct 2025 09:27:12 -0700 (PDT) Message-ID: <68e53f60.050a0220.260c60.d9d4SMTPIN_ADDED_MISSING@mx.google.com> Received: from [172.21.0.2] (unknown [172.18.0.240]) by postal.iol.unh.edu (Postfix) with ESMTP id 5C2F7604D420; Tue, 7 Oct 2025 12:27:12 -0400 (EDT) Subject: |SUCCESS| pw157312 [PATCH] [v2] net/virtio-user: fix used ring addre From: dpdklab@iol.unh.edu To: Test Report Cc: dpdk-test-reports@iol.unh.edu, Chenbo Xia , Maxime Coquelin In-Reply-To: <20251007144754.1690606-1-maxime.coquelin@redhat.com> References: <20251007144754.1690606-1-maxime.coquelin@redhat.com> Content-Type: text/plain X-BeenThere: test-report@dpdk.org X-Mailman-Version: 2.1.29 Precedence: list List-Id: automatic DPDK test reports List-Unsubscribe: , List-Archive: List-Post: List-Help: List-Subscribe: , Errors-To: test-report-bounces@dpdk.org Test-Label: iol-unit-amd64-testing Test-Status: SUCCESS http://dpdk.org/patch/157312 _Testing PASS_ Submitter: Maxime Coquelin Date: Tuesday, October 07 2025 14:47:54 DPDK git baseline: Repo:dpdk-next-virtio Branch: master CommitID:4159ea62922ce41566c7bab44655ad78bee85458 157312 --> testing pass Upstream job id: Generic-Unit-Test-DPDK#379204 Test environment and result as below: +-------------------------------+----------------+ | Environment | dpdk_unit_test | +===============================+================+ | Fedora Linux 41 | PASS | +-------------------------------+----------------+ | CentOS Stream 9 | PASS | +-------------------------------+----------------+ | CentOS Stream 10 | PASS | +-------------------------------+----------------+ | Debian GNU/Linux 12 | PASS | +-------------------------------+----------------+ | Fedora Linux 40 | PASS | +-------------------------------+----------------+ | Fedora Linux 42 | PASS | +-------------------------------+----------------+ | Ubuntu 20.04 | PASS | +-------------------------------+----------------+ | Ubuntu 22.04 | PASS | +-------------------------------+----------------+ | Windows Server 2022 | PASS | +-------------------------------+----------------+ | Red Hat Enterprise Linux 9.5 | PASS | +-------------------------------+----------------+ | Red Hat Enterprise Linux 8.10 | PASS | +-------------------------------+----------------+ | Ubuntu 24.04 | PASS | +-------------------------------+----------------+ Fedora Linux 41 Kernel: 5.15 Compiler: gcc gcc (GCC) 14.3.1 20250523 (Red Hat 14.3.1-1) CentOS Stream 9 Kernel: 5.15 Compiler: gcc gcc (GCC) 11.5.0 20240719 (Red Hat 11.5.0-11) CentOS Stream 10 Kernel: 5.15 Compiler: gcc gcc (GCC) 14.2.1 20250110 (Red Hat 14.2.1-8) Debian GNU/Linux 12 Kernel: 5.15 Compiler: gcc gcc (Debian 12.2.0-14+deb12u1) 12.2.0 Fedora Linux 40 Kernel: 5.15 Compiler: clang gcc (GCC) 14.2.1 20240912 (Red Hat 14.2.1-3) Fedora Linux 42 Kernel: 5.15 Compiler: clang gcc (GCC) 15.2.1 20250808 (Red Hat 15.2.1-1) Ubuntu 20.04 Kernel: 5.15 Compiler: gcc gcc (Ubuntu 9.4.0-1ubuntu1~20.04.2) 9.4.0 Ubuntu 22.04 Kernel: 5.15 Compiler: gcc gcc (Ubuntu 11.4.0-1ubuntu1~22.04) 11.4.0 Windows Server 2022 Kernel: 10.0.20348.2031 Compiler: clang 15.0.7, gcc 14.1.0 (MinGW), and MSVC VS 19.39.33521 Red Hat Enterprise Linux 9.5 Kernel: 5.15 Compiler: gcc gcc (GCC) 11.5.0 20240719 (Red Hat 11.5.0-2) Red Hat Enterprise Linux 8.10 Kernel: 5.15 Compiler: gcc gcc (GCC) 8.5.0 20210514 (Red Hat 8.5.0-22) Ubuntu 24.04 Kernel: 5.15 Compiler: gcc gcc (Ubuntu 13.3.0-6ubuntu2~24.04) 13.3.0 To view detailed results, visit: https://lab.dpdk.org/results/dashboard/patchsets/34229/ UNH-IOL DPDK Community Lab To manage your email subscriptions, visit: https://lab.dpdk.org/results/dashboard/preferences/subscriptions/