From mboxrd@z Thu Jan 1 00:00:00 1970 Return-Path: Received: from mails.dpdk.org (mails.dpdk.org [217.70.189.124]) by inbox.dpdk.org (Postfix) with ESMTP id 63A22488D7 for ; Tue, 7 Oct 2025 18:32:08 +0200 (CEST) Received: from mails.dpdk.org (localhost [127.0.0.1]) by mails.dpdk.org (Postfix) with ESMTP id 5EF0A402D1; Tue, 7 Oct 2025 18:32:08 +0200 (CEST) Received: from mail-il1-f228.google.com (mail-il1-f228.google.com [209.85.166.228]) by mails.dpdk.org (Postfix) with ESMTP id 9393C402D1 for ; Tue, 7 Oct 2025 18:32:06 +0200 (CEST) Received: by mail-il1-f228.google.com with SMTP id e9e14a558f8ab-42f5e9e4314so47420665ab.0 for ; Tue, 07 Oct 2025 09:32:06 -0700 (PDT) DKIM-Signature: v=1; a=rsa-sha256; c=relaxed/relaxed; d=iol.unh.edu; s=unh-iol; t=1759854726; x=1760459526; darn=dpdk.org; h=references:in-reply-to:cc:to:from:subject:message-id:date:from:to :cc:subject:date:message-id:reply-to; bh=3pOhc0RItcRS/558tBAXt/s+jKew8AgnWyr9Wp3NcXw=; b=FIMyqjSB0wTc1NcwOSgOwaevoU4k6ijK+BaAtL4ymQNzoLRWxmedYuNp4KeFG1uC2x bIvMorqMOeATpV3eV53nwIswAMYrAtRmqoWByPxmIwWYXzkBz72xEa45AeTsz4tC0knj sZ6f3wbn5XH7cz5GsjXv0ZbeEVd9SiqnwhR8k= X-Google-DKIM-Signature: v=1; a=rsa-sha256; c=relaxed/relaxed; d=1e100.net; s=20230601; t=1759854726; x=1760459526; h=references:in-reply-to:cc:to:from:subject:message-id:date :x-gm-message-state:from:to:cc:subject:date:message-id:reply-to; bh=3pOhc0RItcRS/558tBAXt/s+jKew8AgnWyr9Wp3NcXw=; b=fklLE/qDF/prub3k3g/2DB8o/26EmZQQS8bc5jAp7EOTc80WCLPNf7gPDNN2u3CF41 G1biQ8x1g924g+pGecL0MW5dhKtcQhjBFef3aY0UsFgJdi6wrqGhNcOI/mHQJd0Fasqk g+uavL4oRN3FcLvRJRiStn60ZKCj/BJLe4yRmKcrYL31UNbr61j9VcgcZOT79umhCWwT T1BpkPzj5YXqtNvDuNm6rgH/xNfxh7NcJQiVsW5kRLgpNNkhKoF4K9buD8twyMY25Noi iNAVap5jqTtDEyw2Z/X+NNRkULGHtFsa6A/mPq/6ZbfJF7ueaMkMuxL32pVB3Wx/Wpl7 TP1w== X-Gm-Message-State: AOJu0YxdqFAm2g5EBEFjLNBF+Itzmj1+kK8WxWQRdKw4RcYm5MB/s/aa ZtWxJDtqAO16gab+Sqzqo5SCjj6QJ9pW9fNL0Qy4I97uFRINEuSycbPkdW2x3souBpOzkH0jLH9 H/pjmsauaNbQd4oSYmM+vNFrtcgwy1u4oIhARiG++KcIS X-Gm-Gg: ASbGncvEEWL4006tAPJ4eTKPPLO4Z+UowtP8fkS32TLSYClAs7D2cFkw4KU7fwg2pZV t3UgXxS5qtRpWAu1Xa63pTMrcJWN4jsTUPw/4f+1aDtn5M1d+2IQq+74QWHvdJfIJ79Ei+xYaIP uzwt5D0i4lDiulg9AXEh/jNdH+S2JTQTF0UJuAohc1i4PDdQddhZLlkuSV5cXa6PGFhCtv+t1sz x2tbFV4sTmZJ2uXNeoN9Ooqbp0+DZsM0oD+aHYl4D5ClYEO8B0vH16TGuFLGrUCi6NZGPKL5vjA Tef4RwRp0yCf7AXyiK91t1QHmwevbpSMRaL6CKMp4pBNHmHhtyP260AcdrqtpyOtgCNSrdq3OKi EMw== X-Google-Smtp-Source: AGHT+IFc49egHVyELdWEUIUxpyCUFrhV/OP5v7dMFdGQ9DlsZbUmrcobPMQJMKiKblHyo+AXuFMmf2QeKcvj X-Received: by 2002:a05:6e02:174a:b0:427:5e1d:4200 with SMTP id e9e14a558f8ab-42e7ad995a0mr246566135ab.29.1759854725800; Tue, 07 Oct 2025 09:32:05 -0700 (PDT) Received: from postal.iol.unh.edu (postal.iol.unh.edu. [132.177.123.84]) by smtp-relay.gmail.com with ESMTPS id e9e14a558f8ab-42d8b1fc525sm12839355ab.5.2025.10.07.09.32.05 (version=TLS1_2 cipher=ECDHE-ECDSA-AES128-GCM-SHA256 bits=128/128); Tue, 07 Oct 2025 09:32:05 -0700 (PDT) X-Relaying-Domain: iol.unh.edu Date: Tue, 07 Oct 2025 09:32:05 -0700 (PDT) Message-ID: <68e54085.050a0220.14b040.6c46SMTPIN_ADDED_MISSING@mx.google.com> Received: from [172.21.0.2] (unknown [172.18.0.240]) by postal.iol.unh.edu (Postfix) with ESMTP id 5A09A604D420; Tue, 7 Oct 2025 12:32:05 -0400 (EDT) Subject: |SUCCESS| pw157314 [PATCH] [v2] vhost: always lock all QPs if handle From: dpdklab@iol.unh.edu To: Test Report Cc: dpdk-test-reports@iol.unh.edu, Chenbo Xia , Maxime Coquelin In-Reply-To: <20251007150630.2895365-1-sil-plv@napatech.com> References: <20251007150630.2895365-1-sil-plv@napatech.com> Content-Type: text/plain X-BeenThere: test-report@dpdk.org X-Mailman-Version: 2.1.29 Precedence: list List-Id: automatic DPDK test reports List-Unsubscribe: , List-Archive: List-Post: List-Help: List-Subscribe: , Errors-To: test-report-bounces@dpdk.org Test-Label: iol-compile-amd64-testing Test-Status: SUCCESS http://dpdk.org/patch/157314 _Testing PASS_ Submitter: Serhii Iliushyk Date: Tuesday, October 07 2025 15:06:30 DPDK git baseline: Repo:dpdk-next-virtio Branch: master CommitID:4159ea62922ce41566c7bab44655ad78bee85458 157314 --> testing pass Upstream job id: Windows-Compile-DPDK-VS#7127 Test environment and result as below: +---------------------+--------------------+-------------------+ | Environment | dpdk_meson_compile | dpdk_msvc_compile | +=====================+====================+===================+ | Ubuntu 20.04 | PASS | SKIPPED | +---------------------+--------------------+-------------------+ | FreeBSD 14.2 | PASS | SKIPPED | +---------------------+--------------------+-------------------+ | Windows Server 2022 | SKIPPED | PASS | +---------------------+--------------------+-------------------+ Ubuntu 20.04 Kernel: 4.19 Compiler: gcc gcc (Ubuntu 9.4.0-1ubuntu1~20.04.2) 9.4.0 FreeBSD 14.2 Kernel: 14.2-RELEASE Compiler: clang 18.1.6 Windows Server 2022 Kernel: 10.0.20348.2031 Compiler: clang 15.0.7, gcc 14.1.0 (MinGW), and MSVC VS 19.39.33521 To view detailed results, visit: https://lab.dpdk.org/results/dashboard/patchsets/34231/ UNH-IOL DPDK Community Lab To manage your email subscriptions, visit: https://lab.dpdk.org/results/dashboard/preferences/subscriptions/