From mboxrd@z Thu Jan 1 00:00:00 1970 Return-Path: Received: from mails.dpdk.org (mails.dpdk.org [217.70.189.124]) by inbox.dpdk.org (Postfix) with ESMTP id C21D0488D7 for ; Tue, 7 Oct 2025 18:45:18 +0200 (CEST) Received: from mails.dpdk.org (localhost [127.0.0.1]) by mails.dpdk.org (Postfix) with ESMTP id BC736402D1; Tue, 7 Oct 2025 18:45:18 +0200 (CEST) Received: from mail-qv1-f99.google.com (mail-qv1-f99.google.com [209.85.219.99]) by mails.dpdk.org (Postfix) with ESMTP id C98E0402D1 for ; Tue, 7 Oct 2025 18:45:17 +0200 (CEST) Received: by mail-qv1-f99.google.com with SMTP id 6a1803df08f44-7946137e7a2so71685386d6.0 for ; Tue, 07 Oct 2025 09:45:17 -0700 (PDT) DKIM-Signature: v=1; a=rsa-sha256; c=relaxed/relaxed; d=iol.unh.edu; s=unh-iol; t=1759855517; x=1760460317; darn=dpdk.org; h=references:in-reply-to:cc:to:from:subject:message-id:date:from:to :cc:subject:date:message-id:reply-to; bh=2m3OkUzcUShr7+1XlT936JK1+mOqpybbJG7+UlhajXI=; b=Nrf1JuGsMQicsYChzOUhV7j/if74EB4J7100/gp2V1jhCQ9ov3/zbCZppFTfn1bVj2 xs7qlFZ33y4o9kY0dlPfSWHLHMoUjKVaeIrExtHfzSKPZxHAziEOpdXHgYtWlXcBIqRR WQDzvLziobw2BK+G8T0UNMCmJQhtW3gC5qkFM= X-Google-DKIM-Signature: v=1; a=rsa-sha256; c=relaxed/relaxed; d=1e100.net; s=20230601; t=1759855517; x=1760460317; h=references:in-reply-to:cc:to:from:subject:message-id:date :x-gm-message-state:from:to:cc:subject:date:message-id:reply-to; bh=2m3OkUzcUShr7+1XlT936JK1+mOqpybbJG7+UlhajXI=; b=Bj1x52Cw1EZNrQnudZsCVy0NCrLZ9uwUpyo8rScZf5SldVhOfZJHM/HvVKH+0StmY3 XjL3uQ/IaV4qwn/+eX+dnMCDdjyjjKvDeREKlcjD07EsYp4cJjTENb2JPKqK6jpJbSFf Kd8U9pLjq4/6dldandXYuGzKJQKLDSEIxixH9EJztpJehB8v219NOyGv9T7k3rb5RznL ZL3uD7RgxmLBqRf3BTMoDNvL/8HZHc/IkBw4AzRp/b0PiXIDKhoTGEY2a+dfoAW6ciYy zxwCplxK0u6M49DH3yhJg5NJU6vLIalTzHAI+O0iWmLQMoO/erVh9RTA9oSVjSAY4JhH ZGWg== X-Gm-Message-State: AOJu0YwURmrxYwgp6ozRWfaglrSXdGSnpDoZBCVuPqweysd18+LCyV1t RmlFrFXE+9b0MP/NM42W/3I4IyffNpIaVtW5Qyx0l9T8xzOKddFVqZiLYIdKQeWPyo7nxYNnEHO yFlpRfEUs9qXXcvUuDetlBUFVOEHC4kW/PylhkXVj1Phf X-Gm-Gg: ASbGnctAYRPvu3OMYI/rc8ttUyofPLyhX5eUJt7W4dMYWld1FW8fDOMf4aRIWCXDZ3/ s6LkxkZA+ZHOWY7RG8L114eO0L71IBED7SR6iJaTNhUflZbxTYP38haXhdMPjy35nMXJIGb7C4u GJVGv0c6nFlS1Zyyj+50gBo+iZgxJZtL7iGa99qTCbXMJ5xBsgS7KI8VgrPx15gVm7OsAfperzg efFKK/2Ht1Y6Yr3h0x+pSHt4rcTb7zsOmRl0nXPmRHwf1mOrYkDmAQAAaZWbeskvfeSHZDkB3nf F1s0SaCiskWAnklkddcprknjygSZM1gE6Dx8o5bTTRiHPQIrwesBeQFOGIQ9FP2Hz9IiG45S/lI l/A== X-Google-Smtp-Source: AGHT+IFuVJasbWSKT1USwGJSRzPca8HZZEwCejQjp+gc7WWIeNZ70iNl1yKNC6X432qvtwqXuY9osf4Nnzj7 X-Received: by 2002:a05:6214:4004:b0:7d0:341f:148a with SMTP id 6a1803df08f44-87b2efc2dbbmr575436d6.33.1759855517059; Tue, 07 Oct 2025 09:45:17 -0700 (PDT) Received: from postal.iol.unh.edu (postal.iol.unh.edu. [132.177.123.84]) by smtp-relay.gmail.com with ESMTPS id 6a1803df08f44-878bad61a6csm13645086d6.6.2025.10.07.09.45.16 (version=TLS1_2 cipher=ECDHE-ECDSA-AES128-GCM-SHA256 bits=128/128); Tue, 07 Oct 2025 09:45:17 -0700 (PDT) X-Relaying-Domain: iol.unh.edu Date: Tue, 07 Oct 2025 09:45:17 -0700 (PDT) Message-ID: <68e5439d.050a0220.247679.97a8SMTPIN_ADDED_MISSING@mx.google.com> Received: from [172.21.0.2] (unknown [172.18.0.240]) by postal.iol.unh.edu (Postfix) with ESMTP id B6E2A604D420; Tue, 7 Oct 2025 12:45:16 -0400 (EDT) Subject: |SUCCESS| pw157261-157263 [PATCH] [v5,3/3] net/ice: add PFC statisti From: dpdklab@iol.unh.edu To: Test Report Cc: dpdk-test-reports@iol.unh.edu, Bruce Richardson In-Reply-To: <20251003124037.342760-4-vladimir.medvedkin@intel.com> References: <20251003124037.342760-4-vladimir.medvedkin@intel.com> Content-Type: text/plain X-BeenThere: test-report@dpdk.org X-Mailman-Version: 2.1.29 Precedence: list List-Id: automatic DPDK test reports List-Unsubscribe: , List-Archive: List-Post: List-Help: List-Subscribe: , Errors-To: test-report-bounces@dpdk.org Test-Label: iol-compile-amd64-testing Test-Status: SUCCESS http://dpdk.org/patch/157263 _Testing PASS RETEST #1_ Submitter: Medvedkin, Vladimir Date: Friday, October 03 2025 12:40:37 DPDK git baseline: Repo:dpdk-next-net-intel Branch: master CommitID:e7d8cc7ef4df3552575525697079d3c957cfcdaf 157261-157263 --> testing pass Upstream job id: Windows-Compile-DPDK-Native#31470 Test environment and result as below: +---------------------+--------------------+-------------------+-------------------------+----------------------+ | Environment | dpdk_meson_compile | dpdk_msvc_compile | dpdk_llvm_clang_compile | dpdk_mingw64_compile | +=====================+====================+===================+=========================+======================+ | Ubuntu 20.04 | PASS | SKIPPED | SKIPPED | SKIPPED | +---------------------+--------------------+-------------------+-------------------------+----------------------+ | FreeBSD 14.2 | PASS | SKIPPED | SKIPPED | SKIPPED | +---------------------+--------------------+-------------------+-------------------------+----------------------+ | Windows Server 2022 | SKIPPED | PASS | PASS | PASS | +---------------------+--------------------+-------------------+-------------------------+----------------------+ Ubuntu 20.04 Kernel: 4.19 Compiler: gcc gcc (Ubuntu 9.4.0-1ubuntu1~20.04.2) 9.4.0 FreeBSD 14.2 Kernel: 14.2-RELEASE Compiler: clang 18.1.6 Windows Server 2022 Kernel: 10.0.20348.2031 Compiler: clang 15.0.7, gcc 14.1.0 (MinGW), and MSVC VS 19.39.33521 To view detailed results, visit: https://lab.dpdk.org/results/dashboard/patchsets/34210/ UNH-IOL DPDK Community Lab To manage your email subscriptions, visit: https://lab.dpdk.org/results/dashboard/preferences/subscriptions/