From mboxrd@z Thu Jan 1 00:00:00 1970 Return-Path: Received: from mails.dpdk.org (mails.dpdk.org [217.70.189.124]) by inbox.dpdk.org (Postfix) with ESMTP id 01EB6488D7 for ; Tue, 7 Oct 2025 19:05:36 +0200 (CEST) Received: from mails.dpdk.org (localhost [127.0.0.1]) by mails.dpdk.org (Postfix) with ESMTP id D9E6840268; Tue, 7 Oct 2025 19:05:36 +0200 (CEST) Received: from mail-oa1-f98.google.com (mail-oa1-f98.google.com [209.85.160.98]) by mails.dpdk.org (Postfix) with ESMTP id D97E440268 for ; Tue, 7 Oct 2025 19:05:35 +0200 (CEST) Received: by mail-oa1-f98.google.com with SMTP id 586e51a60fabf-38627e78203so3799287fac.0 for ; Tue, 07 Oct 2025 10:05:35 -0700 (PDT) DKIM-Signature: v=1; a=rsa-sha256; c=relaxed/relaxed; d=iol.unh.edu; s=unh-iol; t=1759856735; x=1760461535; darn=dpdk.org; h=cc:to:from:subject:message-id:date:from:to:cc:subject:date :message-id:reply-to; bh=rzK26cK/07vOT0sPHaymCWm8MafByAlyQBspTYxEHIk=; b=Spvvokv7aMWuClmjR6SC8AKuYM6lWglYqXvgCf2UzKlGHrz5rbgcu6zVkdmQO1fsAc kE7dmgj8EoPJDJiEKMQb4z1+HnH6WmgqxuD25mbJbuwFhkU4GSe9E8eLZD5keLBbjAud 96EuP2wL/CGVGpocnPuQ/XQ1LXvtQ/PkS7xOo= X-Google-DKIM-Signature: v=1; a=rsa-sha256; c=relaxed/relaxed; d=1e100.net; s=20230601; t=1759856735; x=1760461535; h=cc:to:from:subject:message-id:date:x-gm-message-state:from:to:cc :subject:date:message-id:reply-to; bh=rzK26cK/07vOT0sPHaymCWm8MafByAlyQBspTYxEHIk=; b=wQ1+MyFGoanLdJZcOi8/0emPCF/6o2TMoJBq50n0mBja5WMxynEuHEUrH1w9/+ndkz 6AmyRy1UArgQwhWxjuPeucjoo+f8zms4E8vsJfPOZfK9Zeo0MP22eqRJZqkRwCzzaJbJ vhYDWsEmfDfT3fdCZn5Cb/g2eA/pEzP0oMn9DMvJwryJmyp7LzxZ/u5KjDTiTrLrPJS4 oWAXg8t8hnWRq3f/s9PvuwEPA72Vm/i2WEa1DJkreZ5RyfNHZAeqNXumnXTn8eZCRuhe KfVHANOrB089W8bkWkhmG69cCzskCt9oIkPuQ2KIgyxZw6S/6YKl03coB9HC9Vbai0la PeOg== X-Gm-Message-State: AOJu0YxWWinssZYzgVzaGgmM3eNBuRmnu+9p2Fj9rE50ZE//QioI8zE2 R/pV4yy1A+NUxcLM9sMq8lSjQvr/ebaY5f39s2uxonQYqxzBNe253fBENHcKiqxVFCImSwOyUbi iUb38Wts1/a7O+nT3a82fZDiEeL2TWcgbFReZye34ZG/Y X-Gm-Gg: ASbGnctn95GqN/91mG/AaETuwRg9iW2ij1XjGIxldSPYiCUZWrY4rOnYdyz35a60lFr PHXrVoRssI8xDQcx1VOUTvlR04STnlnUSruqH1USK+i0CjOIvba1Wwb6lxOutnzlQaw3/AXRYEt E/Ug9jSq6w82v2EFy1lvis1X7YmBdntnaUCXEqAzO95vDcwi5O9ayHVZtTUW91w8bt6N8Bo7F2w X64DfWiAUek2nHjqiqFv0Ao/xa8eff8ziMuKWsr9E7/Pt2TTxg+x8q0WhpXRbxhqLfSl4CeBz66 fw0KQUNaHv2Qu9gjXR+bILZOlWbZ3HzFUVJhrqBVbs/zr2x3bJ8nQeONSxEdFapSgP/tRqNFL74 wOg== X-Google-Smtp-Source: AGHT+IFHBhSFeqFQGtj2J9XeXEUobwWtd7WAxssivR9QWO6heQVamgW1haWn/CzuMZ8wtngvJ0CNbrYkcuXE X-Received: by 2002:a05:6870:a3cc:b0:301:a704:ef1c with SMTP id 586e51a60fabf-3c0fa26b15dmr185272fac.25.1759856735009; Tue, 07 Oct 2025 10:05:35 -0700 (PDT) Received: from postal.iol.unh.edu (postal.iol.unh.edu. [132.177.123.84]) by smtp-relay.gmail.com with ESMTPS id 586e51a60fabf-3ab7ec1e47fsm1259277fac.9.2025.10.07.10.05.34 (version=TLS1_2 cipher=ECDHE-ECDSA-AES128-GCM-SHA256 bits=128/128); Tue, 07 Oct 2025 10:05:35 -0700 (PDT) X-Relaying-Domain: iol.unh.edu Date: Tue, 07 Oct 2025 10:05:35 -0700 (PDT) Message-ID: <68e5485f.050a0220.30c2de.4e21SMTPIN_ADDED_MISSING@mx.google.com> Received: from [172.21.0.3] (unknown [172.18.0.240]) by postal.iol.unh.edu (Postfix) with ESMTP id 8213E6051830; Tue, 7 Oct 2025 13:05:34 -0400 (EDT) Subject: |SUCCESS| [GIT MASTER] 14d3c6f6a6c18f3b141d0bd9786c6dd3ae3714a3 From: dpdklab@iol.unh.edu To: Test Report Cc: dpdk-test-reports@iol.unh.edu, Jerin Jacob Content-Type: text/plain X-BeenThere: test-report@dpdk.org X-Mailman-Version: 2.1.29 Precedence: list List-Id: automatic DPDK test reports List-Unsubscribe: , List-Archive: List-Post: List-Help: List-Subscribe: , Errors-To: test-report-bounces@dpdk.org _Testing PASS_ Branch: dpdk-next-eventdev 14d3c6f6a6c18f3b141d0bd9786c6dd3ae3714a3 --> testing pass Upstream job id: Windows-Compile-DPDK-VS#7128 Test environment and result as below: +---------------------+--------------------+-------------------+ | Environment | dpdk_meson_compile | dpdk_msvc_compile | +=====================+====================+===================+ | Ubuntu 20.04 | PASS | SKIPPED | +---------------------+--------------------+-------------------+ | FreeBSD 14.2 | PASS | SKIPPED | +---------------------+--------------------+-------------------+ | Windows Server 2022 | SKIPPED | PASS | +---------------------+--------------------+-------------------+ Ubuntu 20.04 Kernel: 4.19 Compiler: gcc gcc (Ubuntu 9.4.0-1ubuntu1~20.04.2) 9.4.0 FreeBSD 14.2 Kernel: 14.2-RELEASE Compiler: clang 18.1.6 Windows Server 2022 Kernel: 10.0.20348.2031 Compiler: clang 15.0.7, gcc 14.1.0 (MinGW), and MSVC VS 19.39.33521 To view detailed results, visit: https://lab.dpdk.org/results/dashboard/tarballs/35134/ UNH-IOL DPDK Community Lab To manage your email subscriptions, visit: https://lab.dpdk.org/results/dashboard/preferences/subscriptions/