From mboxrd@z Thu Jan 1 00:00:00 1970 Return-Path: Received: from mails.dpdk.org (mails.dpdk.org [217.70.189.124]) by inbox.dpdk.org (Postfix) with ESMTP id 66035488D7 for ; Tue, 7 Oct 2025 19:08:27 +0200 (CEST) Received: from mails.dpdk.org (localhost [127.0.0.1]) by mails.dpdk.org (Postfix) with ESMTP id 4015840268; Tue, 7 Oct 2025 19:08:27 +0200 (CEST) Received: from mail-vs1-f99.google.com (mail-vs1-f99.google.com [209.85.217.99]) by mails.dpdk.org (Postfix) with ESMTP id 0C61940268 for ; Tue, 7 Oct 2025 19:08:26 +0200 (CEST) Received: by mail-vs1-f99.google.com with SMTP id ada2fe7eead31-580144a31b0so3385411137.0 for ; Tue, 07 Oct 2025 10:08:25 -0700 (PDT) DKIM-Signature: v=1; a=rsa-sha256; c=relaxed/relaxed; d=iol.unh.edu; s=unh-iol; t=1759856905; x=1760461705; darn=dpdk.org; h=references:in-reply-to:cc:to:from:subject:message-id:date:from:to :cc:subject:date:message-id:reply-to; bh=5BEq4f3qbw8G9mjqXw64ACMhor8KTczeiQNVn72PqD8=; b=H9R+Ak/rxzRu5c1YikTht8PAbtYhgRufTmDa1E69wVs1GDEuu4wqc2AxTQe2k5nuTG CTYQZ+kb9SKqNzf/HnAnkSXEfUF+6Xqok8QeXQ/fUMOmVxOR8ElwWdDmk4KZ9Apmf0gb skho/0pbs0aVdyCUMYjRFGV9Lu0cO5VgMUmVA= X-Google-DKIM-Signature: v=1; a=rsa-sha256; c=relaxed/relaxed; d=1e100.net; s=20230601; t=1759856905; x=1760461705; h=references:in-reply-to:cc:to:from:subject:message-id:date :x-gm-message-state:from:to:cc:subject:date:message-id:reply-to; bh=5BEq4f3qbw8G9mjqXw64ACMhor8KTczeiQNVn72PqD8=; b=tvyWIlE5CdAlYVXpmlEgW4GnufB9lJ84xW6Kd275nildr3Oy9ZyDdWkj/MR8b7TJUJ TLmEN2F7kuuHHMzpUyNswMpV0sdFv3LxVVHIwNRp0hIomoMYfpfGq3d2D3SBQ532ifBo ndAFBQrFS2IA4n3RQPBAPWi94ee1FvKAHxAn2zhMl0yEudhPPwO+4pALkyqTm+fVEqHt fqdMHo4Jfbp4iSZNnA3PSOutC65SB3c3OBq2hVKac7hr8SORmBhFU8/ovWBYzyN7uMza ekMqqwEqBCaoby3qD2WQWYgjG9mTOmNQEFDV+BW9Xzd/RkwDPWNJYhIGf9vN9/gTFdOM Q3sw== X-Gm-Message-State: AOJu0YwGOWZCB5FueQV9LyldCadXeWooDKoCFuqKI/d7bgJB1f787i7Y 70B98YM8uh6r1HOgbNTk5Syoz+R60+TOr/AFcf6QDQNSrNHO79Xg/NDmzbvrVC9M2+mPth95GLe 2Adh44s42QkkZYve3nOqKQVHzqyAx18bbWnACEITL/c1hpC0PxQrnZZO1QXyF X-Gm-Gg: ASbGnctvRYBA/i8heA/XaFeexGpMDFbH0uDjlqkAPx/Kyn4ZHI0Vmya6ZNtUVU5SmHB ZTe2orqvXBUiEmn7VNS45PGxT6jKFmm8lExyOusGqJ5fQLL+VWkCXOULLA/eKGUE+GcG5DM9L4M c2MIt5TMc8nITiPL3uZSk75qsMjC4ZrbVQThOvnzRBHoyiadn/5QFyWqaXg73nvQGUMh8fyFUPZ MvGt/ivSkahMdFlpQTDfWFo/v4ie9O++VVKr2WjYj8L0RCmORcXB5sfQ6jOcCksq7NlQt23Wvl3 k9W6sfdAS1Lt5FL5GTFAU+iQ2x1V2X5pTrJrCgiSG4PqQqBoKEfiN0k= X-Google-Smtp-Source: AGHT+IF9FcCBxf1vwHamQTMzs2gX89YzV52HDQXY/iPMK/AgHH/4Zzy5K7x2rb3FvXyJWbg92W/wEkmvylAr X-Received: by 2002:a05:6102:e13:b0:51a:4916:c5f0 with SMTP id ada2fe7eead31-5d5e239468fmr104827137.32.1759856905355; Tue, 07 Oct 2025 10:08:25 -0700 (PDT) Received: from postal.iol.unh.edu (postal.iol.unh.edu. [2606:4100:3880:1234::84]) by smtp-relay.gmail.com with ESMTPS id ada2fe7eead31-5d5d39db9ccsm381910137.5.2025.10.07.10.08.25 (version=TLS1_2 cipher=ECDHE-ECDSA-AES128-GCM-SHA256 bits=128/128); Tue, 07 Oct 2025 10:08:25 -0700 (PDT) X-Relaying-Domain: iol.unh.edu Date: Tue, 07 Oct 2025 10:08:25 -0700 (PDT) Message-ID: <68e54909.050a0220.325403.5300SMTPIN_ADDED_MISSING@mx.google.com> Received: from [172.21.0.2] (unknown [172.18.0.240]) by postal.iol.unh.edu (Postfix) with ESMTP id 024DB6050A61; Tue, 7 Oct 2025 13:08:25 -0400 (EDT) Subject: |SUCCESS| pw157314 [PATCH] [v2] vhost: always lock all QPs if handle From: dpdklab@iol.unh.edu To: Test Report Cc: dpdk-test-reports@iol.unh.edu, Chenbo Xia , Maxime Coquelin In-Reply-To: <20251007150630.2895365-1-sil-plv@napatech.com> References: <20251007150630.2895365-1-sil-plv@napatech.com> Content-Type: text/plain X-BeenThere: test-report@dpdk.org X-Mailman-Version: 2.1.29 Precedence: list List-Id: automatic DPDK test reports List-Unsubscribe: , List-Archive: List-Post: List-Help: List-Subscribe: , Errors-To: test-report-bounces@dpdk.org Test-Label: iol-compile-amd64-testing Test-Status: SUCCESS http://dpdk.org/patch/157314 _Testing PASS_ Submitter: Serhii Iliushyk Date: Tuesday, October 07 2025 15:06:30 DPDK git baseline: Repo:dpdk-next-virtio Branch: master CommitID:4159ea62922ce41566c7bab44655ad78bee85458 157314 --> testing pass Upstream job id: Windows-Compile-DPDK-Native#31471 Test environment and result as below: +---------------------+--------------------+-------------------+-------------------------+ | Environment | dpdk_meson_compile | dpdk_msvc_compile | dpdk_llvm_clang_compile | +=====================+====================+===================+=========================+ | Ubuntu 20.04 | PASS | SKIPPED | SKIPPED | +---------------------+--------------------+-------------------+-------------------------+ | FreeBSD 14.2 | PASS | SKIPPED | SKIPPED | +---------------------+--------------------+-------------------+-------------------------+ | Windows Server 2022 | SKIPPED | PASS | PASS | +---------------------+--------------------+-------------------+-------------------------+ Ubuntu 20.04 Kernel: 4.19 Compiler: gcc gcc (Ubuntu 9.4.0-1ubuntu1~20.04.2) 9.4.0 FreeBSD 14.2 Kernel: 14.2-RELEASE Compiler: clang 18.1.6 Windows Server 2022 Kernel: 10.0.20348.2031 Compiler: clang 15.0.7, gcc 14.1.0 (MinGW), and MSVC VS 19.39.33521 To view detailed results, visit: https://lab.dpdk.org/results/dashboard/patchsets/34231/ UNH-IOL DPDK Community Lab To manage your email subscriptions, visit: https://lab.dpdk.org/results/dashboard/preferences/subscriptions/