From mboxrd@z Thu Jan 1 00:00:00 1970 Return-Path: Received: from mails.dpdk.org (mails.dpdk.org [217.70.189.124]) by inbox.dpdk.org (Postfix) with ESMTP id 18439488D7 for ; Tue, 7 Oct 2025 19:17:54 +0200 (CEST) Received: from mails.dpdk.org (localhost [127.0.0.1]) by mails.dpdk.org (Postfix) with ESMTP id 0FD7540268; Tue, 7 Oct 2025 19:17:54 +0200 (CEST) Received: from mail-il1-f228.google.com (mail-il1-f228.google.com [209.85.166.228]) by mails.dpdk.org (Postfix) with ESMTP id C870E40268 for ; Tue, 7 Oct 2025 19:17:52 +0200 (CEST) Received: by mail-il1-f228.google.com with SMTP id e9e14a558f8ab-42d8bf52325so33723945ab.3 for ; Tue, 07 Oct 2025 10:17:52 -0700 (PDT) DKIM-Signature: v=1; a=rsa-sha256; c=relaxed/relaxed; d=iol.unh.edu; s=unh-iol; t=1759857472; x=1760462272; darn=dpdk.org; h=references:in-reply-to:cc:to:from:subject:message-id:date:from:to :cc:subject:date:message-id:reply-to; bh=xGwMzrEb/KUj583zQaUxeWCk6Pwgh5BM10Ww744zzAo=; b=Z+7eAEJmDGBMZpB+WT6ICAiRwq7AbCX2tqpXpco69SAGW/yWHi8okGl6IZGt3uERoe T63I3VdnlCYIp8Qy9TEC1A4eLgM1xfJhe5WfdsTp1/uTn8MzhvSkmXzvPrtvU2zRP2HM OYPxnEO4Ir6rPR6CWq9VvSncZTIfTwOuOAVig= X-Google-DKIM-Signature: v=1; a=rsa-sha256; c=relaxed/relaxed; d=1e100.net; s=20230601; t=1759857472; x=1760462272; h=references:in-reply-to:cc:to:from:subject:message-id:date :x-gm-message-state:from:to:cc:subject:date:message-id:reply-to; bh=xGwMzrEb/KUj583zQaUxeWCk6Pwgh5BM10Ww744zzAo=; b=LDa5tPOTgcSgOym4DDZrd56h0nGAkx8X2j6aBTUB+wL95e3DxqU6sLWiND3KDaW26I j24EkDWTpJL/SCXU/Gxki4kE7MEAmBYOKwg7SjRdGVie1TdIwmqVe5YIGGBgJl6sdxP3 Cz5mYdytJ0kCVLS71yU/qdnpYWAtO1T1Js/AQnuRgbFswIhcms8cM1oZIzlJlHbo9E97 eIUU0UAJTOK11hDharBLW4EJ/w5fgCUIZS8YTSt5coENx3LpmUC0jope8wlkCQtwtZ7S R9WsJ4r8NNrIeK652R6BtJe1WHP6NJ7/0cqFa0U/XAPb6jKB20M0Hfe9eS7Urr1I1LmW eFEQ== X-Gm-Message-State: AOJu0Yxc62TIUVYTPGHrmo7nygn9lJfsWCfZw46RDZ/Rv4rlzKy8axaC Tvq7YPX7kedRnlijLA/qgKm4hCYjE0vcrRdx2MZoOlmU9mwmoIKeJczN3tXeemUh6dFNANHOeOM l11ZsBcA1wZtSsSVJb9QkbNM1uDbIB0pu3NOJHAMU0lB/VyYaKajtj1sWETtT X-Gm-Gg: ASbGncscP5Isu8Bvi4SILKD8N8mLDE01xSNGEy0sP0BER3vi+pczLBBHS6v/zDyQJoh fPLpfrTXN8E33t1o1YA6tle+VS9OZ09VJZLW6VqUvo74yLxmjybsIMkX+GA6WadEPOzQUNKgPlf A06xHa25xhI7IF8w9MgdogPI9DUjIScEnjtuVAy6LJW/rPqKgZD7YmjbpMvDcfxTqJqHHnAl770 Ok5L2m2Q3Y94rUiG5VylMH8iVX/gif3eb1PvkKMxqoeWlBS53Sr5l+D6OuQ5RBgGGxTLbv32wIa DNwCXbrKAn8KoZz7UjWpsaCZlFNU9JPJCCr+kK8Kvl1WXaL6220JNNQ= X-Google-Smtp-Source: AGHT+IHBs5zYfqywx571kEqO/R5I6flKCRjbzG2VS7OdI+TQtEQwT/yx0ptD2st6HZFsjZ8thJkJEDwuXPFs X-Received: by 2002:a05:6e02:2305:b0:426:7dd6:decd with SMTP id e9e14a558f8ab-42f873f4705mr1276005ab.28.1759857471987; Tue, 07 Oct 2025 10:17:51 -0700 (PDT) Received: from postal.iol.unh.edu (postal.iol.unh.edu. [2606:4100:3880:1234::84]) by smtp-relay.gmail.com with ESMTPS id e9e14a558f8ab-42f63b32b46sm8177915ab.20.2025.10.07.10.17.51 (version=TLS1_2 cipher=ECDHE-ECDSA-AES128-GCM-SHA256 bits=128/128); Tue, 07 Oct 2025 10:17:51 -0700 (PDT) X-Relaying-Domain: iol.unh.edu Date: Tue, 07 Oct 2025 10:17:51 -0700 (PDT) Message-ID: <68e54b3f.050a0220.19b59.01a3SMTPIN_ADDED_MISSING@mx.google.com> Received: from [172.21.0.2] (unknown [172.18.0.240]) by postal.iol.unh.edu (Postfix) with ESMTP id 89A02604D420; Tue, 7 Oct 2025 13:17:51 -0400 (EDT) Subject: |SUCCESS| pw157314 [PATCH] [v2] vhost: always lock all QPs if handle From: dpdklab@iol.unh.edu To: Test Report Cc: dpdk-test-reports@iol.unh.edu, Chenbo Xia , Maxime Coquelin In-Reply-To: <20251007150630.2895365-1-sil-plv@napatech.com> References: <20251007150630.2895365-1-sil-plv@napatech.com> Content-Type: text/plain X-BeenThere: test-report@dpdk.org X-Mailman-Version: 2.1.29 Precedence: list List-Id: automatic DPDK test reports List-Unsubscribe: , List-Archive: List-Post: List-Help: List-Subscribe: , Errors-To: test-report-bounces@dpdk.org Test-Label: iol-compile-amd64-testing Test-Status: SUCCESS http://dpdk.org/patch/157314 _Testing PASS_ Submitter: Serhii Iliushyk Date: Tuesday, October 07 2025 15:06:30 DPDK git baseline: Repo:dpdk-next-virtio Branch: master CommitID:4159ea62922ce41566c7bab44655ad78bee85458 157314 --> testing pass Upstream job id: Windows-Compile-DPDK-Native#31472 Test environment and result as below: +---------------------+--------------------+-------------------+-------------------------+----------------------+ | Environment | dpdk_meson_compile | dpdk_msvc_compile | dpdk_llvm_clang_compile | dpdk_mingw64_compile | +=====================+====================+===================+=========================+======================+ | Ubuntu 20.04 | PASS | SKIPPED | SKIPPED | SKIPPED | +---------------------+--------------------+-------------------+-------------------------+----------------------+ | FreeBSD 14.2 | PASS | SKIPPED | SKIPPED | SKIPPED | +---------------------+--------------------+-------------------+-------------------------+----------------------+ | Windows Server 2022 | SKIPPED | PASS | PASS | PASS | +---------------------+--------------------+-------------------+-------------------------+----------------------+ Ubuntu 20.04 Kernel: 4.19 Compiler: gcc gcc (Ubuntu 9.4.0-1ubuntu1~20.04.2) 9.4.0 FreeBSD 14.2 Kernel: 14.2-RELEASE Compiler: clang 18.1.6 Windows Server 2022 Kernel: 10.0.20348.2031 Compiler: clang 15.0.7, gcc 14.1.0 (MinGW), and MSVC VS 19.39.33521 To view detailed results, visit: https://lab.dpdk.org/results/dashboard/patchsets/34231/ UNH-IOL DPDK Community Lab To manage your email subscriptions, visit: https://lab.dpdk.org/results/dashboard/preferences/subscriptions/