From mboxrd@z Thu Jan 1 00:00:00 1970 Return-Path: Received: from mails.dpdk.org (mails.dpdk.org [217.70.189.124]) by inbox.dpdk.org (Postfix) with ESMTP id 8C22E488D7 for ; Tue, 7 Oct 2025 19:21:52 +0200 (CEST) Received: from mails.dpdk.org (localhost [127.0.0.1]) by mails.dpdk.org (Postfix) with ESMTP id 6BAD940268; Tue, 7 Oct 2025 19:21:52 +0200 (CEST) Received: from mail-pl1-f226.google.com (mail-pl1-f226.google.com [209.85.214.226]) by mails.dpdk.org (Postfix) with ESMTP id D83DC40268 for ; Tue, 7 Oct 2025 19:21:50 +0200 (CEST) Received: by mail-pl1-f226.google.com with SMTP id d9443c01a7336-27ee41e0798so98552175ad.1 for ; Tue, 07 Oct 2025 10:21:50 -0700 (PDT) DKIM-Signature: v=1; a=rsa-sha256; c=relaxed/relaxed; d=iol.unh.edu; s=unh-iol; t=1759857710; x=1760462510; darn=dpdk.org; h=cc:to:from:subject:message-id:date:from:to:cc:subject:date :message-id:reply-to; bh=VIQMdZFahAOqXCOn8g7FSP4nrEA5NJFZ12VvsG7BAWw=; b=R3ShcSRYIPf8lGhva5QKQt8IuSQ6avHQg4tEMqlFYWp2rm2mWy3GOvEUjPsZPuKW8B EaY3IVztETgaUb6t4lz4pFSxwXp3XVHGdg6myCAGVsa7CXMt5p62NzVB2MGDgizTbA08 092yYuoVAmagWy5QGiYDF4zNGn3uSJjz68le8= X-Google-DKIM-Signature: v=1; a=rsa-sha256; c=relaxed/relaxed; d=1e100.net; s=20230601; t=1759857710; x=1760462510; h=cc:to:from:subject:message-id:date:x-gm-message-state:from:to:cc :subject:date:message-id:reply-to; bh=VIQMdZFahAOqXCOn8g7FSP4nrEA5NJFZ12VvsG7BAWw=; b=uGKgGB9FrQKfQBzaid2AMOu+XoyEqkc/FmZD1DcZSTq+CiZq6OY7ZkcjDNz+px3m9O aCKorcVJjiDw5+NcrYsR39Horjkpq3/aOjwetfWjXgERyfk/08uT52Lvc2SG1X8of5D6 leoj4lePdmZlCWh/O/7xpundx5DLZ0SZGkEj+0QAx0EFtNF8zPHrQ6de+0YTyF4qCeME YNt3OwaBlf8ibelc33iEjErRpWJ2pqsgvos7TQh5E2K+VaFM/FzoiAXGUASvDZS+sHPK DmEopDWelyhqO0QZBDqZv80qipany0+k7API0AX/OOngrQ6lkoDWatLX3vcQgXutkzRN AhZQ== X-Gm-Message-State: AOJu0YzOELKHhvjBsAY7eEcEztIVUtCnEL34VidvAgI4zANMxnovIBKY WQbx5E3mrqcGRlDmO/dmmU52q/3AfmdEHIqrFMTLFeJmE1D9jeAtWseqrQkhwUa3vmmQS0ts0jt eaAcEY46BuDg6tdpqqt93tgoqRpTfOnj735dYwEtPBQEX X-Gm-Gg: ASbGnctliPFTyu6cFMpFG8Nbr9wUrmNBj9ZAb5StPSAVlqfVaUmo4X0okC4qNIxvzl3 jOe7DZOOoUaQckCoUQfDH6gnYl17jxWuAtwmmlygIGz3/YEMz21arqRTIIxV8hHN18JgjIBNpYG hAzzzcVOw241q+SSy5PkG7/j1NLHVwDx8TA4wugmCMYulfJ31CxnSNBGBuyrov9y32ObnlhWIVS CH3gLTwfoNGmQ/CMoTPpqRfJ6UMPbPFR+BwjCyqPg9VFhQVDeIWQY5KTzYmt2MiGQvK8xSnS4yO 5hUlJ4WQiGTw2AywafENcAFTmjV/UZYBjwAgyiGreWQlYUgiLfFN2iT4zYSl15wNMk2eL9Sdqcv ctg== X-Google-Smtp-Source: AGHT+IEmyqx4zuhUKk63khURxMZf2Godefe3+IZFvaMbTmqGJPTJ6pZCsTlLxAkIqMqAEA1KCxm/5asUQjTg X-Received: by 2002:a17:903:2a8d:b0:24e:e5c9:ecfd with SMTP id d9443c01a7336-290273ffc74mr7170565ad.42.1759857709867; Tue, 07 Oct 2025 10:21:49 -0700 (PDT) Received: from postal.iol.unh.edu (postal.iol.unh.edu. [132.177.123.84]) by smtp-relay.gmail.com with ESMTPS id 98e67ed59e1d1-33b50efd012sm25120a91.0.2025.10.07.10.21.49 (version=TLS1_2 cipher=ECDHE-ECDSA-AES128-GCM-SHA256 bits=128/128); Tue, 07 Oct 2025 10:21:49 -0700 (PDT) X-Relaying-Domain: iol.unh.edu Date: Tue, 07 Oct 2025 10:21:49 -0700 (PDT) Message-ID: <68e54c2d.170a0220.32825e.149fSMTPIN_ADDED_MISSING@mx.google.com> Received: from [172.21.0.2] (unknown [172.18.0.240]) by postal.iol.unh.edu (Postfix) with ESMTP id 21BA2604D420; Tue, 7 Oct 2025 13:21:49 -0400 (EDT) Subject: |SUCCESS| [GIT MASTER] 14d3c6f6a6c18f3b141d0bd9786c6dd3ae3714a3 From: dpdklab@iol.unh.edu To: Test Report Cc: dpdk-test-reports@iol.unh.edu, Jerin Jacob Content-Type: text/plain X-BeenThere: test-report@dpdk.org X-Mailman-Version: 2.1.29 Precedence: list List-Id: automatic DPDK test reports List-Unsubscribe: , List-Archive: List-Post: List-Help: List-Subscribe: , Errors-To: test-report-bounces@dpdk.org _Testing PASS_ Branch: dpdk-next-eventdev 14d3c6f6a6c18f3b141d0bd9786c6dd3ae3714a3 --> testing pass Upstream job id: Windows-Compile-DPDK-Native#31473 Test environment and result as below: +---------------------+--------------------+-------------------+-------------------------+ | Environment | dpdk_meson_compile | dpdk_msvc_compile | dpdk_llvm_clang_compile | +=====================+====================+===================+=========================+ | Ubuntu 20.04 | PASS | SKIPPED | SKIPPED | +---------------------+--------------------+-------------------+-------------------------+ | FreeBSD 14.2 | PASS | SKIPPED | SKIPPED | +---------------------+--------------------+-------------------+-------------------------+ | Windows Server 2022 | SKIPPED | PASS | PASS | +---------------------+--------------------+-------------------+-------------------------+ Ubuntu 20.04 Kernel: 4.19 Compiler: gcc gcc (Ubuntu 9.4.0-1ubuntu1~20.04.2) 9.4.0 FreeBSD 14.2 Kernel: 14.2-RELEASE Compiler: clang 18.1.6 Windows Server 2022 Kernel: 10.0.20348.2031 Compiler: clang 15.0.7, gcc 14.1.0 (MinGW), and MSVC VS 19.39.33521 To view detailed results, visit: https://lab.dpdk.org/results/dashboard/tarballs/35134/ UNH-IOL DPDK Community Lab To manage your email subscriptions, visit: https://lab.dpdk.org/results/dashboard/preferences/subscriptions/