From mboxrd@z Thu Jan 1 00:00:00 1970 Return-Path: Received: from mails.dpdk.org (mails.dpdk.org [217.70.189.124]) by inbox.dpdk.org (Postfix) with ESMTP id 97A21488D7 for ; Tue, 7 Oct 2025 19:23:20 +0200 (CEST) Received: from mails.dpdk.org (localhost [127.0.0.1]) by mails.dpdk.org (Postfix) with ESMTP id 90A3240268; Tue, 7 Oct 2025 19:23:20 +0200 (CEST) Received: from mail-pl1-f227.google.com (mail-pl1-f227.google.com [209.85.214.227]) by mails.dpdk.org (Postfix) with ESMTP id 6339C40268 for ; Tue, 7 Oct 2025 19:23:19 +0200 (CEST) Received: by mail-pl1-f227.google.com with SMTP id d9443c01a7336-27c369f8986so64141065ad.3 for ; Tue, 07 Oct 2025 10:23:19 -0700 (PDT) DKIM-Signature: v=1; a=rsa-sha256; c=relaxed/relaxed; d=iol.unh.edu; s=unh-iol; t=1759857798; x=1760462598; darn=dpdk.org; h=cc:to:from:subject:message-id:date:from:to:cc:subject:date :message-id:reply-to; bh=LxNIExJ3aghFZLtbI69VwDki0T87/em1WEkAeqipEB0=; b=FpNj5pc+yipPTyJGxJe6IOaCnQys9OEAdGof/ug7O8qqn/cnR/kmotIR8XvlDWfXz5 Fk0RtrA3tm6pwa4xeRNFGjPuIuWsdmAWXbKRg/BecfJ0DfCO5LB/S0lgQpovVigmRT0c JOTHwV4qn/uBzPCvTOtL3rsm2ynwznP0o2/Fk= X-Google-DKIM-Signature: v=1; a=rsa-sha256; c=relaxed/relaxed; d=1e100.net; s=20230601; t=1759857798; x=1760462598; h=cc:to:from:subject:message-id:date:x-gm-message-state:from:to:cc :subject:date:message-id:reply-to; bh=LxNIExJ3aghFZLtbI69VwDki0T87/em1WEkAeqipEB0=; b=bo1Zg3qyjVTfvBVSANm4P8qT35SbroQTpEtN/pvyVu+7WgvQYeB2wAyR9jKKeUdi/1 Zi7zgvtUgU6+J7mFgkCsBTg0ezNZSm23adfthgvb61lIvvkv44pSknYZbLz2HhpXls2A MORfprrzzVHktoreyM6BL3el2qeOhIz+TmZhUe0K14lKbTNUZPW3C8SwcEQfJq7ktv+b 0jfhk61uVAHh2vx1ulcx8QruIs9F9TL1nCev/fqXaVXbRIzSGS5rHWoU6yb8mbXG6o/5 J+tW5E7qmjx8sqB6HAu/lU45a8fr5VKJvZV0yBppzMF4aZ13JaVQeOEE4bpKVEGps7dO MJ8w== X-Gm-Message-State: AOJu0YzV4pJZrw8nodouDmgT3nyM+4zo33HyIfxgRfbCSCYmVOanl8q9 T95SB1QpM2tYsjNKiWg5V8o4Y5G7OmA8kDWehvr/WHkmLkc3FfpsBOwQ3VJ74UYJL0Teff0vNyn +5WDq6ZLh0xRkEA1znOAoS1SPILGcMd7Z7MMKdpz3goAw X-Gm-Gg: ASbGncuscrRitHwW1w+3n61+i5KHG18usvE9vtwPnDI2974XEhS7nun+hFovLbIS4vx C+2QL+OpbWvwApFlTvP9+FSPKVp8HYF6pYTVHgVIbJS0QE71sA4dbaZPhWKiAEW1FCt1O0+YNKB Y0hxIK7aDRsyng/WMdeOhUPsVO3iFdineJBQjmkVgtElETo/KFjA0uh7/8wjZLqBWmvwv2J/XY6 smPzftkNqMtADvmre+eLfTBSkPT3gJIAmjL07a/es6b9X4S7EpTZsKdYM30TRjb87hqGQ4QsmCc vFllnKL2OZ2AfoXzghVHd5aLv7fTBdFT8HHn2cgDT+4G/D+o/o7lZ2NIvyu6KjqGLyQycdWEKjf M7A== X-Google-Smtp-Source: AGHT+IFFVP9r7BEr7a1z4tJEr2LvCVBnhD5+WxPIVcPV1Gut4tCZP1YhYqm7NR7Aszl91nk4XEbEQs1twiWz X-Received: by 2002:a17:903:1ac4:b0:24c:ca55:6d90 with SMTP id d9443c01a7336-2902741b958mr5665605ad.61.1759857798545; Tue, 07 Oct 2025 10:23:18 -0700 (PDT) Received: from postal.iol.unh.edu (postal.iol.unh.edu. [132.177.123.84]) by smtp-relay.gmail.com with ESMTPS id d9443c01a7336-28e8d19c7d0sm12825185ad.59.2025.10.07.10.23.18 (version=TLS1_2 cipher=ECDHE-ECDSA-AES128-GCM-SHA256 bits=128/128); Tue, 07 Oct 2025 10:23:18 -0700 (PDT) X-Relaying-Domain: iol.unh.edu Date: Tue, 07 Oct 2025 10:23:18 -0700 (PDT) Message-ID: <68e54c86.170a0220.23f8fd.8048SMTPIN_ADDED_MISSING@mx.google.com> Received: from [172.21.0.2] (unknown [172.18.0.240]) by postal.iol.unh.edu (Postfix) with ESMTP id C54D9604D420; Tue, 7 Oct 2025 13:23:17 -0400 (EDT) Subject: |SUCCESS| [GIT MASTER] 14d3c6f6a6c18f3b141d0bd9786c6dd3ae3714a3 From: dpdklab@iol.unh.edu To: Test Report Cc: dpdk-test-reports@iol.unh.edu, Jerin Jacob Content-Type: text/plain X-BeenThere: test-report@dpdk.org X-Mailman-Version: 2.1.29 Precedence: list List-Id: automatic DPDK test reports List-Unsubscribe: , List-Archive: List-Post: List-Help: List-Subscribe: , Errors-To: test-report-bounces@dpdk.org _Testing PASS_ Branch: dpdk-next-eventdev 14d3c6f6a6c18f3b141d0bd9786c6dd3ae3714a3 --> testing pass Upstream job id: Windows-Compile-DPDK-Native#31474 Test environment and result as below: +---------------------+--------------------+-------------------+-------------------------+----------------------+ | Environment | dpdk_meson_compile | dpdk_msvc_compile | dpdk_llvm_clang_compile | dpdk_mingw64_compile | +=====================+====================+===================+=========================+======================+ | Ubuntu 20.04 | PASS | SKIPPED | SKIPPED | SKIPPED | +---------------------+--------------------+-------------------+-------------------------+----------------------+ | FreeBSD 14.2 | PASS | SKIPPED | SKIPPED | SKIPPED | +---------------------+--------------------+-------------------+-------------------------+----------------------+ | Windows Server 2022 | SKIPPED | PASS | PASS | PASS | +---------------------+--------------------+-------------------+-------------------------+----------------------+ Ubuntu 20.04 Kernel: 4.19 Compiler: gcc gcc (Ubuntu 9.4.0-1ubuntu1~20.04.2) 9.4.0 FreeBSD 14.2 Kernel: 14.2-RELEASE Compiler: clang 18.1.6 Windows Server 2022 Kernel: 10.0.20348.2031 Compiler: clang 15.0.7, gcc 14.1.0 (MinGW), and MSVC VS 19.39.33521 To view detailed results, visit: https://lab.dpdk.org/results/dashboard/tarballs/35134/ UNH-IOL DPDK Community Lab To manage your email subscriptions, visit: https://lab.dpdk.org/results/dashboard/preferences/subscriptions/