From mboxrd@z Thu Jan 1 00:00:00 1970 Return-Path: Received: from mails.dpdk.org (mails.dpdk.org [217.70.189.124]) by inbox.dpdk.org (Postfix) with ESMTP id AD9BA488D7 for ; Tue, 7 Oct 2025 19:45:21 +0200 (CEST) Received: from mails.dpdk.org (localhost [127.0.0.1]) by mails.dpdk.org (Postfix) with ESMTP id 8E8DB40268; Tue, 7 Oct 2025 19:45:21 +0200 (CEST) Received: from mail-il1-f227.google.com (mail-il1-f227.google.com [209.85.166.227]) by mails.dpdk.org (Postfix) with ESMTP id C071940268 for ; Tue, 7 Oct 2025 19:45:19 +0200 (CEST) Received: by mail-il1-f227.google.com with SMTP id e9e14a558f8ab-42f67e91ae7so38276075ab.0 for ; Tue, 07 Oct 2025 10:45:19 -0700 (PDT) DKIM-Signature: v=1; a=rsa-sha256; c=relaxed/relaxed; d=iol.unh.edu; s=unh-iol; t=1759859119; x=1760463919; darn=dpdk.org; h=references:in-reply-to:cc:to:from:subject:message-id:date:from:to :cc:subject:date:message-id:reply-to; bh=46Yn6wZfNdTsmmrBtwMqhBAD2DBC4q9VN7TGu5O+lmM=; b=dI4a6KGggcYu8amS5Of2s7CtSlIdx/5AjE6fm5+lSFRcPKh/OzGjHlwI3J4MPYEftb F6rxcdaNLdPufrWkagrQ01ExdJM9+9zUZ4hd1mjNRJe6CWEpaCkL18kWsAYIsGNMT79m UYIm7O3TC/24CG4/vPBniD2Bnka4cf7wN5Mls= X-Google-DKIM-Signature: v=1; a=rsa-sha256; c=relaxed/relaxed; d=1e100.net; s=20230601; t=1759859119; x=1760463919; h=references:in-reply-to:cc:to:from:subject:message-id:date :x-gm-message-state:from:to:cc:subject:date:message-id:reply-to; bh=46Yn6wZfNdTsmmrBtwMqhBAD2DBC4q9VN7TGu5O+lmM=; b=bsezjQDlFfIFNxZZ7Xmy/0uBHz8f/addv7N5iLEswJMfcVEKMGH+Lenzfr+e/yAvjL MQA9hdrLmFvGcvV6LZpnzvHsBIfpla+L5D6gCjKrDjJgnY2p0CYfAbSrIxcJhJ/o4j3u 0L4HXNJKEoNcSLXcp3LSUuBp2JRkMRqOA/9iVTfVma1ijmB7mYOspU/TqFmqwkpeBaHU 269odckGdq5fX0CGZbty0KTth9RoS5rqYInCUUrDlY9hKMLzSvrl1TKsxNOvrXf/+b60 9VK0GlixnzmwNOz9O0hjyyrVRWDJBdr1XXN0nsDOHlwzSEq1X8Vc4UjKJO0xE7TX7LEY eHeQ== X-Gm-Message-State: AOJu0YxQu+3QlH78TX/k8cGDzsj0yvxliqipXLWHkGJ9HHUeZaqsbwG9 YufALZzTy4KZOFN/UBxwxE7R9opcqdVJP6kmVPqy4JSg/R70sOUdES2tO02GakEmkh6HrfuJWJR o3z2UmNAJluLljyBS9zsAhLQQdeKvVDtai0VFEEThOZSn X-Gm-Gg: ASbGncvIjHUANMRuhqcEyBpYIHSyMC4sNBDHe5xTEUhnl01eiwMB/ZZIQnD5Y4Nuerj FZTr2RcNfTbgfvviEkiTEwPDvOIQ7J60TDTZ7FXqB+BoSMnOL6s92TL3FIQlEcEk4JGVyZNCMgD 95J2Ja4LWLsJqtLsUNuURoLLWRL68YiQ6ISj5RdUazRVe5bRs2YKCoQhJ9uhr240hzeDA34FDNf XaJzAt6wuPzqfCauzpZc3KJKDKnqMN+fOPQyyp6MFWN0QBo87w3COaU/UOO45iMtFxreOU7sMQZ j21rCJ4XLKL0uj3wA5La+gTALIdVfC+6fyFBUMp+VnJ2Ua2l8y6om5q++tpxo6o97cAM4C0JYid +Vg== X-Google-Smtp-Source: AGHT+IEyKnLC6jFwdR6CCD12mqZF3YfwIzR6IPYm+JbqXXJ4XiQ9G/BU60BKrfC4l99qh6K3rIYPI6UwvggV X-Received: by 2002:a05:6e02:2593:b0:42e:7598:73eb with SMTP id e9e14a558f8ab-42f873fa31cmr2382205ab.23.1759859118975; Tue, 07 Oct 2025 10:45:18 -0700 (PDT) Received: from postal.iol.unh.edu (postal.iol.unh.edu. [132.177.123.84]) by smtp-relay.gmail.com with ESMTPS id 8926c6da1cb9f-57b5eded7aasm1287957173.45.2025.10.07.10.45.18 (version=TLS1_2 cipher=ECDHE-ECDSA-AES128-GCM-SHA256 bits=128/128); Tue, 07 Oct 2025 10:45:18 -0700 (PDT) X-Relaying-Domain: iol.unh.edu Date: Tue, 07 Oct 2025 10:45:18 -0700 (PDT) Message-ID: <68e551ae.050a0220.3b50ea.607fSMTPIN_ADDED_MISSING@mx.google.com> Received: from [172.21.0.2] (unknown [172.18.0.240]) by postal.iol.unh.edu (Postfix) with ESMTP id 86A8B604D420; Tue, 7 Oct 2025 13:45:18 -0400 (EDT) Subject: |SUCCESS| pw157314 [PATCH] [v2] vhost: always lock all QPs if handle From: dpdklab@iol.unh.edu To: Test Report Cc: dpdk-test-reports@iol.unh.edu, Chenbo Xia , Maxime Coquelin In-Reply-To: <20251007150630.2895365-1-sil-plv@napatech.com> References: <20251007150630.2895365-1-sil-plv@napatech.com> Content-Type: text/plain X-BeenThere: test-report@dpdk.org X-Mailman-Version: 2.1.29 Precedence: list List-Id: automatic DPDK test reports List-Unsubscribe: , List-Archive: List-Post: List-Help: List-Subscribe: , Errors-To: test-report-bounces@dpdk.org Test-Label: iol-unit-amd64-testing Test-Status: SUCCESS http://dpdk.org/patch/157314 _Testing PASS_ Submitter: Serhii Iliushyk Date: Tuesday, October 07 2025 15:06:30 DPDK git baseline: Repo:dpdk-next-virtio Branch: master CommitID:4159ea62922ce41566c7bab44655ad78bee85458 157314 --> testing pass Upstream job id: Generic-Unit-Test-DPDK#379261 Test environment and result as below: +-------------------------------+----------------+ | Environment | dpdk_unit_test | +===============================+================+ | CentOS Stream 9 | PASS | +-------------------------------+----------------+ | CentOS Stream 10 | PASS | +-------------------------------+----------------+ | Debian GNU/Linux 12 | PASS | +-------------------------------+----------------+ | Fedora Linux 40 | PASS | +-------------------------------+----------------+ | Fedora Linux 41 | PASS | +-------------------------------+----------------+ | Fedora Linux 42 | PASS | +-------------------------------+----------------+ | Red Hat Enterprise Linux 9.5 | PASS | +-------------------------------+----------------+ | Red Hat Enterprise Linux 8.10 | PASS | +-------------------------------+----------------+ | Ubuntu 22.04 | PASS | +-------------------------------+----------------+ | Ubuntu 20.04 | PASS | +-------------------------------+----------------+ | Ubuntu 24.04 | PASS | +-------------------------------+----------------+ | Windows Server 2022 | PASS | +-------------------------------+----------------+ CentOS Stream 9 Kernel: 5.15 Compiler: gcc gcc (GCC) 11.5.0 20240719 (Red Hat 11.5.0-11) CentOS Stream 10 Kernel: 5.15 Compiler: gcc gcc (GCC) 14.2.1 20250110 (Red Hat 14.2.1-8) Debian GNU/Linux 12 Kernel: 5.15 Compiler: gcc gcc (Debian 12.2.0-14+deb12u1) 12.2.0 Fedora Linux 40 Kernel: 5.15 Compiler: gcc gcc (GCC) 14.2.1 20240912 (Red Hat 14.2.1-3) Fedora Linux 41 Kernel: 5.15 Compiler: gcc gcc (GCC) 14.3.1 20250523 (Red Hat 14.3.1-1) Fedora Linux 42 Kernel: 5.15 Compiler: gcc gcc (GCC) 15.2.1 20250808 (Red Hat 15.2.1-1) Red Hat Enterprise Linux 9.5 Kernel: 5.15 Compiler: gcc gcc (GCC) 11.5.0 20240719 (Red Hat 11.5.0-2) Red Hat Enterprise Linux 8.10 Kernel: 5.15 Compiler: gcc gcc (GCC) 8.5.0 20210514 (Red Hat 8.5.0-22) Ubuntu 22.04 Kernel: 5.15 Compiler: gcc gcc (Ubuntu 11.4.0-1ubuntu1~22.04) 11.4.0 Ubuntu 20.04 Kernel: 5.15 Compiler: gcc gcc (Ubuntu 9.4.0-1ubuntu1~20.04.2) 9.4.0 Ubuntu 24.04 Kernel: 5.15 Compiler: gcc gcc (Ubuntu 13.3.0-6ubuntu2~24.04) 13.3.0 Windows Server 2022 Kernel: 10.0.20348.2031 Compiler: clang 15.0.7, gcc 14.1.0 (MinGW), and MSVC VS 19.39.33521 To view detailed results, visit: https://lab.dpdk.org/results/dashboard/patchsets/34231/ UNH-IOL DPDK Community Lab To manage your email subscriptions, visit: https://lab.dpdk.org/results/dashboard/preferences/subscriptions/