From mboxrd@z Thu Jan 1 00:00:00 1970 Return-Path: Received: from mails.dpdk.org (mails.dpdk.org [217.70.189.124]) by inbox.dpdk.org (Postfix) with ESMTP id 49360488D8 for ; Tue, 7 Oct 2025 20:03:40 +0200 (CEST) Received: from mails.dpdk.org (localhost [127.0.0.1]) by mails.dpdk.org (Postfix) with ESMTP id 430DF40268; Tue, 7 Oct 2025 20:03:40 +0200 (CEST) Received: from mail-oa1-f100.google.com (mail-oa1-f100.google.com [209.85.160.100]) by mails.dpdk.org (Postfix) with ESMTP id D59A640268 for ; Tue, 7 Oct 2025 20:03:38 +0200 (CEST) Received: by mail-oa1-f100.google.com with SMTP id 586e51a60fabf-36ce5686d75so4448688fac.3 for ; Tue, 07 Oct 2025 11:03:38 -0700 (PDT) DKIM-Signature: v=1; a=rsa-sha256; c=relaxed/relaxed; d=iol.unh.edu; s=unh-iol; t=1759860218; x=1760465018; darn=dpdk.org; h=references:in-reply-to:cc:to:from:subject:message-id:date:from:to :cc:subject:date:message-id:reply-to; bh=fqbHMMVBnkhMqdr+twtms72RTsx9imHhlszlx9LIh60=; b=LCfTPzkOrLqng2++VO6bhrXyIWjOmdEJVSDoKZHgwIoTbJCJByHfKqoOWdvYQXfFN5 AQyOtbM6MkBUNW7FueU6FK/HyNwzW1R5lIFQIj1cblIobb7oomRJaJHqGjBQrNKus+pJ xYdYu6FBQmHkRM0ZbKF63t0D+qp8hf9bAreuw= X-Google-DKIM-Signature: v=1; a=rsa-sha256; c=relaxed/relaxed; d=1e100.net; s=20230601; t=1759860218; x=1760465018; h=references:in-reply-to:cc:to:from:subject:message-id:date :x-gm-message-state:from:to:cc:subject:date:message-id:reply-to; bh=fqbHMMVBnkhMqdr+twtms72RTsx9imHhlszlx9LIh60=; b=XZySuKDENiGl//jN10AfLULVSeYbxTzVJVl03FpEffA3+cpGA7B8gdB/XZUVGs0/OW 34Tt/NQp39nSZfWH9XY3AgOft05EabUnTZlD+zgxDkHJJnhVVNGy7nNrkA2QOPFPRZQR Wj7dGdePMGqBEZcO05mzbrfgF+lciImBgTxOBw1loe0pVkIFNUrZsUAJUdXyWeeH4Cz/ cjzBuKLRJWRsgu9DuYq4U2vgADcdtZwlEKxoxXvcwWZFqCH7rDOlD1Ma3EPPit0AJPGX on0dW+jS6VmHrUBxsH6CFqGADDgAOzQsAlADLD9b+wZneK4frJfUMv3ipAN7WW/5bq+P t52w== X-Gm-Message-State: AOJu0Yx6zqqvAkTZz9zM2P4xtJVUZE3l+2XdCbkiA3NfXQ4JfD4R8PhA FLm4U1+udUQAqB1eXezUActewmhaggfoxuddbfZxSYm9l4Eo9rRwDcFeA+eUDt5Wyuh4zLwyizP oMqGY031/T2zUcax5S2IssScEgKYZzw7Rgev4MypD6udZnmGorQ8/kmEga0Ar X-Gm-Gg: ASbGncvjSyTJotmWX8VoaSomgtw3F8UDBzPxmnxUgTcY9KFdQgx4WLU2BykCajJGJ18 RvgtV1MJHrlpkSTO4uolVKDcHtLMi3eZv8gIHKDY4XtqbqZJz1f+C3slBeSBCrydn2Xl/edSO5s dTlkx1JQQohJuS2pjzP1VnEsoss+92X4n3pkc7UMFBOozkHU8cufkCwMmBXf+x8jjvP00uakPuj cEvWNizvc1S6xioN5/K+asKUbgM8RSb5FeRnXEY0NJLaJ7qzkP0mojbWHW2bLfVku8b2chq6ym0 EjWqP4m5ZjqTG1te9HJ7pNxqyhmAIUYx7Ld833506HItTlcK02AGdQY= X-Google-Smtp-Source: AGHT+IEg6g0XkADH/WJg8nZJzyTUuJm2cUgMI9XUFFbZaNL/nrxiEGt2+PuOZjygklCMaU6GMx8SX7XpS9i4 X-Received: by 2002:a05:6870:d695:b0:396:3593:d1b2 with SMTP id 586e51a60fabf-3c0f62f50c2mr329148fac.15.1759860217893; Tue, 07 Oct 2025 11:03:37 -0700 (PDT) Received: from postal.iol.unh.edu (postal.iol.unh.edu. [2606:4100:3880:1234::84]) by smtp-relay.gmail.com with ESMTPS id 586e51a60fabf-3ab98472c47sm1399059fac.24.2025.10.07.11.03.37 (version=TLS1_2 cipher=ECDHE-ECDSA-AES128-GCM-SHA256 bits=128/128); Tue, 07 Oct 2025 11:03:37 -0700 (PDT) X-Relaying-Domain: iol.unh.edu Date: Tue, 07 Oct 2025 11:03:37 -0700 (PDT) Message-ID: <68e555f9.050a0220.158646.c8e7SMTPIN_ADDED_MISSING@mx.google.com> Received: from [172.21.0.2] (unknown [172.18.0.240]) by postal.iol.unh.edu (Postfix) with ESMTP id E4AF2604D420; Tue, 7 Oct 2025 14:03:36 -0400 (EDT) Subject: |SUCCESS| pw157304-157308 [PATCH] [5/5] net/dpaa: Fix coverity issue From: dpdklab@iol.unh.edu To: Test Report Cc: dpdk-test-reports@iol.unh.edu, Stephen Hemminger In-Reply-To: <20251007050012.2432449-6-g.singh@nxp.com> References: <20251007050012.2432449-6-g.singh@nxp.com> Content-Type: text/plain X-BeenThere: test-report@dpdk.org X-Mailman-Version: 2.1.29 Precedence: list List-Id: automatic DPDK test reports List-Unsubscribe: , List-Archive: List-Post: List-Help: List-Subscribe: , Errors-To: test-report-bounces@dpdk.org Test-Label: iol-unit-arm64-testing Test-Status: SUCCESS http://dpdk.org/patch/157308 _Testing PASS_ Submitter: Gagandeep Singh Date: Tuesday, October 07 2025 05:00:12 DPDK git baseline: Repo:dpdk-next-net Branch: master CommitID:c04bbd131b2c14b3049bf86d3ef367b34e6fdf1e 157304-157308 --> testing pass Upstream job id: Generic-Unit-Test-DPDK#379112 Test environment and result as below: +------------------------------+----------------+--------------+---------------------------+------------------------------+ | Environment | dpdk_unit_test | lpm_autotest | cryptodev_sw_zuc_autotest | cryptodev_sw_snow3g_autotest | +==============================+================+==============+===========================+==============================+ | CentOS Stream 9 | PASS | SKIPPED | SKIPPED | SKIPPED | +------------------------------+----------------+--------------+---------------------------+------------------------------+ | CentOS Stream 10 | PASS | SKIPPED | SKIPPED | SKIPPED | +------------------------------+----------------+--------------+---------------------------+------------------------------+ | Debian GNU/Linux 12 | PASS | SKIPPED | SKIPPED | SKIPPED | +------------------------------+----------------+--------------+---------------------------+------------------------------+ | Fedora Linux 40 | PASS | SKIPPED | SKIPPED | SKIPPED | +------------------------------+----------------+--------------+---------------------------+------------------------------+ | Fedora Linux 41 | PASS | SKIPPED | SKIPPED | SKIPPED | +------------------------------+----------------+--------------+---------------------------+------------------------------+ | Fedora Linux 42 | PASS | SKIPPED | SKIPPED | SKIPPED | +------------------------------+----------------+--------------+---------------------------+------------------------------+ | Red Hat Enterprise Linux 9.5 | PASS | SKIPPED | SKIPPED | SKIPPED | +------------------------------+----------------+--------------+---------------------------+------------------------------+ | Ubuntu 22.04 | PASS | SKIPPED | SKIPPED | SKIPPED | +------------------------------+----------------+--------------+---------------------------+------------------------------+ | Ubuntu 24.04 | PASS | SKIPPED | SKIPPED | SKIPPED | +------------------------------+----------------+--------------+---------------------------+------------------------------+ | Ubuntu 20.04 | PASS | PASS | SKIPPED | SKIPPED | +------------------------------+----------------+--------------+---------------------------+------------------------------+ | Debian 12 (arm) | SKIPPED | SKIPPED | PASS | PASS | +------------------------------+----------------+--------------+---------------------------+------------------------------+ CentOS Stream 9 Kernel: 5.4 Compiler: gcc gcc (GCC) 11.5.0 20240719 (Red Hat 11.5.0-11) CentOS Stream 10 Kernel: 5.4 Compiler: gcc gcc (GCC) 14.2.1 20250110 (Red Hat 14.2.1-8) Debian GNU/Linux 12 Kernel: 5.4 Compiler: gcc gcc (Debian 12.2.0-14+deb12u1) 12.2.0 Fedora Linux 40 Kernel: 5.4 Compiler: gcc gcc (GCC) 14.2.1 20240912 (Red Hat 14.2.1-3) Fedora Linux 41 Kernel: 5.4 Compiler: gcc gcc (GCC) 14.3.1 20250523 (Red Hat 14.3.1-1) Fedora Linux 42 Kernel: 5.4 Compiler: gcc gcc (GCC) 15.2.1 20250808 (Red Hat 15.2.1-1) Red Hat Enterprise Linux 9.5 Kernel: 5.4 Compiler: gcc gcc (GCC) 11.5.0 20240719 (Red Hat 11.5.0-2) Ubuntu 22.04 Kernel: 5.4 Compiler: gcc gcc (Ubuntu 11.4.0-1ubuntu1~22.04) 11.4.0 Ubuntu 24.04 Kernel: 5.4 Compiler: gcc gcc (Ubuntu 13.3.0-6ubuntu2~24.04) 13.3.0 Ubuntu 20.04 Kernel: 5.4 Compiler: gcc gcc (Ubuntu 9.4.0-1ubuntu1~20.04.2) 9.4.0 Debian 12 (arm) Kernel: Depends on container host Compiler: gcc (Debian 12.2.0-14) 12.2.0 To view detailed results, visit: https://lab.dpdk.org/results/dashboard/patchsets/34226/ UNH-IOL DPDK Community Lab To manage your email subscriptions, visit: https://lab.dpdk.org/results/dashboard/preferences/subscriptions/