From mboxrd@z Thu Jan 1 00:00:00 1970 Return-Path: Received: from mails.dpdk.org (mails.dpdk.org [217.70.189.124]) by inbox.dpdk.org (Postfix) with ESMTP id D05A9488D8 for ; Tue, 7 Oct 2025 20:09:25 +0200 (CEST) Received: from mails.dpdk.org (localhost [127.0.0.1]) by mails.dpdk.org (Postfix) with ESMTP id C907B40268; Tue, 7 Oct 2025 20:09:25 +0200 (CEST) Received: from mail-oa1-f98.google.com (mail-oa1-f98.google.com [209.85.160.98]) by mails.dpdk.org (Postfix) with ESMTP id 8AD0040268 for ; Tue, 7 Oct 2025 20:09:25 +0200 (CEST) Received: by mail-oa1-f98.google.com with SMTP id 586e51a60fabf-36e4d00ebfdso2139470fac.1 for ; Tue, 07 Oct 2025 11:09:25 -0700 (PDT) DKIM-Signature: v=1; a=rsa-sha256; c=relaxed/relaxed; d=iol.unh.edu; s=unh-iol; t=1759860565; x=1760465365; darn=dpdk.org; h=cc:to:from:subject:message-id:date:from:to:cc:subject:date :message-id:reply-to; bh=JSjs5U2nDs1hT/myBBCPDK4a6XzHSuFPkMdBdCC/ZcM=; b=iGkpSI9/MVCw83qg0tpFPvCXNyl6fLVlr2fzXzjrEj29OPoN5jozTk1EoQhvtFde30 LfcDTUaZ5fsf8NRi5BkLQm/ZjsD9vjSroIDhOfXNT8BSY39hiFSWC304jahiUh+nMd8T /SivOFiaNbRxjYazgkI0n0w28vvSzerwt4yi4= X-Google-DKIM-Signature: v=1; a=rsa-sha256; c=relaxed/relaxed; d=1e100.net; s=20230601; t=1759860565; x=1760465365; h=cc:to:from:subject:message-id:date:x-gm-message-state:from:to:cc :subject:date:message-id:reply-to; bh=JSjs5U2nDs1hT/myBBCPDK4a6XzHSuFPkMdBdCC/ZcM=; b=Vq0bFf3GFxJEO1LHcvpYtzQ9t+04p+IWCeyPuQG+/YRlsRv+KmhlEZm0r6BtmYOgPj U/tyCXXAd1XhVndHDDhxv+TR4MYJ2/ChnUCvu9LcvE8s3Oqe7N9qpZjWh0vZ57N+xLkF j8WI8dj2zWpS05sKbBDQ97ssEXJ9oYj80VCl4qtCYtCGxXJRWAmHuucyTwZsmxcoOuIw YMYyWPJ+Pc+ybsyQqfOkYGeCN6q8jU2nbLObOrU+GeY+dOISPovLTv+GFR8UZ2dN48bV 6hGgG5UGMcuHJdvOfl+oKRJiItfjqal/OXKHO7u+0/oT3hr0IDuZ3ukXZG7nbKCMCEco ZxSA== X-Gm-Message-State: AOJu0YzRKw2zr/JtGP6PwkP9UyHmkJJW4A9UiHh8pMop+3gDbpiaqmC+ F/5d4iP1ZVDw8sHDmyNy9yJ9OCEFX8Uk9nbyFGHNLYsgOE7H3jZ5pGedd9Xhwx8AF3udDRiK2KT 3C5jYLvjcEnkPAGbj/bd4NTNIEWGSJOrkU7MxgSWnzPd+giUqmjYCKmxeEqvJ X-Gm-Gg: ASbGncsChbTSQBf7IyVCvuedXIBNYnN47Jc0/gIkGDam99wehtFb7CjKZo/GFAZPzDV 5oVnpTseXAAYdzcWb1O2sYJVxVSfi7/OpcyD8WmNPAltUGkZqIR+YqP/b0+8xNdHsU0/apybpUB Ru3F+eTpzlEefQpPDkly0IZkGYoudRtAncZoWCI5Rh4UUnQqPdJK8RrnDIvWrrVYvuud6VYhjST cDtuaQAePMyQUbbVpGRfD52G4t60ecxas+uESFU4PXm4abQ8jpn5az4X3NM2ygjLqrPpszRAdsS Y1dc8KIy1fJlmvZSfMoA58vN+YW3N4QOLqp8YJCkcIfRn3f7kSwTo1Q= X-Google-Smtp-Source: AGHT+IGEzJtfbgBUofX97NuriMrQyPYKGpG64E29Z/EVipWZTDgdX3wqcK2pybQs8kUe8X/wValZ+vv7QV0l X-Received: by 2002:a05:6871:2b25:b0:36d:287c:694f with SMTP id 586e51a60fabf-3c0f80edcd7mr322390fac.30.1759860564854; Tue, 07 Oct 2025 11:09:24 -0700 (PDT) Received: from postal.iol.unh.edu (postal.iol.unh.edu. [2606:4100:3880:1234::84]) by smtp-relay.gmail.com with ESMTPS id 586e51a60fabf-3ab79f514b5sm1313959fac.4.2025.10.07.11.09.24 (version=TLS1_2 cipher=ECDHE-ECDSA-AES128-GCM-SHA256 bits=128/128); Tue, 07 Oct 2025 11:09:24 -0700 (PDT) X-Relaying-Domain: iol.unh.edu Date: Tue, 07 Oct 2025 11:09:24 -0700 (PDT) Message-ID: <68e55754.050a0220.2fefb3.64c7SMTPIN_ADDED_MISSING@mx.google.com> Received: from [172.21.0.6] (unknown [172.18.0.240]) by postal.iol.unh.edu (Postfix) with ESMTP id 59487604D420; Tue, 7 Oct 2025 14:09:24 -0400 (EDT) Subject: |SUCCESS| [GIT MASTER] 14d3c6f6a6c18f3b141d0bd9786c6dd3ae3714a3 From: dpdklab@iol.unh.edu To: Test Report Cc: dpdk-test-reports@iol.unh.edu, Jerin Jacob Content-Type: text/plain X-BeenThere: test-report@dpdk.org X-Mailman-Version: 2.1.29 Precedence: list List-Id: automatic DPDK test reports List-Unsubscribe: , List-Archive: List-Post: List-Help: List-Subscribe: , Errors-To: test-report-bounces@dpdk.org _Testing PASS_ Branch: dpdk-next-eventdev 14d3c6f6a6c18f3b141d0bd9786c6dd3ae3714a3 --> testing pass Upstream job id: Generic-Unit-Test-DPDK#379286 Test environment and result as below: +-------------------------------+----------------+ | Environment | dpdk_unit_test | +===============================+================+ | CentOS Stream 9 | PASS | +-------------------------------+----------------+ | CentOS Stream 10 | PASS | +-------------------------------+----------------+ | Fedora Linux 40 | PASS | +-------------------------------+----------------+ | Debian GNU/Linux 12 | PASS | +-------------------------------+----------------+ | Fedora Linux 41 | PASS | +-------------------------------+----------------+ | Fedora Linux 42 | PASS | +-------------------------------+----------------+ | Red Hat Enterprise Linux 9.5 | PASS | +-------------------------------+----------------+ | Red Hat Enterprise Linux 8.10 | PASS | +-------------------------------+----------------+ | Ubuntu 22.04 | PASS | +-------------------------------+----------------+ | Ubuntu 20.04 | PASS | +-------------------------------+----------------+ | Ubuntu 24.04 | PASS | +-------------------------------+----------------+ | Windows Server 2022 | PASS | +-------------------------------+----------------+ CentOS Stream 9 Kernel: 5.15 Compiler: gcc gcc (GCC) 11.5.0 20240719 (Red Hat 11.5.0-11) CentOS Stream 10 Kernel: 5.15 Compiler: gcc gcc (GCC) 14.2.1 20250110 (Red Hat 14.2.1-8) Fedora Linux 40 Kernel: 5.15 Compiler: gcc gcc (GCC) 14.2.1 20240912 (Red Hat 14.2.1-3) Debian GNU/Linux 12 Kernel: 5.15 Compiler: gcc gcc (Debian 12.2.0-14+deb12u1) 12.2.0 Fedora Linux 41 Kernel: 5.15 Compiler: gcc gcc (GCC) 14.3.1 20250523 (Red Hat 14.3.1-1) Fedora Linux 42 Kernel: 5.15 Compiler: gcc gcc (GCC) 15.2.1 20250808 (Red Hat 15.2.1-1) Red Hat Enterprise Linux 9.5 Kernel: 5.15 Compiler: gcc gcc (GCC) 11.5.0 20240719 (Red Hat 11.5.0-2) Red Hat Enterprise Linux 8.10 Kernel: 5.15 Compiler: gcc gcc (GCC) 8.5.0 20210514 (Red Hat 8.5.0-22) Ubuntu 22.04 Kernel: 5.15 Compiler: gcc gcc (Ubuntu 11.4.0-1ubuntu1~22.04) 11.4.0 Ubuntu 20.04 Kernel: 5.15 Compiler: gcc gcc (Ubuntu 9.4.0-1ubuntu1~20.04.2) 9.4.0 Ubuntu 24.04 Kernel: 5.15 Compiler: gcc gcc (Ubuntu 13.3.0-6ubuntu2~24.04) 13.3.0 Windows Server 2022 Kernel: 10.0.20348.2031 Compiler: clang 15.0.7, gcc 14.1.0 (MinGW), and MSVC VS 19.39.33521 To view detailed results, visit: https://lab.dpdk.org/results/dashboard/tarballs/35134/ UNH-IOL DPDK Community Lab To manage your email subscriptions, visit: https://lab.dpdk.org/results/dashboard/preferences/subscriptions/