From mboxrd@z Thu Jan 1 00:00:00 1970 Return-Path: Received: from mails.dpdk.org (mails.dpdk.org [217.70.189.124]) by inbox.dpdk.org (Postfix) with ESMTP id DBC7E488D8 for ; Tue, 7 Oct 2025 20:40:07 +0200 (CEST) Received: from mails.dpdk.org (localhost [127.0.0.1]) by mails.dpdk.org (Postfix) with ESMTP id D525640268; Tue, 7 Oct 2025 20:40:07 +0200 (CEST) Received: from mail-oa1-f98.google.com (mail-oa1-f98.google.com [209.85.160.98]) by mails.dpdk.org (Postfix) with ESMTP id 51A1B40268 for ; Tue, 7 Oct 2025 20:40:06 +0200 (CEST) Received: by mail-oa1-f98.google.com with SMTP id 586e51a60fabf-3701626c1d5so925962fac.3 for ; Tue, 07 Oct 2025 11:40:06 -0700 (PDT) DKIM-Signature: v=1; a=rsa-sha256; c=relaxed/relaxed; d=iol.unh.edu; s=unh-iol; t=1759862405; x=1760467205; darn=dpdk.org; h=cc:to:from:subject:message-id:date:from:to:cc:subject:date :message-id:reply-to; bh=VbxG+gplu5JTGqOAUTEpBTNfmXF+fGUukr9O2KKcBiw=; b=XdXjnorCP9//R1WtuBd47CcNaqLBDlbuqbpUU5T1zgn9iruvzD5vHI+9zi2kQd9ER+ ZfUxYzimtep6VDEkkrIcz5/CaRRdjjrCdmpTcNg2CHo3u9iDZ50uOs3hQL5L31A9O54b D07U/IwPeyKGaYlJVF69cNR2I6AK3f6cLLgqQ= X-Google-DKIM-Signature: v=1; a=rsa-sha256; c=relaxed/relaxed; d=1e100.net; s=20230601; t=1759862405; x=1760467205; h=cc:to:from:subject:message-id:date:x-gm-message-state:from:to:cc :subject:date:message-id:reply-to; bh=VbxG+gplu5JTGqOAUTEpBTNfmXF+fGUukr9O2KKcBiw=; b=mTXwZ/in2Vp6z5jsaVrQP2wEYVEHfP+7PJIdOSJ9oHpDO+jWT+98WW9EEyzKFCq7Ea fJwjZfh4gwnHi01BjfD+nKdI/oexdvvTqpP1LmA8T5X3Bugva2PvRuFjB6XCM7Vtj/CA cJzfmk58JfVmSbXMd7t4bBbr1/5F2NDV5+4WglHJxwiDhQzQGvSIroQc44DL7VJNfYbd 9lWH9bUpPjE1iphhBxb51UeyhpzTvhjvjjERncRWyjBXnTbBxFzaXJNm30zb7jEPNG53 +uR3w544DpR+i9T78xqYtKg2HixVqoCf/Kt9cua61usPCk5pwkx8eJbVTfWSh/rbtOKc Jsow== X-Gm-Message-State: AOJu0Yya+j6mT1qjeNNAfHI2oidUq+FkKzXKB1YWFLLDyRtQ/ZgUXH2P c281XDHRr6vM4OdTxwnH7aJifupcreieApP7NVm9JNyC9xr30boWzOHWtnjYdbpKqafcOd9Q8Oj eXmsULED2JBLXaNNZKcH9ukuvEdI8bwsKoOZiY6Y9ITI4ME/78x7z X-Gm-Gg: ASbGnctanQ4+TcTWtW+yIeAxleOoRLMho7Bqv3RYCquQPiFzf7+7CWY60JgbcCWkGfY CP9gX00qYbXhLRfUbN1vPngwbFDCRmmrV6yl4/ftUrwHmH7cdyUzJfRmwIDeSkWoQqr2qLgNAqq 8VvmOQx/SR73/mxAM68IC0rSK8kYcc1kXbdPTANy/InfQi0fmq2G4vMWlumzNiSRKltsrcihnk1 0+lBJpM/q1Avr+YincX2XtGQx7knxIJSgqE3q3D+mZjJcezvuJFqTddg6y/jr/s8UX8Aiickfqs e3iZEjUtTZ9i0XbdJ2yHai/NuI0n2WCD3w1SG/eJ4OLgp1b+YgOZyzE= X-Google-Smtp-Source: AGHT+IHq+LmOmDNPZsBHqhiaCJ77oqz7JTwJu+WZ5oTbDxKiCoaEVaaljH04lTUVvQm3yYVPXh9h8JgPbhN2 X-Received: by 2002:a05:6870:17a1:b0:321:fcf1:e845 with SMTP id 586e51a60fabf-3c0f63f0f60mr325483fac.19.1759862405561; Tue, 07 Oct 2025 11:40:05 -0700 (PDT) Received: from postal.iol.unh.edu (postal.iol.unh.edu. [2606:4100:3880:1234::84]) by smtp-relay.gmail.com with ESMTPS id 586e51a60fabf-3ab9847bf16sm1372834fac.23.2025.10.07.11.40.05 (version=TLS1_2 cipher=ECDHE-ECDSA-AES128-GCM-SHA256 bits=128/128); Tue, 07 Oct 2025 11:40:05 -0700 (PDT) X-Relaying-Domain: iol.unh.edu Date: Tue, 07 Oct 2025 11:40:05 -0700 (PDT) Message-ID: <68e55e85.050a0220.732d2.c09eSMTPIN_ADDED_MISSING@mx.google.com> Received: from [172.21.0.2] (unknown [172.18.0.240]) by postal.iol.unh.edu (Postfix) with ESMTP id 16280604D420; Tue, 7 Oct 2025 14:40:05 -0400 (EDT) Subject: |SUCCESS| [GIT MASTER] b287e404643aeab5bb5db084c142789df187844e From: dpdklab@iol.unh.edu To: Test Report Cc: dpdk-test-reports@iol.unh.edu, Xueming Li , Christian Ehrhardt , Kevin Traynor , Luca Boccassi Content-Type: text/plain X-BeenThere: test-report@dpdk.org X-Mailman-Version: 2.1.29 Precedence: list List-Id: automatic DPDK test reports List-Unsubscribe: , List-Archive: List-Post: List-Help: List-Subscribe: , Errors-To: test-report-bounces@dpdk.org _Testing PASS_ Branch: tags/v24.11 b287e404643aeab5bb5db084c142789df187844e --> testing pass Upstream job id: Generic-DPDK-Compile-Meson#431708 Test environment and result as below: +------------------------------+--------------------+ | Environment | dpdk_meson_compile | +==============================+====================+ | Red Hat Enterprise Linux 9.5 | PASS | +------------------------------+--------------------+ | Ubuntu 20.04 | PASS | +------------------------------+--------------------+ | Debian GNU/Linux 12 | PASS | +------------------------------+--------------------+ | Fedora Linux 42 | PASS | +------------------------------+--------------------+ | Ubuntu 22.04 | PASS | +------------------------------+--------------------+ | Ubuntu 24.04 | PASS | +------------------------------+--------------------+ | CentOS Stream 9 | PASS | +------------------------------+--------------------+ | CentOS Stream 10 | PASS | +------------------------------+--------------------+ Red Hat Enterprise Linux 9.5 Kernel: 5.4 Compiler: gcc gcc (GCC) 11.5.0 20240719 (Red Hat 11.5.0-2) Ubuntu 20.04 Kernel: 5.15 Compiler: aarch64-linux-gnu-gcc gcc (Ubuntu 9.4.0-1ubuntu1~20.04.2) 9.4.0 Debian GNU/Linux 12 Kernel: 5.4 Compiler: gcc gcc (Debian 12.2.0-14+deb12u1) 12.2.0 Fedora Linux 42 Kernel: 5.4 Compiler: gcc gcc (GCC) 15.2.1 20250808 (Red Hat 15.2.1-1) Ubuntu 22.04 Kernel: 5.4 Compiler: gcc gcc (Ubuntu 11.4.0-1ubuntu1~22.04) 11.4.0 Ubuntu 24.04 Kernel: 5.4 Compiler: gcc gcc (Ubuntu 13.3.0-6ubuntu2~24.04) 13.3.0 CentOS Stream 9 Kernel: 5.4 Compiler: gcc gcc (GCC) 11.5.0 20240719 (Red Hat 11.5.0-11) CentOS Stream 10 Kernel: 5.4 Compiler: gcc gcc (GCC) 14.2.1 20250110 (Red Hat 14.2.1-8) To view detailed results, visit: https://lab.dpdk.org/results/dashboard/tarballs/35110/ UNH-IOL DPDK Community Lab To manage your email subscriptions, visit: https://lab.dpdk.org/results/dashboard/preferences/subscriptions/