From mboxrd@z Thu Jan 1 00:00:00 1970 Return-Path: Received: from mails.dpdk.org (mails.dpdk.org [217.70.189.124]) by inbox.dpdk.org (Postfix) with ESMTP id 2C36A488D8 for ; Tue, 7 Oct 2025 21:45:51 +0200 (CEST) Received: from mails.dpdk.org (localhost [127.0.0.1]) by mails.dpdk.org (Postfix) with ESMTP id 0923840268; Tue, 7 Oct 2025 21:45:51 +0200 (CEST) Received: from mail-pf1-f225.google.com (mail-pf1-f225.google.com [209.85.210.225]) by mails.dpdk.org (Postfix) with ESMTP id D31D240268 for ; Tue, 7 Oct 2025 21:45:49 +0200 (CEST) Received: by mail-pf1-f225.google.com with SMTP id d2e1a72fcca58-782e93932ffso6130515b3a.3 for ; Tue, 07 Oct 2025 12:45:49 -0700 (PDT) DKIM-Signature: v=1; a=rsa-sha256; c=relaxed/relaxed; d=iol.unh.edu; s=unh-iol; t=1759866349; x=1760471149; darn=dpdk.org; h=references:in-reply-to:cc:to:from:subject:message-id:date:from:to :cc:subject:date:message-id:reply-to; bh=PcJJbpLQ3bRML300BaI3itQ54HEodXnA2weT5JW35Ps=; b=E3Rb2VpigDV04rYp94o6V1F5VD0LWKUbTOUZ6sUj/41QtcpsFm9j3RT0ggf3TJ6rpX CFW575aWUTTs3IWYG0kwhPp6ewve5Fihkr87/gZ/kvwMIq4ciWdp195HhzQYkUi4VQgo RozPk6/9GNdQGAxGw7M/o3/p4stTulrX+o6hI= X-Google-DKIM-Signature: v=1; a=rsa-sha256; c=relaxed/relaxed; d=1e100.net; s=20230601; t=1759866349; x=1760471149; h=references:in-reply-to:cc:to:from:subject:message-id:date :x-gm-message-state:from:to:cc:subject:date:message-id:reply-to; bh=PcJJbpLQ3bRML300BaI3itQ54HEodXnA2weT5JW35Ps=; b=KqOaM93hlBC1QRCD3P9sygejPiAoFZZ9zmRTlYXfFflO31A4CncyjIQT/brdgCOrQw EnF1bYz+lb4VJnpseEfge5GeAMbjq21AviM3ncI2hErxxYlCo3yTBYeHwr/Qq2WJxtod hdQijmonUY6QfC4St0nj8+CzFKAgW6mZr+EITcm7jvUDG/buAgy+ZZ8mC7tdPAaOCJWQ J7T95ekszrJ32CL6myzRQQ6hUpdAttx6tDtb1SjhM9RZe2WsDJzFH6IRx4Zf/oV368gj eYYdY+87I7bWbWlnB3v1QzAx/KxE61PbsWY5HKtF3tchbrVje3PulekK790wWRLFLf64 XAwg== X-Gm-Message-State: AOJu0YylfuvquKgrS9O1p8CCx0AA1KB6YqWTM9PIPPT8SB8b4faRmJnq NY7dZ0nKtUU7YABvUgFSQzJ/8/4pezzeC6kH6ZuL5S6pY79i4+GW67M6MBnGs64DjfNTkRMLRfi jkXUEP8d8RdON7SolaTa7w9P3L78jvtdQyevYH5a4MTN/ X-Gm-Gg: ASbGncs9bYRRyPZU1/R8HfLeYzKDuAJ45GUIrtu2PVkC8yWmIwU5sWaws+NoOqH7uVX LbitO9wsu03K0g/d7KNWYYDKIrF3r7AKqOEf6450pIQg0VFwpfd0CgB2nR5j5wnCScU0XpgEn0D l8QOj69NQgpRnGG/trnW97n3dqryh2ikO0FqDEeU/+KPQotnt0NxT3+1b6BztG5iAxTQkvIHYDe EIJFbwc+9elO4mmye+vM5xGe/59gd4g7bhZyaBj9L+vJ1bYqzty+ng4ak2C1zS1whA8Mmuvmdnb 3xPJYDds3MAk/7Eas4Flg2V4cr9wRl4k/acWy90G38Nhe97pgvt8LnQ+jtYzbT9ZGNiXAlzAtVS uzA== X-Google-Smtp-Source: AGHT+IFat991XnLRwllu1iSQT0dm3D1Hka8/BBLOcRm5tVMovznP0Fnegy981W08DRtTHmns75oXonm3QfZy X-Received: by 2002:a05:6a20:3d1c:b0:2c6:cdcc:5dd0 with SMTP id adf61e73a8af0-32da7e23904mr909119637.0.1759866348892; Tue, 07 Oct 2025 12:45:48 -0700 (PDT) Received: from postal.iol.unh.edu (postal.iol.unh.edu. [132.177.123.84]) by smtp-relay.gmail.com with ESMTPS id 41be03b00d2f7-b6099b701a1sm939979a12.11.2025.10.07.12.45.48 (version=TLS1_2 cipher=ECDHE-ECDSA-AES128-GCM-SHA256 bits=128/128); Tue, 07 Oct 2025 12:45:48 -0700 (PDT) X-Relaying-Domain: iol.unh.edu Date: Tue, 07 Oct 2025 12:45:48 -0700 (PDT) Message-ID: <68e56dec.630a0220.17e35.35ebSMTPIN_ADDED_MISSING@mx.google.com> Received: from [172.21.0.2] (unknown [172.18.0.240]) by postal.iol.unh.edu (Postfix) with ESMTP id BE62E604D420; Tue, 7 Oct 2025 15:45:47 -0400 (EDT) Subject: |SUCCESS| pw157278-157282 [PATCH] [5/5] net/cnxk: enable CPT CQ for From: dpdklab@iol.unh.edu To: Test Report Cc: dpdk-test-reports@iol.unh.edu In-Reply-To: <20251006051402.1387576-5-rkudurumalla@marvell.com> References: <20251006051402.1387576-5-rkudurumalla@marvell.com> Content-Type: text/plain X-BeenThere: test-report@dpdk.org X-Mailman-Version: 2.1.29 Precedence: list List-Id: automatic DPDK test reports List-Unsubscribe: , List-Archive: List-Post: List-Help: List-Subscribe: , Errors-To: test-report-bounces@dpdk.org Test-Label: iol-compile-amd64-testing Test-Status: SUCCESS http://dpdk.org/patch/157282 _Testing PASS_ Submitter: Rakesh Kudurumalla Date: Monday, October 06 2025 05:14:02 DPDK git baseline: Repo:dpdk-next-net-mrvl Branch: master CommitID:f3878b615e69a12087a6c5d212723478cfc79c31 157278-157282 --> testing pass Upstream job id: Generic-DPDK-Compile-Meson#431861 Test environment and result as below: +-------------------------------+--------------------+-------------------+-------------------------+----------------------+-------------------+------------------+ | Environment | dpdk_meson_compile | dpdk_msvc_compile | dpdk_llvm_clang_compile | dpdk_mingw64_compile | dpdk_compile_spdk | dpdk_compile_ovs | +===============================+====================+===================+=========================+======================+===================+==================+ | Ubuntu 20.04 | PASS | SKIPPED | SKIPPED | SKIPPED | SKIPPED | SKIPPED | +-------------------------------+--------------------+-------------------+-------------------------+----------------------+-------------------+------------------+ | FreeBSD 14.2 | PASS | SKIPPED | SKIPPED | SKIPPED | SKIPPED | SKIPPED | +-------------------------------+--------------------+-------------------+-------------------------+----------------------+-------------------+------------------+ | CentOS Stream 9 | PASS | SKIPPED | SKIPPED | SKIPPED | PASS | SKIPPED | +-------------------------------+--------------------+-------------------+-------------------------+----------------------+-------------------+------------------+ | CentOS Stream 10 | PASS | SKIPPED | SKIPPED | SKIPPED | SKIPPED | SKIPPED | +-------------------------------+--------------------+-------------------+-------------------------+----------------------+-------------------+------------------+ | Debian GNU/Linux 12 | PASS | SKIPPED | SKIPPED | SKIPPED | PASS | SKIPPED | +-------------------------------+--------------------+-------------------+-------------------------+----------------------+-------------------+------------------+ | Fedora Linux 42 | PASS | SKIPPED | SKIPPED | SKIPPED | PASS | PASS | +-------------------------------+--------------------+-------------------+-------------------------+----------------------+-------------------+------------------+ | openSUSE Leap 15.6 | PASS | SKIPPED | SKIPPED | SKIPPED | SKIPPED | SKIPPED | +-------------------------------+--------------------+-------------------+-------------------------+----------------------+-------------------+------------------+ | Red Hat Enterprise Linux 8.10 | PASS | SKIPPED | SKIPPED | SKIPPED | SKIPPED | SKIPPED | +-------------------------------+--------------------+-------------------+-------------------------+----------------------+-------------------+------------------+ | Red Hat Enterprise Linux 9.5 | PASS | SKIPPED | SKIPPED | SKIPPED | SKIPPED | SKIPPED | +-------------------------------+--------------------+-------------------+-------------------------+----------------------+-------------------+------------------+ | Ubuntu 22.04 | PASS | SKIPPED | SKIPPED | SKIPPED | PASS | SKIPPED | +-------------------------------+--------------------+-------------------+-------------------------+----------------------+-------------------+------------------+ | Ubuntu 24.04 | PASS | SKIPPED | SKIPPED | SKIPPED | PASS | PASS | +-------------------------------+--------------------+-------------------+-------------------------+----------------------+-------------------+------------------+ | Alpine Linux 3.22.0 | PASS | SKIPPED | SKIPPED | SKIPPED | SKIPPED | SKIPPED | +-------------------------------+--------------------+-------------------+-------------------------+----------------------+-------------------+------------------+ | Windows Server 2022 | SKIPPED | PASS | PASS | PASS | SKIPPED | SKIPPED | +-------------------------------+--------------------+-------------------+-------------------------+----------------------+-------------------+------------------+ Ubuntu 20.04 Kernel: 4.19 Compiler: gcc gcc (Ubuntu 9.4.0-1ubuntu1~20.04.2) 9.4.0 FreeBSD 14.2 Kernel: 14.2-RELEASE Compiler: clang 18.1.6 CentOS Stream 9 Kernel: 5.15 Compiler: gcc gcc (GCC) 11.5.0 20240719 (Red Hat 11.5.0-11) CentOS Stream 10 Kernel: 5.15 Compiler: gcc gcc (GCC) 14.2.1 20250110 (Red Hat 14.2.1-8) Debian GNU/Linux 12 Kernel: 5.15 Compiler: gcc gcc (Debian 12.2.0-14+deb12u1) 12.2.0 Fedora Linux 42 Kernel: 5.15 Compiler: clang gcc (GCC) 15.2.1 20250808 (Red Hat 15.2.1-1) openSUSE Leap 15.6 Kernel: 5.15 Compiler: gcc gcc (SUSE Linux) 7.5.0 Red Hat Enterprise Linux 8.10 Kernel: 5.15 Compiler: gcc gcc (GCC) 8.5.0 20210514 (Red Hat 8.5.0-22) Red Hat Enterprise Linux 9.5 Kernel: 5.15 Compiler: gcc gcc (GCC) 11.5.0 20240719 (Red Hat 11.5.0-2) Ubuntu 22.04 Kernel: 5.15 Compiler: gcc gcc (Ubuntu 11.4.0-1ubuntu1~22.04) 11.4.0 Ubuntu 24.04 Kernel: 5.15 Compiler: gcc gcc (Ubuntu 13.3.0-6ubuntu2~24.04) 13.3.0 Alpine Linux 3.22.0 Kernel: 5.15 Compiler: gcc gcc (Alpine 14.2.0) 14.2.0 Windows Server 2022 Kernel: 10.0.20348.2031 Compiler: clang 15.0.7, gcc 14.1.0 (MinGW), and MSVC VS 19.39.33521 To view detailed results, visit: https://lab.dpdk.org/results/dashboard/patchsets/34217/ UNH-IOL DPDK Community Lab To manage your email subscriptions, visit: https://lab.dpdk.org/results/dashboard/preferences/subscriptions/