From mboxrd@z Thu Jan 1 00:00:00 1970 Return-Path: Received: from mails.dpdk.org (mails.dpdk.org [217.70.189.124]) by inbox.dpdk.org (Postfix) with ESMTP id 4E6CB488D8 for ; Tue, 7 Oct 2025 21:48:08 +0200 (CEST) Received: from mails.dpdk.org (localhost [127.0.0.1]) by mails.dpdk.org (Postfix) with ESMTP id 475B640268; Tue, 7 Oct 2025 21:48:08 +0200 (CEST) Received: from mail-il1-f228.google.com (mail-il1-f228.google.com [209.85.166.228]) by mails.dpdk.org (Postfix) with ESMTP id 0A6BA40268 for ; Tue, 7 Oct 2025 21:48:07 +0200 (CEST) Received: by mail-il1-f228.google.com with SMTP id e9e14a558f8ab-425911e5661so25187745ab.1 for ; Tue, 07 Oct 2025 12:48:06 -0700 (PDT) DKIM-Signature: v=1; a=rsa-sha256; c=relaxed/relaxed; d=iol.unh.edu; s=unh-iol; t=1759866486; x=1760471286; darn=dpdk.org; h=references:in-reply-to:cc:to:from:subject:message-id:date:from:to :cc:subject:date:message-id:reply-to; bh=BfFYElenMOd+8PC1HIz1ZK7dKmYW2ShtGfRUkbN+eF8=; b=PGK040xbwPdHJqGFYdRJvi0YYwEM7p0f9Itjlmf9iyNNKxKSev3gZWqn6jej8M5TVb MJvogYlnojpwV/lmX8TliJaCo+20y3I4eX2WF050UE7F2v/xvmzNn24PG1AYXCIq85pS P8n8ZOooKVYRKtYhm4zzUD6ZYEMPBMba/Vq0g= X-Google-DKIM-Signature: v=1; a=rsa-sha256; c=relaxed/relaxed; d=1e100.net; s=20230601; t=1759866486; x=1760471286; h=references:in-reply-to:cc:to:from:subject:message-id:date :x-gm-message-state:from:to:cc:subject:date:message-id:reply-to; bh=BfFYElenMOd+8PC1HIz1ZK7dKmYW2ShtGfRUkbN+eF8=; b=gmJgYi4L6sOyJ7tD/9TTG1vBDq0aune3+4q1EhPyP/svhl8j4VZ+zGULYD4UDJJQLb JNvUwQcouPgEuqZhGhTmSzN55qeZzHLzi8tu+BOVUD8AbM84ElR0BPmd1cmFXq3yxtqz aJRpnzDSCabcQlVXNSSXsUe6g9FdgMgGl36NtpLX6DV0MHeUHzvgDX6Q5JGKWUiteaqa LXnZh+ghYw3IP0ehmBEfnbsknicfzNaFv/P/Pc24g3g+3XrFTfMTK9jKhsJnaylTMDdd dSXseO+9iKk2PPyZQzU+xrPwtWccBkktnIKT+FpEKGhAP7Y0sOGUgBc3c0OzSAIFyAd6 vkWg== X-Gm-Message-State: AOJu0YzqrslGmXTD254Z01LIcefQ1kAfTStIr1VA9Zj9PhR5uDiGEUIJ MGsftLC8ElnFv1+O71X8WaUoLjS+wJ9wIZDkpt6AI0D0ghuxBdt7mwLiOCFL/uxFOGAdD+3mbfd zUbtSNnZ7uFn3C7eUTR7z2aGUvi5Ym7dRy9wNmpsjUGVA X-Gm-Gg: ASbGncuPCHssRbdDsQ2T8k/LhoKnpRKHwWkxcb3q1pgsXLt3oAbwTrhGX9Y1CFWhBvZ tQPzrZ4yMv9CFyqemGC8RdCmOmnmwZ6t8trtqSWHitOgHOXIHHugvOpCNwWvWcTmyx33g9OXrEq p+XZLHHPvjlPl9+5YNBF8D0BZtBcuVSHoJhz2zIdINIAIS3C7iz0UVhefnJEFuYs9J5Cg2dvNMT c4lZDbWqpUpbdO7PC+HjyWsg4+0SjZbe+vlVcBGKUsxqRBG49ST9rwViiac0BJbqtExvO5HBDT5 HkHGfQKzK4/OlAFwOBXrET0hFALwJSN/XzbH3doBhmPmWvMgKRxlDtDf+VQVRSnECZR7rFw2Iyk J6g== X-Google-Smtp-Source: AGHT+IHf9cqyiY/8wZWuqJNeOVk3Ak6faNdvxXssqCdfVikW6rh1jrFjkIpDfCZ2iHUCug3mzIJc4byITHbJ X-Received: by 2002:a05:6e02:2186:b0:42e:7273:a370 with SMTP id e9e14a558f8ab-42f87354820mr5828195ab.5.1759866486051; Tue, 07 Oct 2025 12:48:06 -0700 (PDT) Received: from postal.iol.unh.edu (postal.iol.unh.edu. [132.177.123.84]) by smtp-relay.gmail.com with ESMTPS id 8926c6da1cb9f-57b5edeb9desm1320830173.49.2025.10.07.12.48.05 (version=TLS1_2 cipher=ECDHE-ECDSA-AES128-GCM-SHA256 bits=128/128); Tue, 07 Oct 2025 12:48:06 -0700 (PDT) X-Relaying-Domain: iol.unh.edu Date: Tue, 07 Oct 2025 12:48:06 -0700 (PDT) Message-ID: <68e56e76.050a0220.2c601d.79aeSMTPIN_ADDED_MISSING@mx.google.com> Received: from [172.21.0.2] (unknown [172.18.0.240]) by postal.iol.unh.edu (Postfix) with ESMTP id 9882B604D420; Tue, 7 Oct 2025 15:48:05 -0400 (EDT) Subject: |SUCCESS| pw157309 [PATCH] [v1,1/1] net/ice: fix memory leak in raw From: dpdklab@iol.unh.edu To: Test Report Cc: dpdk-test-reports@iol.unh.edu, Bruce Richardson In-Reply-To: <65bfe82e74867020982e2729f84a7c00a5690c5b.1759837052.git.anatoly.burakov@intel.com> References: <65bfe82e74867020982e2729f84a7c00a5690c5b.1759837052.git.anatoly.burakov@intel.com> Content-Type: text/plain X-BeenThere: test-report@dpdk.org X-Mailman-Version: 2.1.29 Precedence: list List-Id: automatic DPDK test reports List-Unsubscribe: , List-Archive: List-Post: List-Help: List-Subscribe: , Errors-To: test-report-bounces@dpdk.org Test-Label: iol-unit-arm64-testing Test-Status: SUCCESS http://dpdk.org/patch/157309 _Testing PASS_ Submitter: Burakov, Anatoly Date: Tuesday, October 07 2025 11:37:40 DPDK git baseline: Repo:dpdk-next-net-intel Branch: master CommitID:e7d8cc7ef4df3552575525697079d3c957cfcdaf 157309 --> testing pass Upstream job id: Generic-Unit-Test-DPDK#379127 Test environment and result as below: +------------------------------+---------------------------+--------------+------------------------------+----------------+ | Environment | cryptodev_sw_zuc_autotest | lpm_autotest | cryptodev_sw_snow3g_autotest | dpdk_unit_test | +==============================+===========================+==============+==============================+================+ | Debian 12 (arm) | PASS | SKIPPED | PASS | SKIPPED | +------------------------------+---------------------------+--------------+------------------------------+----------------+ | Ubuntu 20.04 | SKIPPED | PASS | SKIPPED | PASS | +------------------------------+---------------------------+--------------+------------------------------+----------------+ | CentOS Stream 10 | SKIPPED | SKIPPED | SKIPPED | PASS | +------------------------------+---------------------------+--------------+------------------------------+----------------+ | Fedora Linux 41 | SKIPPED | SKIPPED | SKIPPED | PASS | +------------------------------+---------------------------+--------------+------------------------------+----------------+ | CentOS Stream 9 | SKIPPED | SKIPPED | SKIPPED | PASS | +------------------------------+---------------------------+--------------+------------------------------+----------------+ | Debian GNU/Linux 12 | SKIPPED | SKIPPED | SKIPPED | PASS | +------------------------------+---------------------------+--------------+------------------------------+----------------+ | Ubuntu 22.04 | SKIPPED | SKIPPED | SKIPPED | PASS | +------------------------------+---------------------------+--------------+------------------------------+----------------+ | Fedora Linux 40 | SKIPPED | SKIPPED | SKIPPED | PASS | +------------------------------+---------------------------+--------------+------------------------------+----------------+ | Red Hat Enterprise Linux 9.5 | SKIPPED | SKIPPED | SKIPPED | PASS | +------------------------------+---------------------------+--------------+------------------------------+----------------+ | Fedora Linux 42 | SKIPPED | SKIPPED | SKIPPED | PASS | +------------------------------+---------------------------+--------------+------------------------------+----------------+ | Ubuntu 24.04 | SKIPPED | SKIPPED | SKIPPED | PASS | +------------------------------+---------------------------+--------------+------------------------------+----------------+ Debian 12 (arm) Kernel: Depends on container host Compiler: gcc (Debian 12.2.0-14) 12.2.0 Ubuntu 20.04 Kernel: 5.4 Compiler: gcc gcc (Ubuntu 9.4.0-1ubuntu1~20.04.2) 9.4.0 CentOS Stream 10 Kernel: 5.4 Compiler: gcc gcc (GCC) 14.2.1 20250110 (Red Hat 14.2.1-8) Fedora Linux 41 Kernel: 5.4 Compiler: clang gcc (GCC) 14.3.1 20250523 (Red Hat 14.3.1-1) CentOS Stream 9 Kernel: 5.4 Compiler: gcc gcc (GCC) 11.5.0 20240719 (Red Hat 11.5.0-11) Debian GNU/Linux 12 Kernel: 5.4 Compiler: gcc gcc (Debian 12.2.0-14+deb12u1) 12.2.0 Ubuntu 22.04 Kernel: 5.15 Compiler: gcc gcc (Ubuntu 11.4.0-1ubuntu1~22.04.2) 11.4.0 Fedora Linux 40 Kernel: 5.4 Compiler: clang gcc (GCC) 14.2.1 20240912 (Red Hat 14.2.1-3) Red Hat Enterprise Linux 9.5 Kernel: 5.4 Compiler: gcc gcc (GCC) 11.5.0 20240719 (Red Hat 11.5.0-2) Fedora Linux 42 Kernel: 5.4 Compiler: gcc gcc (GCC) 15.2.1 20250808 (Red Hat 15.2.1-1) Ubuntu 24.04 Kernel: 5.4 Compiler: gcc gcc (Ubuntu 13.3.0-6ubuntu2~24.04) 13.3.0 To view detailed results, visit: https://lab.dpdk.org/results/dashboard/patchsets/34227/ UNH-IOL DPDK Community Lab To manage your email subscriptions, visit: https://lab.dpdk.org/results/dashboard/preferences/subscriptions/