From mboxrd@z Thu Jan 1 00:00:00 1970 Return-Path: Received: from mails.dpdk.org (mails.dpdk.org [217.70.189.124]) by inbox.dpdk.org (Postfix) with ESMTP id 043BA488D8 for ; Tue, 7 Oct 2025 21:55:38 +0200 (CEST) Received: from mails.dpdk.org (localhost [127.0.0.1]) by mails.dpdk.org (Postfix) with ESMTP id DAD8440268; Tue, 7 Oct 2025 21:55:38 +0200 (CEST) Received: from mail-il1-f225.google.com (mail-il1-f225.google.com [209.85.166.225]) by mails.dpdk.org (Postfix) with ESMTP id 1922640268 for ; Tue, 7 Oct 2025 21:55:38 +0200 (CEST) Received: by mail-il1-f225.google.com with SMTP id e9e14a558f8ab-4259247208aso41907625ab.3 for ; Tue, 07 Oct 2025 12:55:37 -0700 (PDT) DKIM-Signature: v=1; a=rsa-sha256; c=relaxed/relaxed; d=iol.unh.edu; s=unh-iol; t=1759866937; x=1760471737; darn=dpdk.org; h=references:in-reply-to:cc:to:from:subject:message-id:date:from:to :cc:subject:date:message-id:reply-to; bh=u44u/W224ZvqMS1M+QHKwQKVvjuLXCrE9XDBoVRayYg=; b=a2I9vR4J8JECOHXwmDDBNfzOfpQ9btkgg41awjUgoWl9BDCjqjAEPvTmMFNsvY3ctk qZl4evTaT+LsWv35RldG3rHDvX0IhrQbgIAj1oyuVkY2xt0TVaFolu0Yk3rJOjVy8Vj+ ia5HNfMvpLf1yS98qz02S5dYSZeIbIYW9IR3c= X-Google-DKIM-Signature: v=1; a=rsa-sha256; c=relaxed/relaxed; d=1e100.net; s=20230601; t=1759866937; x=1760471737; h=references:in-reply-to:cc:to:from:subject:message-id:date :x-gm-message-state:from:to:cc:subject:date:message-id:reply-to; bh=u44u/W224ZvqMS1M+QHKwQKVvjuLXCrE9XDBoVRayYg=; b=WgoeNgvm7+PeR6iDvCQPoMr8NKgmRwVDpqWELlBqGMy5haSw96rgQo9rxaA8rq4zXh +rT8m5Qvt+LEFARk1voXOEh2KMwFWe5YopptiLi3rv9Tlcpfe9rZMUmrPQGKBz944ky9 Ftpfq6Gl1JEDXu+bKLnLRA6XVkAl0aZuiU/5uEPqn9Fwp5OtVSL21x4M/BYB5Zoq1+RJ gHXxpMLUnrRvDYFD7B29u+buwgqJF7Bx3KvoA+Y41J1Y0cI8nnCv6bEZMmSvePWAUYZe ZK1awBsjshf2hUEoWrs8EdbUy7we2q+S7CjZN7jMzzAbuT+FHCTrvpwcqlIUxjgV4OXn 0Wkg== X-Gm-Message-State: AOJu0Yzauh21LhmBuHSetsk9SVO0JMqKHljguf7gJwEro93v3xVtm9vR egGknzjNJQCo0HKlmeu3TlJBhh0nvzzhTWh6OJaxc7+kwsJ/84Xa89GH0tRxWWaJLhCNcHXhl9o 8tF/meQwrmyZpHj3WC32nLVZgqrkLWbol3UvbE/aqTMpcqCXb5kZGz/4jYusw X-Gm-Gg: ASbGnctcxr+yGsY1pSFB0vsUNkaJfpXsRuUeA8G4cKNRDHGdxQCxc/xppLXR/RGfu8U ljvxQlo8OxYOsrFF6oUiAnsvH7NKbvZVwZfbcuX70rYr347Z5X4ycJi4BduVcEa0SNuILZV6noU 9vq2SBCQEsx29qymLkpK56BFoxMH+zBITQilTSgLD7aUNEvBpzJ2nAZQPHoXau56N0wmOUdg4Aw pg0u+OHCPrdvKG7+nhJRW2ksURTvzpoD0ipoqcoGN8CtZcE4IJ2HLoh7s91KFL99uCSCXmjrROz IwWeT5ufTrCFhx6kWph2qpDVwDbstnSRYPsXBNAu/PIgUxVpAb0KNng= X-Google-Smtp-Source: AGHT+IH6S8bJ5imlkT06G0cjZbvNVQS+jfLT5U5HeHIDGLZP76zfFv0r1ryWElSXzeVgPx9FkZF4fokWqz5g X-Received: by 2002:a05:6e02:19c8:b0:424:8b1a:9326 with SMTP id e9e14a558f8ab-42f873e10demr6145485ab.21.1759866937259; Tue, 07 Oct 2025 12:55:37 -0700 (PDT) Received: from postal.iol.unh.edu (postal.iol.unh.edu. [2606:4100:3880:1234::84]) by smtp-relay.gmail.com with ESMTPS id e9e14a558f8ab-42d8b278499sm12975755ab.27.2025.10.07.12.55.37 (version=TLS1_2 cipher=ECDHE-ECDSA-AES128-GCM-SHA256 bits=128/128); Tue, 07 Oct 2025 12:55:37 -0700 (PDT) X-Relaying-Domain: iol.unh.edu Date: Tue, 07 Oct 2025 12:55:37 -0700 (PDT) Message-ID: <68e57039.050a0220.232a4f.84aaSMTPIN_ADDED_MISSING@mx.google.com> Received: from [172.21.0.2] (unknown [172.18.0.240]) by postal.iol.unh.edu (Postfix) with ESMTP id C63D16051830; Tue, 7 Oct 2025 15:55:36 -0400 (EDT) Subject: |SUCCESS| pw157283-157293 [PATCH] [11/11] net/enetfec: add software From: dpdklab@iol.unh.edu To: Test Report Cc: dpdk-test-reports@iol.unh.edu, Stephen Hemminger In-Reply-To: <20251006080410.1433284-12-hemant.agrawal@nxp.com> References: <20251006080410.1433284-12-hemant.agrawal@nxp.com> Content-Type: text/plain X-BeenThere: test-report@dpdk.org X-Mailman-Version: 2.1.29 Precedence: list List-Id: automatic DPDK test reports List-Unsubscribe: , List-Archive: List-Post: List-Help: List-Subscribe: , Errors-To: test-report-bounces@dpdk.org Test-Label: iol-compile-amd64-testing Test-Status: SUCCESS http://dpdk.org/patch/157293 _Testing PASS_ Submitter: Hemant Agrawal Date: Monday, October 06 2025 08:04:10 DPDK git baseline: Repo:dpdk-next-net Branch: master CommitID:c04bbd131b2c14b3049bf86d3ef367b34e6fdf1e 157283-157293 --> testing pass Upstream job id: Generic-DPDK-Compile-Meson#431871 Test environment and result as below: +---------------------+--------------------+-------------------------+-------------------+----------------------+-------------------+ | Environment | dpdk_meson_compile | dpdk_llvm_clang_compile | dpdk_msvc_compile | dpdk_mingw64_compile | dpdk_compile_spdk | +=====================+====================+=========================+===================+======================+===================+ | Ubuntu 20.04 | PASS | SKIPPED | SKIPPED | SKIPPED | SKIPPED | +---------------------+--------------------+-------------------------+-------------------+----------------------+-------------------+ | FreeBSD 14.2 | PASS | SKIPPED | SKIPPED | SKIPPED | SKIPPED | +---------------------+--------------------+-------------------------+-------------------+----------------------+-------------------+ | CentOS Stream 9 | PASS | SKIPPED | SKIPPED | SKIPPED | PASS | +---------------------+--------------------+-------------------------+-------------------+----------------------+-------------------+ | CentOS Stream 10 | PASS | SKIPPED | SKIPPED | SKIPPED | SKIPPED | +---------------------+--------------------+-------------------------+-------------------+----------------------+-------------------+ | Windows Server 2022 | SKIPPED | PASS | PASS | PASS | SKIPPED | +---------------------+--------------------+-------------------------+-------------------+----------------------+-------------------+ Ubuntu 20.04 Kernel: 4.19 Compiler: gcc gcc (Ubuntu 9.4.0-1ubuntu1~20.04.2) 9.4.0 FreeBSD 14.2 Kernel: 14.2-RELEASE Compiler: clang 18.1.6 CentOS Stream 9 Kernel: 5.15 Compiler: gcc gcc (GCC) 11.5.0 20240719 (Red Hat 11.5.0-11) CentOS Stream 10 Kernel: 5.15 Compiler: gcc gcc (GCC) 14.2.1 20250110 (Red Hat 14.2.1-8) Windows Server 2022 Kernel: 10.0.20348.2031 Compiler: clang 15.0.7, gcc 14.1.0 (MinGW), and MSVC VS 19.39.33521 To view detailed results, visit: https://lab.dpdk.org/results/dashboard/patchsets/34218/ UNH-IOL DPDK Community Lab To manage your email subscriptions, visit: https://lab.dpdk.org/results/dashboard/preferences/subscriptions/