From mboxrd@z Thu Jan 1 00:00:00 1970 Return-Path: Received: from mails.dpdk.org (mails.dpdk.org [217.70.189.124]) by inbox.dpdk.org (Postfix) with ESMTP id 5D737488D9 for ; Tue, 7 Oct 2025 22:22:12 +0200 (CEST) Received: from mails.dpdk.org (localhost [127.0.0.1]) by mails.dpdk.org (Postfix) with ESMTP id 5732B40268; Tue, 7 Oct 2025 22:22:12 +0200 (CEST) Received: from mail-ua1-f97.google.com (mail-ua1-f97.google.com [209.85.222.97]) by mails.dpdk.org (Postfix) with ESMTP id 19D1040268 for ; Tue, 7 Oct 2025 22:22:11 +0200 (CEST) Received: by mail-ua1-f97.google.com with SMTP id a1e0cc1a2514c-930989f9f81so637571241.3 for ; Tue, 07 Oct 2025 13:22:11 -0700 (PDT) DKIM-Signature: v=1; a=rsa-sha256; c=relaxed/relaxed; d=iol.unh.edu; s=unh-iol; t=1759868530; x=1760473330; darn=dpdk.org; h=cc:to:from:subject:message-id:date:from:to:cc:subject:date :message-id:reply-to; bh=mqrEv0wWjmMLfBk/p1cBiw0oe8EVefKv2MCcGaeKgnQ=; b=L/e+H4jtg4Ydo4VxdHnjzTZcUwHRm4xx5Y2DVyxoCTvFmbeP1luqELxXlllNj10m7+ IkKfDJvYttLj7WeXMP0SBi2VivNWsYLc2hVMO9LBJHKkrvveH3ve9IdNTaqSdoe1tgLK 9jAWYYIAQ0m3xE19/8PDDAnyOYEsShv9lu+AY= X-Google-DKIM-Signature: v=1; a=rsa-sha256; c=relaxed/relaxed; d=1e100.net; s=20230601; t=1759868530; x=1760473330; h=cc:to:from:subject:message-id:date:x-gm-message-state:from:to:cc :subject:date:message-id:reply-to; bh=mqrEv0wWjmMLfBk/p1cBiw0oe8EVefKv2MCcGaeKgnQ=; b=M5Bq8Ry1B46lnFr/2iN163gCMy4hD30gZmuuv2oR8zdj93+KFqGtf1cKItoKKAJUaN umt48Psg1riW131nwTQ3qvf6wCV9Ge14DwsEYoaIzNDA42mUK1mFS4GnBTMGGKp1mL5f MlC4zEBGFg5g3HB0ZHuhSOlx7D/8LYin2pHPJ99OFv/g5s5fyppBnpNVlILpCn3mG9j1 6bTjv/WsdqGCGzdVk9nbfmb7alehNKzDD5Ovl8inLN16svQCQOtrROatzbUCV9aAftzn jW7PjV4rQdXYvP7oxqaZgAatAtnjTgRMXoNm6dt2xwjHVrc4UNGycRj6sqA6O0VZy4oe japw== X-Gm-Message-State: AOJu0YzPUwoV+3myX9lS8ZvaEf39tngIta9CSo31g36eBKr74GngDIGw si2WdEEizSvTZnaQcuR/etjJeKH5iBqR3BvdHP9iSWO4ZwpfTOlxzt6MlihJ9b8moccbrjt/ICV iN+Ersmcj5F1QiIntvMr0AWJrAxf9ZocX2WwzksXoturF X-Gm-Gg: ASbGncuTxFGalMcCG1eHdGzVydegZw/58y/EXUjGsAyykF87cKAx6HNEB3xjOEEQW5q +7Gz5dt1SpvmtlfwoX+Sa+KTecRAmIYFtORlYzI1CQ52n9maNNsLuM7IW3kv1LQ8CkKdyxfqoQY oXKEdY8wr8t00zQJSPNJSLhGzGwYRTwxxbQEKXKNT6ipPMiGvWjugGLx0a0RHkt1r5dXLBwsCvp 3UNvQJxxVk/lWZxPPNHYlcIJAHATPhAMVvq036MafhQpcM0TLwEW/IpK2vLnSt/A8A6fGGGLsyF XyxQSV9Fd/HQUNKNOc6Nj1UZ4Y45G4FHx2RVVrPBQ2BzyqNRc2aptTuoCggsqnieYucgNvmayUc uLA== X-Google-Smtp-Source: AGHT+IH6pUryxTaKFE7Xsxe1cNNpUPgNhq3Cn1q7UsLF/jGxmLEMQaKvwxTEHA+9twiazf3Slicu7KpNaB3u X-Received: by 2002:a05:6102:c47:b0:523:b5c8:2b0b with SMTP id ada2fe7eead31-5d5e226aba4mr422884137.12.1759868530425; Tue, 07 Oct 2025 13:22:10 -0700 (PDT) Received: from postal.iol.unh.edu (postal.iol.unh.edu. [132.177.123.84]) by smtp-relay.gmail.com with ESMTPS id 71dfb90a1353d-5523d031ffbsm1732455e0c.5.2025.10.07.13.22.10 (version=TLS1_2 cipher=ECDHE-ECDSA-AES128-GCM-SHA256 bits=128/128); Tue, 07 Oct 2025 13:22:10 -0700 (PDT) X-Relaying-Domain: iol.unh.edu Date: Tue, 07 Oct 2025 13:22:10 -0700 (PDT) Message-ID: <68e57672.050a0220.34a713.dcc8SMTPIN_ADDED_MISSING@mx.google.com> Received: from [172.21.0.2] (unknown [172.18.0.240]) by postal.iol.unh.edu (Postfix) with ESMTP id 2231B604D420; Tue, 7 Oct 2025 16:22:10 -0400 (EDT) Subject: |SUCCESS| [GIT MASTER] 2aa7141a4e2c78e3cce03dbd613532a2166123c1 From: dpdklab@iol.unh.edu To: Test Report Cc: dpdk-test-reports@iol.unh.edu, Akhil Goyal Content-Type: text/plain X-BeenThere: test-report@dpdk.org X-Mailman-Version: 2.1.29 Precedence: list List-Id: automatic DPDK test reports List-Unsubscribe: , List-Archive: List-Post: List-Help: List-Subscribe: , Errors-To: test-report-bounces@dpdk.org _Testing PASS_ Branch: dpdk-next-crypto 2aa7141a4e2c78e3cce03dbd613532a2166123c1 --> testing pass Upstream job id: Windows-Compile-DPDK-Native#31475 Test environment and result as below: +---------------------+--------------------+-------------------------+-------------------+ | Environment | dpdk_meson_compile | dpdk_llvm_clang_compile | dpdk_msvc_compile | +=====================+====================+=========================+===================+ | Ubuntu 20.04 | PASS | SKIPPED | SKIPPED | +---------------------+--------------------+-------------------------+-------------------+ | FreeBSD 14.2 | PASS | SKIPPED | SKIPPED | +---------------------+--------------------+-------------------------+-------------------+ | Windows Server 2022 | SKIPPED | PASS | PASS | +---------------------+--------------------+-------------------------+-------------------+ Ubuntu 20.04 Kernel: 4.19 Compiler: gcc gcc (Ubuntu 9.4.0-1ubuntu1~20.04.2) 9.4.0 FreeBSD 14.2 Kernel: 14.2-RELEASE Compiler: clang 18.1.6 Windows Server 2022 Kernel: 10.0.20348.2031 Compiler: clang 15.0.7, gcc 14.1.0 (MinGW), and MSVC VS 19.39.33521 To view detailed results, visit: https://lab.dpdk.org/results/dashboard/tarballs/35135/ UNH-IOL DPDK Community Lab To manage your email subscriptions, visit: https://lab.dpdk.org/results/dashboard/preferences/subscriptions/