From mboxrd@z Thu Jan 1 00:00:00 1970 Return-Path: Received: from mails.dpdk.org (mails.dpdk.org [217.70.189.124]) by inbox.dpdk.org (Postfix) with ESMTP id 613EE488D9 for ; Tue, 7 Oct 2025 22:30:06 +0200 (CEST) Received: from mails.dpdk.org (localhost [127.0.0.1]) by mails.dpdk.org (Postfix) with ESMTP id 3CDC140268; Tue, 7 Oct 2025 22:30:06 +0200 (CEST) Received: from mail-qt1-f225.google.com (mail-qt1-f225.google.com [209.85.160.225]) by mails.dpdk.org (Postfix) with ESMTP id 7DA3440268 for ; Tue, 7 Oct 2025 22:30:05 +0200 (CEST) Received: by mail-qt1-f225.google.com with SMTP id d75a77b69052e-4db0b56f6e7so2395721cf.1 for ; Tue, 07 Oct 2025 13:30:05 -0700 (PDT) DKIM-Signature: v=1; a=rsa-sha256; c=relaxed/relaxed; d=iol.unh.edu; s=unh-iol; t=1759869005; x=1760473805; darn=dpdk.org; h=cc:to:from:subject:message-id:date:from:to:cc:subject:date :message-id:reply-to; bh=HC7ce7himyMu0Kwx1N/sRrdPKLkpud4EwndjXgJk9vk=; b=FYgpYdDDJeMYBhweQxex8nabNZURIMSrdrvwfJc4rX0W8ZSszL3AVG1cXk2DZEQ2Fi 29lk23m+o4RV+GJ7JhUlbTcasPtKQlV8DwCopVaeJT7vgRzPEOZKEoCw/8HyBUgfQH+Q s6Kuf2mBJKDvn5S13ZZtuWoawmSD51mhg0R8k= X-Google-DKIM-Signature: v=1; a=rsa-sha256; c=relaxed/relaxed; d=1e100.net; s=20230601; t=1759869005; x=1760473805; h=cc:to:from:subject:message-id:date:x-gm-message-state:from:to:cc :subject:date:message-id:reply-to; bh=HC7ce7himyMu0Kwx1N/sRrdPKLkpud4EwndjXgJk9vk=; b=nEf9HI4vcfFqzqGXG16c8BVc4foTab4kau4vlt9fwBPrpxRCXozAiFnygVZV1819mx iUR21M7bT2rAAMNPgLXN68bgoNmTS5/P0a/dZpmIIHwUmAyC8XhsOOMpXTlHUuC6wYr1 HiLRSUejhOkRz5p4rXetX8OIjO7EeKabTnfQ6M/P7x97naNFyiht1gssxCRa9rh52mhE sp2f22PC360W/q2Ry3D7HeEGVwRO3ayL7xPrKj+3kySd4WlXEbnYLguL1oFhSkxTHqsT pt7U9O1FR46p3xH695aeFYinZ3HymBrY1fdAKM6XiFwiuGl7EaWiimDE/Zu9X2Za1hFl XDNA== X-Gm-Message-State: AOJu0YzQ8NxrajZ97sIvcB4nasDH5LsD3IGMFdbbsEhDm0fjRnnsIwFf 4RieKFtcoo9rU+gAF9jNDqIBvE8s85TEv7velRMIjHKubZ8F8+KyOADLC+vZi7ezr9a6FPZ3eUq 1o/tYiuD74aT9JSIaJRZTLwPKuUCh18qOPS1o2GCW5upViFWCPOvKHnCDHHdE X-Gm-Gg: ASbGnctTdQ4WaOHwBAf+tnXZYrIMQRa1VIlkQD1g0Fj6sKdP7anqX40BLYKx/NrphpT BHrNmrG6xWKiN14qDlYygm7mNsZQhbWPQKDlnNh3EVLTxatEkzj19ja7oNfObfLmR7dIjWhm4WH exIONSt2q9y2pWbw+D31gRGU+kx7bXtdWZG9J3ZMCs9P44BTFeETcOrMP8wOn3qFUJQHWiFU9tZ yGAZcqyuA0aa5Ofi0V94prkk9EgODcdSRS9SMDAiYQNphQ/F0+xwfwm5Ug51OREEn2Ag8ZjufUq XvzVtVm9G3mBx0+j11IZuJTcHbeJVrPEfAmPlpGKrfV7pwFc1OF6ifM= X-Google-Smtp-Source: AGHT+IGCur/PWTgv7ghDJodJxYommAq5ooo1q8wOubfvNbwTsEQ8QUTHnh1T0NAB53jF+xliEz8OW70DCDdu X-Received: by 2002:a05:622a:30b:b0:4d1:6bc9:8794 with SMTP id d75a77b69052e-4e6eb037cf7mr9119131cf.23.1759869004578; Tue, 07 Oct 2025 13:30:04 -0700 (PDT) Received: from postal.iol.unh.edu (postal.iol.unh.edu. [2606:4100:3880:1234::84]) by smtp-relay.gmail.com with ESMTPS id d75a77b69052e-4e55a64bf3csm6358601cf.6.2025.10.07.13.30.04 (version=TLS1_2 cipher=ECDHE-ECDSA-AES128-GCM-SHA256 bits=128/128); Tue, 07 Oct 2025 13:30:04 -0700 (PDT) X-Relaying-Domain: iol.unh.edu Date: Tue, 07 Oct 2025 13:30:04 -0700 (PDT) Message-ID: <68e5784c.050a0220.bad36.1c6bSMTPIN_ADDED_MISSING@mx.google.com> Received: from [172.21.0.2] (unknown [172.18.0.240]) by postal.iol.unh.edu (Postfix) with ESMTP id 445DE604D420; Tue, 7 Oct 2025 16:30:04 -0400 (EDT) Subject: |SUCCESS| [GIT MASTER] 2aa7141a4e2c78e3cce03dbd613532a2166123c1 From: dpdklab@iol.unh.edu To: Test Report Cc: dpdk-test-reports@iol.unh.edu, Akhil Goyal Content-Type: text/plain X-BeenThere: test-report@dpdk.org X-Mailman-Version: 2.1.29 Precedence: list List-Id: automatic DPDK test reports List-Unsubscribe: , List-Archive: List-Post: List-Help: List-Subscribe: , Errors-To: test-report-bounces@dpdk.org _Testing PASS_ Branch: dpdk-next-crypto 2aa7141a4e2c78e3cce03dbd613532a2166123c1 --> testing pass Upstream job id: Windows-Compile-DPDK-Native#31476 Test environment and result as below: +---------------------+--------------------+-------------------------+-------------------+----------------------+ | Environment | dpdk_meson_compile | dpdk_llvm_clang_compile | dpdk_msvc_compile | dpdk_mingw64_compile | +=====================+====================+=========================+===================+======================+ | Ubuntu 20.04 | PASS | SKIPPED | SKIPPED | SKIPPED | +---------------------+--------------------+-------------------------+-------------------+----------------------+ | FreeBSD 14.2 | PASS | SKIPPED | SKIPPED | SKIPPED | +---------------------+--------------------+-------------------------+-------------------+----------------------+ | Windows Server 2022 | SKIPPED | PASS | PASS | PASS | +---------------------+--------------------+-------------------------+-------------------+----------------------+ Ubuntu 20.04 Kernel: 4.19 Compiler: gcc gcc (Ubuntu 9.4.0-1ubuntu1~20.04.2) 9.4.0 FreeBSD 14.2 Kernel: 14.2-RELEASE Compiler: clang 18.1.6 Windows Server 2022 Kernel: 10.0.20348.2031 Compiler: clang 15.0.7, gcc 14.1.0 (MinGW), and MSVC VS 19.39.33521 To view detailed results, visit: https://lab.dpdk.org/results/dashboard/tarballs/35135/ UNH-IOL DPDK Community Lab To manage your email subscriptions, visit: https://lab.dpdk.org/results/dashboard/preferences/subscriptions/