From mboxrd@z Thu Jan 1 00:00:00 1970 Return-Path: Received: from mails.dpdk.org (mails.dpdk.org [217.70.189.124]) by inbox.dpdk.org (Postfix) with ESMTP id 22F4C488D9 for ; Tue, 7 Oct 2025 22:36:12 +0200 (CEST) Received: from mails.dpdk.org (localhost [127.0.0.1]) by mails.dpdk.org (Postfix) with ESMTP id 090D940268; Tue, 7 Oct 2025 22:36:12 +0200 (CEST) Received: from mail-io1-f98.google.com (mail-io1-f98.google.com [209.85.166.98]) by mails.dpdk.org (Postfix) with ESMTP id 6888140268 for ; Tue, 7 Oct 2025 22:36:11 +0200 (CEST) Received: by mail-io1-f98.google.com with SMTP id ca18e2360f4ac-912d4135379so268890739f.1 for ; Tue, 07 Oct 2025 13:36:11 -0700 (PDT) DKIM-Signature: v=1; a=rsa-sha256; c=relaxed/relaxed; d=iol.unh.edu; s=unh-iol; t=1759869371; x=1760474171; darn=dpdk.org; h=cc:to:from:subject:message-id:date:from:to:cc:subject:date :message-id:reply-to; bh=QYQ3ZfG1VAO0JVEvcIRpDHgB9dX3PYp4tba0LhpazKQ=; b=M2u1vgANUc4HeD3aGWvD22wic4LRqXBfRiRBXwtmALefzV1Xd2Bz87olbLLm2a41aF 4gDN7g9ISUBRi6IDHRfRDlcdhSVo+9WFxHgrjOsDJ85IQPPmcB6+7mSP0APY2szKq1+S a2ldSbdJD4zuEbjcupPP1uLtOTxSdnReNayOI= X-Google-DKIM-Signature: v=1; a=rsa-sha256; c=relaxed/relaxed; d=1e100.net; s=20230601; t=1759869371; x=1760474171; h=cc:to:from:subject:message-id:date:x-gm-message-state:from:to:cc :subject:date:message-id:reply-to; bh=QYQ3ZfG1VAO0JVEvcIRpDHgB9dX3PYp4tba0LhpazKQ=; b=nMV/7v7vqJi5CRMYd8NrJxCiT0oXoM7tyntc9U7bVbrtW+AgrdTDpSIH64qIMedoRM jWvi0igTp/hb5NzkI/MQYQ8zfBHGgpSLuk4JXfCk4owiy2Z3RYgrJa8/VAf91PTOkIf1 IROdmV+MK0ntbDkqxNM8qo0qMr5NNywbzfV+l+7p1uHu+ojPsCapjm0Sf+2zpqioSRmr RYCqpgxqvPGE6DOvMo+ijf+kBj7v69otUsJplWOy+bNxSKGYvj2Jex4vIohOxbCpLXmS IBT/MgiGFC2dGIAypiQsnr/LAer2lG/Fom5s8VG0vXVMABG2eGJQql5lUqQwVgWi2g4i EkXg== X-Gm-Message-State: AOJu0YwYqx34R432fnCuPI5ZW2TwVPaEmioZ2NIbeYQJd8Ai/WdgZl5g NA15cygrlIJ0dpX6XRX+50Nma8XhY75FUFjZt7C4az+U3/wWGAqVERRFxrRUbd9xwVd/EbhDjz8 I19l1HNuAZFdnMnhaT9C7Iy7PqZzx+GhX4vE9jr54axsE6prIiflowc544I0l X-Gm-Gg: ASbGncuiMpMQZaSJrl+Cgl7w6DCzHl0Csx/2dxHqai55dx9pbBge5li2qOuZ45MsvlO JFEaKxPPw9VsFR7pHyWm8BNOfvzdBxMEVMYiSfebldFs9W8ma2xd01w3CKfp6Pq69jcUEDzQces jjyl4cXML720CyqmDzBlfXSaDMoodAv4F/0ZXR4QU2pMvojxjF4f+AN2Uq35zn07MWh4LDlqqbF 0H4kBsdX79qgFZP9HBmXMGmGPRQ6j6C9GjxCf00dtuLlPB8iHRrNDNCgCkZxS6R+la87YbqZKbj bUm1Buf1agQ1fQIhUc5gwocxtHWrjFXS+J32bAbOp7aiJc8BQ5kAaWg= X-Google-Smtp-Source: AGHT+IHycDgWD8ty1GVEKFo9A1EArvaaOoSafj3kpMOxwduMQQAoPLjpEF2LM+AmRT0vw7rjDL/70x7Uar+d X-Received: by 2002:a05:6e02:214a:b0:42d:8bf0:29f7 with SMTP id e9e14a558f8ab-42f8736a9c8mr7386775ab.9.1759869370545; Tue, 07 Oct 2025 13:36:10 -0700 (PDT) Received: from postal.iol.unh.edu (postal.iol.unh.edu. [2606:4100:3880:1234::84]) by smtp-relay.gmail.com with ESMTPS id 8926c6da1cb9f-57b5eaa3fe5sm1313370173.4.2025.10.07.13.36.10 (version=TLS1_2 cipher=ECDHE-ECDSA-AES128-GCM-SHA256 bits=128/128); Tue, 07 Oct 2025 13:36:10 -0700 (PDT) X-Relaying-Domain: iol.unh.edu Date: Tue, 07 Oct 2025 13:36:10 -0700 (PDT) Message-ID: <68e579ba.050a0220.150bc3.79a9SMTPIN_ADDED_MISSING@mx.google.com> Received: from [172.21.0.2] (unknown [172.18.0.240]) by postal.iol.unh.edu (Postfix) with ESMTP id 156D5604D420; Tue, 7 Oct 2025 16:36:10 -0400 (EDT) Subject: |SUCCESS| [GIT MASTER] 2aa7141a4e2c78e3cce03dbd613532a2166123c1 From: dpdklab@iol.unh.edu To: Test Report Cc: dpdk-test-reports@iol.unh.edu, Akhil Goyal Content-Type: text/plain X-BeenThere: test-report@dpdk.org X-Mailman-Version: 2.1.29 Precedence: list List-Id: automatic DPDK test reports List-Unsubscribe: , List-Archive: List-Post: List-Help: List-Subscribe: , Errors-To: test-report-bounces@dpdk.org _Testing PASS_ Branch: dpdk-next-crypto 2aa7141a4e2c78e3cce03dbd613532a2166123c1 --> testing pass Upstream job id: Generic-VM-Unit-Test-DPDK#31645 Test environment and result as below: +-------------------------------+----------------+ | Environment | dpdk_unit_test | +===============================+================+ | Ubuntu 22.04 | PASS | +-------------------------------+----------------+ | Ubuntu 20.04 | PASS | +-------------------------------+----------------+ | CentOS Stream 10 | PASS | +-------------------------------+----------------+ | Fedora Linux 42 | PASS | +-------------------------------+----------------+ | Red Hat Enterprise Linux 8.10 | PASS | +-------------------------------+----------------+ | Fedora Linux 40 | PASS | +-------------------------------+----------------+ | CentOS Stream 9 | PASS | +-------------------------------+----------------+ | Fedora Linux 41 | PASS | +-------------------------------+----------------+ | Red Hat Enterprise Linux 9.5 | PASS | +-------------------------------+----------------+ | Debian GNU/Linux 12 | PASS | +-------------------------------+----------------+ | Ubuntu 24.04 | PASS | +-------------------------------+----------------+ | Windows Server 2022 | PASS | +-------------------------------+----------------+ Ubuntu 22.04 Kernel: 5.15 Compiler: gcc gcc (Ubuntu 11.4.0-1ubuntu1~22.04) 11.4.0 Ubuntu 20.04 Kernel: 5.15 Compiler: gcc gcc (Ubuntu 9.4.0-1ubuntu1~20.04.2) 9.4.0 CentOS Stream 10 Kernel: 5.15 Compiler: gcc gcc (GCC) 14.2.1 20250110 (Red Hat 14.2.1-8) Fedora Linux 42 Kernel: 5.15 Compiler: clang gcc (GCC) 15.2.1 20250808 (Red Hat 15.2.1-1) Red Hat Enterprise Linux 8.10 Kernel: 5.15 Compiler: gcc gcc (GCC) 8.5.0 20210514 (Red Hat 8.5.0-22) Fedora Linux 40 Kernel: 5.15 Compiler: gcc gcc (GCC) 14.2.1 20240912 (Red Hat 14.2.1-3) CentOS Stream 9 Kernel: 5.15 Compiler: gcc gcc (GCC) 11.5.0 20240719 (Red Hat 11.5.0-11) Fedora Linux 41 Kernel: 5.15 Compiler: clang gcc (GCC) 14.3.1 20250523 (Red Hat 14.3.1-1) Red Hat Enterprise Linux 9.5 Kernel: 5.15 Compiler: gcc gcc (GCC) 11.5.0 20240719 (Red Hat 11.5.0-2) Debian GNU/Linux 12 Kernel: 5.15 Compiler: gcc gcc (Debian 12.2.0-14+deb12u1) 12.2.0 Ubuntu 24.04 Kernel: 5.15 Compiler: gcc gcc (Ubuntu 13.3.0-6ubuntu2~24.04) 13.3.0 Windows Server 2022 Kernel: 10.0.20348.2031 Compiler: clang 15.0.7, gcc 14.1.0 (MinGW), and MSVC VS 19.39.33521 To view detailed results, visit: https://lab.dpdk.org/results/dashboard/tarballs/35135/ UNH-IOL DPDK Community Lab To manage your email subscriptions, visit: https://lab.dpdk.org/results/dashboard/preferences/subscriptions/