From mboxrd@z Thu Jan 1 00:00:00 1970 Return-Path: Received: from mails.dpdk.org (mails.dpdk.org [217.70.189.124]) by inbox.dpdk.org (Postfix) with ESMTP id 7B74D488D9 for ; Tue, 7 Oct 2025 23:01:54 +0200 (CEST) Received: from mails.dpdk.org (localhost [127.0.0.1]) by mails.dpdk.org (Postfix) with ESMTP id 5D4AA40268; Tue, 7 Oct 2025 23:01:54 +0200 (CEST) Received: from mail-oo1-f100.google.com (mail-oo1-f100.google.com [209.85.161.100]) by mails.dpdk.org (Postfix) with ESMTP id CFBCF40285 for ; Tue, 7 Oct 2025 23:01:52 +0200 (CEST) Received: by mail-oo1-f100.google.com with SMTP id 006d021491bc7-646d66626a4so3466283eaf.0 for ; Tue, 07 Oct 2025 14:01:52 -0700 (PDT) DKIM-Signature: v=1; a=rsa-sha256; c=relaxed/relaxed; d=iol.unh.edu; s=unh-iol; t=1759870912; x=1760475712; darn=dpdk.org; h=references:in-reply-to:cc:to:from:subject:message-id:date:from:to :cc:subject:date:message-id:reply-to; bh=meIPCZ0hEv2a00/FP9QqbRNp6hDrfr5tlGRAgBrWYQE=; b=AGzrlnyE6UFcc4b2CpTyl6avZaeqGiW6U9g7MpYLeKmIrs7GYAqIGTE3HgBmFbsq9p VwQvSPhpv/DiOYz15bYB3Tj/duVr6iQDdL5wAQJRIE/FREhvEFN3Cjwp/9Cb0C2i9xX2 0y4IurR8xfhkLP3NAy76Gb13Lm2owWr88Tosg= X-Google-DKIM-Signature: v=1; a=rsa-sha256; c=relaxed/relaxed; d=1e100.net; s=20230601; t=1759870912; x=1760475712; h=references:in-reply-to:cc:to:from:subject:message-id:date :x-gm-message-state:from:to:cc:subject:date:message-id:reply-to; bh=meIPCZ0hEv2a00/FP9QqbRNp6hDrfr5tlGRAgBrWYQE=; b=H61SPSK/2JAu7LC0W+3XUZBei71RXKzkwmXiQceL3m1qgH3TEaPHLY19edVoeIys6a 9d67/Tp06SdKR+fNSjE87IpnWxlYwlcncGJqJyEMXq2FtDLbQSk815lhjqUNfrYQJUsE GTuMv2pRhCeeSLD9hmeDtgZ4rp59Nj6pKaswX3Tos9KExpbZF8+fqxtAGqHb87H0Nz2y wCXyCfuTBbG7s/N5B11rx7cF0YFVTIoePyY5CSBt6NNUZ70NEcfTHRL4OY9RysVgP8jV B2tgBPsaQWNxgi3QaM8IvM6AUT25P9o33FLg1auHsZ3kSo6ixxvPovVdhLjGEuEh+TZs Swbg== X-Gm-Message-State: AOJu0YyNsEQVhquhaLJv5sMXl/IL2XdJXLz1ws1ofktdeltGzG1bDIZW cy/4Vgc/AbLONri/2YLOtYbpFfnCYwnfyeVzaezeFBtk9JrCliAqWVP2oyK0c3E0TSVfo5g3XfY 8Am7KqjbLsdybkaDl4blOrZwPN4WtSJHsMLSm0NCCUniO2kbgoHLnrWA72/ae X-Gm-Gg: ASbGncsskeY+PrDrYixSlF0uLylVtmtzYg1Y+rOnZH22HY/dsmnHiXtbMsFKnQJUi51 HrCpdMJ7c7AqwbTCKO0lqHTr1iOA+2N8v75TOW1Ms3uLOJ9BmB5hpeIcMVWDRcScSrbacSE6yVy mTVbp1BcSc38Ojumac4a6GduNG6H+RW852/fCHZXFv2Gq6igwxCWVlWOnif9tEjfVUCCbkH8t0y Mn/WE6LDaCsNcAaxj8tOcrnLHNmLPVWneMIGzjx51cZFWFMdIAnogTMDejdtkLDEtDsiH1cAxDk 921G8Gi2NyjM0++WtrrOpC6TcgFvixmjFALfIPITD+qRc+IGxRMF3vA= X-Google-Smtp-Source: AGHT+IFm6xGNYNHsptkOAz/poBCWGTTnqmOsMvdhmUtwU1+uZ1wSyynEZLDuA+VIgKG5dYGDrJ+Ks2fWJaxn X-Received: by 2002:a05:6820:4106:b0:644:8959:a179 with SMTP id 006d021491bc7-64fffe94f41mr486667eaf.6.1759870911972; Tue, 07 Oct 2025 14:01:51 -0700 (PDT) Received: from postal.iol.unh.edu (postal.iol.unh.edu. [2606:4100:3880:1234::84]) by smtp-relay.gmail.com with ESMTPS id 46e09a7af769-7bf4161518dsm1039095a34.4.2025.10.07.14.01.51 (version=TLS1_2 cipher=ECDHE-ECDSA-AES128-GCM-SHA256 bits=128/128); Tue, 07 Oct 2025 14:01:51 -0700 (PDT) X-Relaying-Domain: iol.unh.edu Date: Tue, 07 Oct 2025 14:01:51 -0700 (PDT) Message-ID: <68e57fbf.050a0220.1a6c7d.9099SMTPIN_ADDED_MISSING@mx.google.com> Received: from [172.21.0.2] (unknown [172.18.0.240]) by postal.iol.unh.edu (Postfix) with ESMTP id 760436050A61; Tue, 7 Oct 2025 17:01:51 -0400 (EDT) Subject: |SUCCESS| pw157310-157311 [PATCH] [v2,2/2] net/ice: fix memory leak From: dpdklab@iol.unh.edu To: Test Report Cc: dpdk-test-reports@iol.unh.edu, Bruce Richardson In-Reply-To: <200ebf9129483347f6263f130e167ff7fa42e7c3.1759840924.git.anatoly.burakov@intel.com> References: <200ebf9129483347f6263f130e167ff7fa42e7c3.1759840924.git.anatoly.burakov@intel.com> Content-Type: text/plain X-BeenThere: test-report@dpdk.org X-Mailman-Version: 2.1.29 Precedence: list List-Id: automatic DPDK test reports List-Unsubscribe: , List-Archive: List-Post: List-Help: List-Subscribe: , Errors-To: test-report-bounces@dpdk.org Test-Label: iol-unit-arm64-testing Test-Status: SUCCESS http://dpdk.org/patch/157311 _Testing PASS_ Submitter: Burakov, Anatoly Date: Tuesday, October 07 2025 12:42:12 DPDK git baseline: Repo:dpdk-next-net-intel Branch: master CommitID:e7d8cc7ef4df3552575525697079d3c957cfcdaf 157310-157311 --> testing pass Upstream job id: Generic-Unit-Test-DPDK#379166 Test environment and result as below: +------------------------------+----------------+--------------+---------------------------+------------------------------+ | Environment | dpdk_unit_test | lpm_autotest | cryptodev_sw_zuc_autotest | cryptodev_sw_snow3g_autotest | +==============================+================+==============+===========================+==============================+ | Fedora Linux 41 | PASS | SKIPPED | SKIPPED | SKIPPED | +------------------------------+----------------+--------------+---------------------------+------------------------------+ | CentOS Stream 9 | PASS | SKIPPED | SKIPPED | SKIPPED | +------------------------------+----------------+--------------+---------------------------+------------------------------+ | Fedora Linux 40 | PASS | SKIPPED | SKIPPED | SKIPPED | +------------------------------+----------------+--------------+---------------------------+------------------------------+ | Ubuntu 22.04 | PASS | SKIPPED | SKIPPED | SKIPPED | +------------------------------+----------------+--------------+---------------------------+------------------------------+ | Debian GNU/Linux 12 | PASS | SKIPPED | SKIPPED | SKIPPED | +------------------------------+----------------+--------------+---------------------------+------------------------------+ | Ubuntu 24.04 | PASS | SKIPPED | SKIPPED | SKIPPED | +------------------------------+----------------+--------------+---------------------------+------------------------------+ | CentOS Stream 10 | PASS | SKIPPED | SKIPPED | SKIPPED | +------------------------------+----------------+--------------+---------------------------+------------------------------+ | Red Hat Enterprise Linux 9.5 | PASS | SKIPPED | SKIPPED | SKIPPED | +------------------------------+----------------+--------------+---------------------------+------------------------------+ | Fedora Linux 42 | PASS | SKIPPED | SKIPPED | SKIPPED | +------------------------------+----------------+--------------+---------------------------+------------------------------+ | Ubuntu 20.04 | PASS | PASS | SKIPPED | SKIPPED | +------------------------------+----------------+--------------+---------------------------+------------------------------+ | Debian 12 (arm) | SKIPPED | SKIPPED | PASS | PASS | +------------------------------+----------------+--------------+---------------------------+------------------------------+ Fedora Linux 41 Kernel: 5.4 Compiler: gcc gcc (GCC) 14.3.1 20250523 (Red Hat 14.3.1-1) CentOS Stream 9 Kernel: 5.4 Compiler: gcc gcc (GCC) 11.5.0 20240719 (Red Hat 11.5.0-11) Fedora Linux 40 Kernel: 5.4 Compiler: gcc gcc (GCC) 14.2.1 20240912 (Red Hat 14.2.1-3) Ubuntu 22.04 Kernel: 5.4 Compiler: gcc gcc (Ubuntu 11.4.0-1ubuntu1~22.04) 11.4.0 Debian GNU/Linux 12 Kernel: 5.4 Compiler: gcc gcc (Debian 12.2.0-14+deb12u1) 12.2.0 Ubuntu 24.04 Kernel: 5.4 Compiler: gcc gcc (Ubuntu 13.3.0-6ubuntu2~24.04) 13.3.0 CentOS Stream 10 Kernel: 5.4 Compiler: gcc gcc (GCC) 14.2.1 20250110 (Red Hat 14.2.1-8) Red Hat Enterprise Linux 9.5 Kernel: 5.4 Compiler: gcc gcc (GCC) 11.5.0 20240719 (Red Hat 11.5.0-2) Fedora Linux 42 Kernel: 5.4 Compiler: gcc gcc (GCC) 15.2.1 20250808 (Red Hat 15.2.1-1) Ubuntu 20.04 Kernel: 5.4 Compiler: gcc gcc (Ubuntu 9.4.0-1ubuntu1~20.04.2) 9.4.0 Debian 12 (arm) Kernel: Depends on container host Compiler: gcc (Debian 12.2.0-14) 12.2.0 To view detailed results, visit: https://lab.dpdk.org/results/dashboard/patchsets/34228/ UNH-IOL DPDK Community Lab To manage your email subscriptions, visit: https://lab.dpdk.org/results/dashboard/preferences/subscriptions/