From mboxrd@z Thu Jan 1 00:00:00 1970 Return-Path: Received: from mails.dpdk.org (mails.dpdk.org [217.70.189.124]) by inbox.dpdk.org (Postfix) with ESMTP id 2CCE6488D9 for ; Tue, 7 Oct 2025 23:19:57 +0200 (CEST) Received: from mails.dpdk.org (localhost [127.0.0.1]) by mails.dpdk.org (Postfix) with ESMTP id F0BC440268; Tue, 7 Oct 2025 23:19:56 +0200 (CEST) Received: from mail-io1-f99.google.com (mail-io1-f99.google.com [209.85.166.99]) by mails.dpdk.org (Postfix) with ESMTP id CD63940268 for ; Tue, 7 Oct 2025 23:19:55 +0200 (CEST) Received: by mail-io1-f99.google.com with SMTP id ca18e2360f4ac-938de0df471so545913439f.2 for ; Tue, 07 Oct 2025 14:19:55 -0700 (PDT) DKIM-Signature: v=1; a=rsa-sha256; c=relaxed/relaxed; d=iol.unh.edu; s=unh-iol; t=1759871995; x=1760476795; darn=dpdk.org; h=references:in-reply-to:cc:to:from:subject:message-id:date:from:to :cc:subject:date:message-id:reply-to; bh=9x2wWWglZVv2gkh4VpHn0hw5uJxkkfyKY7CGimcNwGA=; b=KvG4N/5c8PhqIzgjMvr5GOfw79HeCvDvXXQD48Z2fe6WWRt8S/nFf4G/EFn5eCxpDh VvpKpiFUKMZpvAdxv13tD196rtfvv2kuigyLAfMFq/YZaKIW3uHVOT9tnsYWZNyTj8et K50E6ww8RxjL8U0WffVyTlrJt3tesY/WC92ok= X-Google-DKIM-Signature: v=1; a=rsa-sha256; c=relaxed/relaxed; d=1e100.net; s=20230601; t=1759871995; x=1760476795; h=references:in-reply-to:cc:to:from:subject:message-id:date :x-gm-message-state:from:to:cc:subject:date:message-id:reply-to; bh=9x2wWWglZVv2gkh4VpHn0hw5uJxkkfyKY7CGimcNwGA=; b=XzSLuhgNTL8pcEtMuM+CF4NQmHqxAitkoGf8Dkmr5uzSL/6oo7KkbvMxV5is/Yp6rm Q51yEETJYzHPNRr+tjUW19X/zFzCeZwviO9JUuzJEQzkCX43XJDZthK5url0ZOz7VjIp a4tbDtyyafau/f4VXVgc5G9fpX0MZgwRKyYy0ML/oXHTBrZlk/CCPecFXNyJnPQ8ZeNH T3lKFCrVasPFKd0Zhr7ho690Ia+4h6m1Dq0EuQqOW1BNc+/lghOZDYXPNTWmLUQEypNQ qKlE/2NyOojvM344ZoEvVh+eUS+wUzs+RZHLGYLYlz/pkAJrjkF5ibrx3e4my5K7S/OA CiOQ== X-Gm-Message-State: AOJu0YxrhW24g0WcvDYTQkpEmg7p1MmY7ftTInNxJiEAA2NXIyjwT4xy fFRiwSIJ685pMOe9LU1q5iIow+RfVeH4TX5871yooaTotMyEJqIVzaQZkDMc+tANcwzjBff1Kh7 d1w3D/d9B1cxoTL8FHoWqsX5rRgw6MmfiJuI5MeGiC62F+Ye0eUVkzI1RQ6JK X-Gm-Gg: ASbGncvYIjVm2urcdSOi09K5US09EbwBTmF1tYattFYiYGqMGfZI0CqGug4nicCxe88 2YzAsGUH2msHU09LCVAZOviFK5cDO1eBAmb/BwpXyzvvOEsNnv2Y/oUYApp57xe79CehaDaM5OD lPsMIyZ9tWGTgU0oLPcN12Unr1VIgJ8zlSWRboH0OSLZMg98yUotyhKU0eDQ2j9HHe3CqVbhBWT COcaYJnwN+CcNftVT3gbKVDmYCNHQZhArK7Wz8s3HUWFm6kL5igBIH1+CmeysgAIhrTuFr+TCHB zYRsYCh5ADrPkzY9/Umx30z+l5/3CNRdNLGnCrzZgxfdAzuyyeVh1Nc= X-Google-Smtp-Source: AGHT+IGOC0taxVOCK4EH0bF+/WATCJUVFG19MWW0V5YIGY7sfHjwk5hOZwX4ZWWRnL2+9yCTkEScCWYPehgp X-Received: by 2002:a92:c24b:0:b0:423:f9d1:e913 with SMTP id e9e14a558f8ab-42f874109d6mr9359075ab.31.1759871994807; Tue, 07 Oct 2025 14:19:54 -0700 (PDT) Received: from postal.iol.unh.edu (postal.iol.unh.edu. [2606:4100:3880:1234::84]) by smtp-relay.gmail.com with ESMTPS id 8926c6da1cb9f-57b5ed26bf4sm1271465173.28.2025.10.07.14.19.54 (version=TLS1_2 cipher=ECDHE-ECDSA-AES128-GCM-SHA256 bits=128/128); Tue, 07 Oct 2025 14:19:54 -0700 (PDT) X-Relaying-Domain: iol.unh.edu Date: Tue, 07 Oct 2025 14:19:54 -0700 (PDT) Message-ID: <68e583fa.050a0220.332ab9.5bf1SMTPIN_ADDED_MISSING@mx.google.com> Received: from [172.21.0.3] (unknown [172.18.0.240]) by postal.iol.unh.edu (Postfix) with ESMTP id 6D4BB604D420; Tue, 7 Oct 2025 17:19:54 -0400 (EDT) Subject: |SUCCESS| pw157277 [PATCH] net/mlx5: release allocated indexed pools From: dpdklab@iol.unh.edu To: Test Report Cc: dpdk-test-reports@iol.unh.edu In-Reply-To: <20251005072346.66007-1-mkashani@nvidia.com> References: <20251005072346.66007-1-mkashani@nvidia.com> Content-Type: text/plain X-BeenThere: test-report@dpdk.org X-Mailman-Version: 2.1.29 Precedence: list List-Id: automatic DPDK test reports List-Unsubscribe: , List-Archive: List-Post: List-Help: List-Subscribe: , Errors-To: test-report-bounces@dpdk.org Test-Label: iol-compile-arm64-testing Test-Status: SUCCESS http://dpdk.org/patch/157277 _Testing PASS_ Submitter: Maayan Kashani Date: Sunday, October 05 2025 07:23:45 DPDK git baseline: Repo:dpdk-next-net-mlx Branch: master CommitID:2374f33e1d964e100895fd294966380c46f0886d 157277 --> testing pass Upstream job id: Generic-DPDK-Compile-Meson#431729 Test environment and result as below: +------------------------------+--------------------+ | Environment | dpdk_meson_compile | +==============================+====================+ | Fedora Linux 42 | PASS | +------------------------------+--------------------+ | Red Hat Enterprise Linux 9.5 | PASS | +------------------------------+--------------------+ | Ubuntu 20.04 | PASS | +------------------------------+--------------------+ | Debian GNU/Linux 12 | PASS | +------------------------------+--------------------+ | Ubuntu 22.04 | PASS | +------------------------------+--------------------+ | Ubuntu 24.04 | PASS | +------------------------------+--------------------+ | CentOS Stream 9 | PASS | +------------------------------+--------------------+ | CentOS Stream 10 | PASS | +------------------------------+--------------------+ Fedora Linux 42 Kernel: 5.4 Compiler: clang gcc (GCC) 15.2.1 20250808 (Red Hat 15.2.1-1) Red Hat Enterprise Linux 9.5 Kernel: 5.4 Compiler: gcc gcc (GCC) 11.5.0 20240719 (Red Hat 11.5.0-2) Ubuntu 20.04 Kernel: 5.15 Compiler: aarch64-linux-gnu-gcc gcc (Ubuntu 9.4.0-1ubuntu1~20.04.2) 9.4.0 Debian GNU/Linux 12 Kernel: 5.4 Compiler: gcc gcc (Debian 12.2.0-14+deb12u1) 12.2.0 Ubuntu 22.04 Kernel: 5.4 Compiler: gcc gcc (Ubuntu 11.4.0-1ubuntu1~22.04) 11.4.0 Ubuntu 24.04 Kernel: 5.4 Compiler: gcc gcc (Ubuntu 13.3.0-6ubuntu2~24.04) 13.3.0 CentOS Stream 9 Kernel: 5.4 Compiler: gcc gcc (GCC) 11.5.0 20240719 (Red Hat 11.5.0-11) CentOS Stream 10 Kernel: 5.4 Compiler: gcc gcc (GCC) 14.2.1 20250110 (Red Hat 14.2.1-8) To view detailed results, visit: https://lab.dpdk.org/results/dashboard/patchsets/34216/ UNH-IOL DPDK Community Lab To manage your email subscriptions, visit: https://lab.dpdk.org/results/dashboard/preferences/subscriptions/