From mboxrd@z Thu Jan 1 00:00:00 1970 Return-Path: Received: from mails.dpdk.org (mails.dpdk.org [217.70.189.124]) by inbox.dpdk.org (Postfix) with ESMTP id EAA56488D9 for ; Tue, 7 Oct 2025 23:27:45 +0200 (CEST) Received: from mails.dpdk.org (localhost [127.0.0.1]) by mails.dpdk.org (Postfix) with ESMTP id C683040268; Tue, 7 Oct 2025 23:27:45 +0200 (CEST) Received: from mail-pl1-f228.google.com (mail-pl1-f228.google.com [209.85.214.228]) by mails.dpdk.org (Postfix) with ESMTP id C9EAF40268 for ; Tue, 7 Oct 2025 23:27:43 +0200 (CEST) Received: by mail-pl1-f228.google.com with SMTP id d9443c01a7336-28e7cd6dbc0so77014645ad.0 for ; Tue, 07 Oct 2025 14:27:43 -0700 (PDT) DKIM-Signature: v=1; a=rsa-sha256; c=relaxed/relaxed; d=iol.unh.edu; s=unh-iol; t=1759872463; x=1760477263; darn=dpdk.org; h=references:in-reply-to:cc:to:from:subject:message-id:date:from:to :cc:subject:date:message-id:reply-to; bh=s+LTBO46MxG1XUI2hxDBeVZ64DYUFlYGGq/mdWwk5c8=; b=E6qrq/MWtUWngJAH2NNvMmWunZrO6x1KDYjxzsuu19LXRTE0FqeAwfPHw0ItUxSRLH cPbEeT6WU1RRv4g1Xg8hP+WATCwoIamWxn5GV3f6nSgh8ziFq7RPa1q8vzZFi/NT3vEi 5g4FMdaHfNjWQA9OdE1FE1ZKO69ZBEBKxGYtA= X-Google-DKIM-Signature: v=1; a=rsa-sha256; c=relaxed/relaxed; d=1e100.net; s=20230601; t=1759872463; x=1760477263; h=references:in-reply-to:cc:to:from:subject:message-id:date :x-gm-message-state:from:to:cc:subject:date:message-id:reply-to; bh=s+LTBO46MxG1XUI2hxDBeVZ64DYUFlYGGq/mdWwk5c8=; b=bM/2hRJW8DgqEDyYv65BH+NvmdEy9hnh4xMwH5M9MkY4EiCy6JB/UX/35l0nv19+i+ kNg3Q2WoXqpWmCTAPLl1Uky019YqUtVo0wB2DDEENgsnKJxjan9wyI+k4WLfQ2GhKj/T Zj6wCRfCflg6I9bDtGf4FU1Em/Q/AfuyXMk08Uc98O7y/u0TK+vxPF3n5oc8amiA+bCT vZEfP96IdMXQ1AKCNaI+NEXCwDw70i9FIr2nh0BEzOjHUAXMnINWmU68w5ODhPt8H8E7 C8CJaqY+x7teOfl6tZ4XdOkW3wXt/UUr+mG1y7u/w1m7m6Mm0ISBic6I/SXcmKPTRBk5 3now== X-Gm-Message-State: AOJu0YxvR4qzH2yX3pGs2/JsHMUA+EqkqniNaClhqO8a7nK9sn6ffRdJ adjl8mjdKk+X1mnSkS1gGaAiv1F9jlz/e12VQQHrs0P3mpxp4VaCtay1P2m39ieJClOopmv5GCm HnUy0JQkPnX/Ha1CRhRghDU+wkXjShKVdY7hX9dajV2yRr4NmMrusxI9o0BYd X-Gm-Gg: ASbGncueA/gx607FbRjrSOf3PupySMU4wMzT0dgvvP0l6mxalqSMycn92+n87lAF2Et vDUYOzb2XQzVJwB830y94si1RY5MnsaSRikgFfFaJJ1/v8oO31TnbRORl8lBGibWnLAwnNea7UC LdYUG/V4Weij++szk1ddLAbK19modTvcYJZayB1zNn5h+hsy3qv5xLXNk3AEX9gR3myh4+4sbXC 6lRUKjfTZMSbxl+E6c4KqogKuWHgdl8iDl8bvow2AaoP7sO6T9E1l8lWS/JV7wTDfAkgYwpH1bv RtWOJXurYB2ToFm1of8qB8+y8pUNi7GnM2x/vBh7fcqB/90E6t12GQo= X-Google-Smtp-Source: AGHT+IG2Xn6wEOh+pJ2Ewb17qEaWn7jxhl1mvKh0IILW19b87mhykOB1mHI7jnyPTDrMiL2rKw1ViX5Q6c51 X-Received: by 2002:a17:903:8cc:b0:267:9c2f:4655 with SMTP id d9443c01a7336-290273ffcf6mr12354345ad.41.1759872462814; Tue, 07 Oct 2025 14:27:42 -0700 (PDT) Received: from postal.iol.unh.edu (postal.iol.unh.edu. [2606:4100:3880:1234::84]) by smtp-relay.gmail.com with ESMTPS id d9443c01a7336-28e8d1813afsm13323705ad.34.2025.10.07.14.27.42 (version=TLS1_2 cipher=ECDHE-ECDSA-AES128-GCM-SHA256 bits=128/128); Tue, 07 Oct 2025 14:27:42 -0700 (PDT) X-Relaying-Domain: iol.unh.edu Date: Tue, 07 Oct 2025 14:27:42 -0700 (PDT) Message-ID: <68e585ce.170a0220.b729d.b0afSMTPIN_ADDED_MISSING@mx.google.com> Received: from [172.21.0.2] (unknown [172.18.0.240]) by postal.iol.unh.edu (Postfix) with ESMTP id 16928604D420; Tue, 7 Oct 2025 17:27:42 -0400 (EDT) Subject: |SUCCESS| pw157283-157293 [PATCH] [11/11] net/enetfec: add software From: dpdklab@iol.unh.edu To: Test Report Cc: dpdk-test-reports@iol.unh.edu, Stephen Hemminger In-Reply-To: <20251006080410.1433284-12-hemant.agrawal@nxp.com> References: <20251006080410.1433284-12-hemant.agrawal@nxp.com> Content-Type: text/plain X-BeenThere: test-report@dpdk.org X-Mailman-Version: 2.1.29 Precedence: list List-Id: automatic DPDK test reports List-Unsubscribe: , List-Archive: List-Post: List-Help: List-Subscribe: , Errors-To: test-report-bounces@dpdk.org Test-Label: iol-compile-amd64-testing Test-Status: SUCCESS http://dpdk.org/patch/157293 _Testing PASS_ Submitter: Hemant Agrawal Date: Monday, October 06 2025 08:04:10 DPDK git baseline: Repo:dpdk-next-net Branch: master CommitID:c04bbd131b2c14b3049bf86d3ef367b34e6fdf1e 157283-157293 --> testing pass Upstream job id: Generic-DPDK-Compile-Meson#431875 Test environment and result as below: +---------------------+--------------------+-------------------------+-------------------+----------------------+-------------------+ | Environment | dpdk_meson_compile | dpdk_llvm_clang_compile | dpdk_msvc_compile | dpdk_mingw64_compile | dpdk_compile_spdk | +=====================+====================+=========================+===================+======================+===================+ | Ubuntu 20.04 | PASS | SKIPPED | SKIPPED | SKIPPED | SKIPPED | +---------------------+--------------------+-------------------------+-------------------+----------------------+-------------------+ | FreeBSD 14.2 | PASS | SKIPPED | SKIPPED | SKIPPED | SKIPPED | +---------------------+--------------------+-------------------------+-------------------+----------------------+-------------------+ | CentOS Stream 9 | PASS | SKIPPED | SKIPPED | SKIPPED | PASS | +---------------------+--------------------+-------------------------+-------------------+----------------------+-------------------+ | CentOS Stream 10 | PASS | SKIPPED | SKIPPED | SKIPPED | SKIPPED | +---------------------+--------------------+-------------------------+-------------------+----------------------+-------------------+ | Debian GNU/Linux 12 | PASS | SKIPPED | SKIPPED | SKIPPED | PASS | +---------------------+--------------------+-------------------------+-------------------+----------------------+-------------------+ | Windows Server 2022 | SKIPPED | PASS | PASS | PASS | SKIPPED | +---------------------+--------------------+-------------------------+-------------------+----------------------+-------------------+ Ubuntu 20.04 Kernel: 4.19 Compiler: gcc gcc (Ubuntu 9.4.0-1ubuntu1~20.04.2) 9.4.0 FreeBSD 14.2 Kernel: 14.2-RELEASE Compiler: clang 18.1.6 CentOS Stream 9 Kernel: 5.15 Compiler: gcc gcc (GCC) 11.5.0 20240719 (Red Hat 11.5.0-11) CentOS Stream 10 Kernel: 5.15 Compiler: gcc gcc (GCC) 14.2.1 20250110 (Red Hat 14.2.1-8) Debian GNU/Linux 12 Kernel: 5.15 Compiler: gcc gcc (Debian 12.2.0-14+deb12u1) 12.2.0 Windows Server 2022 Kernel: 10.0.20348.2031 Compiler: clang 15.0.7, gcc 14.1.0 (MinGW), and MSVC VS 19.39.33521 To view detailed results, visit: https://lab.dpdk.org/results/dashboard/patchsets/34218/ UNH-IOL DPDK Community Lab To manage your email subscriptions, visit: https://lab.dpdk.org/results/dashboard/preferences/subscriptions/