From mboxrd@z Thu Jan 1 00:00:00 1970 Return-Path: Received: from mails.dpdk.org (mails.dpdk.org [217.70.189.124]) by inbox.dpdk.org (Postfix) with ESMTP id F2593488D9 for ; Wed, 8 Oct 2025 00:13:14 +0200 (CEST) Received: from mails.dpdk.org (localhost [127.0.0.1]) by mails.dpdk.org (Postfix) with ESMTP id EC91240268; Wed, 8 Oct 2025 00:13:14 +0200 (CEST) Received: from mail-pj1-f98.google.com (mail-pj1-f98.google.com [209.85.216.98]) by mails.dpdk.org (Postfix) with ESMTP id 70E1140268 for ; Wed, 8 Oct 2025 00:13:14 +0200 (CEST) Received: by mail-pj1-f98.google.com with SMTP id 98e67ed59e1d1-3324fdfd54cso7807016a91.0 for ; Tue, 07 Oct 2025 15:13:14 -0700 (PDT) DKIM-Signature: v=1; a=rsa-sha256; c=relaxed/relaxed; d=iol.unh.edu; s=unh-iol; t=1759875193; x=1760479993; darn=dpdk.org; h=references:in-reply-to:cc:to:from:subject:message-id:date:from:to :cc:subject:date:message-id:reply-to; bh=j7UVpWikUDp7BGOXng/ZxbxwI3GZ4hpF0JYVqH3v45U=; b=cB6uYHrIZOLni3aqpIDe+Ao3aeukD4d0HnViQTAqwtoouxe/6moJGcGSDi1uhqreUv mR5OOhs2rnCMzNzgGLbzJ6NmRLVjrSMqcAfQKBzAeW0+lcPX068kQ3Hk5zT9BFErKr4g 8xb1+15QjFNkCHoJS8clOertNFWyJEZ6TCFoQ= X-Google-DKIM-Signature: v=1; a=rsa-sha256; c=relaxed/relaxed; d=1e100.net; s=20230601; t=1759875193; x=1760479993; h=references:in-reply-to:cc:to:from:subject:message-id:date :x-gm-message-state:from:to:cc:subject:date:message-id:reply-to; bh=j7UVpWikUDp7BGOXng/ZxbxwI3GZ4hpF0JYVqH3v45U=; b=JTSFS93wVj4biDk4741+6rakPRXn3AMX5DkMO1zZzEj9ee8jnRG8bZTeKhDRbLp1+f A7gRu1DMTyDH3xcoxSinnMfSWdBzY1wn/KozVZJneGNqlNmYrEolFdghIWu9IeO5WGge +bMcnsIbhzuE4pPjeVaMjZ6P/7Uw6tHwRMs0M6+rlhkotpwmaRxDUzUC4g4hr2o4ZVNc ewhc4ldH3jTseElMMtBsjvooX4nYpvIzdgU2tsZX1lRhHhnoG2CXfbQZiwzfqY9cjcGD 23n1+7Y1ZK33v1LcFhYBYZOQXYMw67EnmpozYLjsGhjAJS3VPUIC3GsR8JQ1aNFylDVr bpeg== X-Gm-Message-State: AOJu0YwowNvJLPq0c09Z0S41DBkcGxdPhXM+hSaAwaJgqFNqIQiYy3Cp uZUcSymw5kD15LwilcJ9KvFWysDVcpcDh5s/0YzkZ+/c1AirXtNq6T6XtwJKYFA2ljA308znh1p BMdiyN8QzGPFOga9Cg+ZdQrTBus+Z7m5zI6IajZGzCWyC X-Gm-Gg: ASbGnctNOHKs8B0XtAxlJ5NppOjotYLf6euQu52twJOWHUjeZxkh5Lme6D1PuIx8oqe z7J76LmsEVJTnBU110JEjTDTkKan6kKCHkiScL8hyYLlWRG9wtICC0YXYnfurFfaic44OAIB91O N/KOyZ+6t2OY+1flpldLoy7mQQUDTj3XSSeD6zFf7UPY+E2ctM/Bn0ZZoG/ne03lBu7P5buCx5X 7vrOIY4xnxI/g2gwDPIeHI459C7rdUPTPZCy0qsq6mip4xwzP0cYXzmPIl2jKcwqa/2hs25xDDg pq6h8CjzrWte42KpMzkcr9NW7186/RVivD5Z/F2J5REWeOycwXU8IM7pYzuo9cKDIka0VZDPI/9 b+g== X-Google-Smtp-Source: AGHT+IGVNhNECtXcVGvPqdpfsSukP0G3XRdGlWo19Sko7ackmkmfngwI15F13OmmqLtjGBZcDJyJCDOKPiAm X-Received: by 2002:a17:90b:4b89:b0:32e:d599:1f66 with SMTP id 98e67ed59e1d1-33b513cedd3mr1270093a91.30.1759875193484; Tue, 07 Oct 2025 15:13:13 -0700 (PDT) Received: from postal.iol.unh.edu (postal.iol.unh.edu. [132.177.123.84]) by smtp-relay.gmail.com with ESMTPS id 98e67ed59e1d1-33b51156e7dsm81113a91.4.2025.10.07.15.13.13 (version=TLS1_2 cipher=ECDHE-ECDSA-AES128-GCM-SHA256 bits=128/128); Tue, 07 Oct 2025 15:13:13 -0700 (PDT) X-Relaying-Domain: iol.unh.edu Date: Tue, 07 Oct 2025 15:13:13 -0700 (PDT) Message-ID: <68e59079.170a0220.3118f0.4812SMTPIN_ADDED_MISSING@mx.google.com> Received: from [172.21.0.2] (unknown [172.18.0.240]) by postal.iol.unh.edu (Postfix) with ESMTP id BE3156051830; Tue, 7 Oct 2025 18:13:12 -0400 (EDT) Subject: |SUCCESS| pw157283-157293 [PATCH] [11/11] net/enetfec: add software From: dpdklab@iol.unh.edu To: Test Report Cc: dpdk-test-reports@iol.unh.edu, Stephen Hemminger In-Reply-To: <20251006080410.1433284-12-hemant.agrawal@nxp.com> References: <20251006080410.1433284-12-hemant.agrawal@nxp.com> Content-Type: text/plain X-BeenThere: test-report@dpdk.org X-Mailman-Version: 2.1.29 Precedence: list List-Id: automatic DPDK test reports List-Unsubscribe: , List-Archive: List-Post: List-Help: List-Subscribe: , Errors-To: test-report-bounces@dpdk.org Test-Label: iol-compile-amd64-testing Test-Status: SUCCESS http://dpdk.org/patch/157293 _Testing PASS_ Submitter: Hemant Agrawal Date: Monday, October 06 2025 08:04:10 DPDK git baseline: Repo:dpdk-next-net Branch: master CommitID:c04bbd131b2c14b3049bf86d3ef367b34e6fdf1e 157283-157293 --> testing pass Upstream job id: Generic-DPDK-Compile-Meson#431878 Test environment and result as below: +---------------------+--------------------+-------------------------+-------------------+----------------------+-------------------+------------------+ | Environment | dpdk_meson_compile | dpdk_llvm_clang_compile | dpdk_msvc_compile | dpdk_mingw64_compile | dpdk_compile_spdk | dpdk_compile_ovs | +=====================+====================+=========================+===================+======================+===================+==================+ | Ubuntu 20.04 | PASS | SKIPPED | SKIPPED | SKIPPED | SKIPPED | SKIPPED | +---------------------+--------------------+-------------------------+-------------------+----------------------+-------------------+------------------+ | FreeBSD 14.2 | PASS | SKIPPED | SKIPPED | SKIPPED | SKIPPED | SKIPPED | +---------------------+--------------------+-------------------------+-------------------+----------------------+-------------------+------------------+ | CentOS Stream 9 | PASS | SKIPPED | SKIPPED | SKIPPED | PASS | SKIPPED | +---------------------+--------------------+-------------------------+-------------------+----------------------+-------------------+------------------+ | CentOS Stream 10 | PASS | SKIPPED | SKIPPED | SKIPPED | SKIPPED | SKIPPED | +---------------------+--------------------+-------------------------+-------------------+----------------------+-------------------+------------------+ | Debian GNU/Linux 12 | PASS | SKIPPED | SKIPPED | SKIPPED | PASS | SKIPPED | +---------------------+--------------------+-------------------------+-------------------+----------------------+-------------------+------------------+ | Fedora Linux 42 | PASS | SKIPPED | SKIPPED | SKIPPED | PASS | PASS | +---------------------+--------------------+-------------------------+-------------------+----------------------+-------------------+------------------+ | Windows Server 2022 | SKIPPED | PASS | PASS | PASS | SKIPPED | SKIPPED | +---------------------+--------------------+-------------------------+-------------------+----------------------+-------------------+------------------+ Ubuntu 20.04 Kernel: 4.19 Compiler: gcc gcc (Ubuntu 9.4.0-1ubuntu1~20.04.2) 9.4.0 FreeBSD 14.2 Kernel: 14.2-RELEASE Compiler: clang 18.1.6 CentOS Stream 9 Kernel: 5.15 Compiler: gcc gcc (GCC) 11.5.0 20240719 (Red Hat 11.5.0-11) CentOS Stream 10 Kernel: 5.15 Compiler: gcc gcc (GCC) 14.2.1 20250110 (Red Hat 14.2.1-8) Debian GNU/Linux 12 Kernel: 5.15 Compiler: gcc gcc (Debian 12.2.0-14+deb12u1) 12.2.0 Fedora Linux 42 Kernel: 5.15 Compiler: clang gcc (GCC) 15.2.1 20250808 (Red Hat 15.2.1-1) Windows Server 2022 Kernel: 10.0.20348.2031 Compiler: clang 15.0.7, gcc 14.1.0 (MinGW), and MSVC VS 19.39.33521 To view detailed results, visit: https://lab.dpdk.org/results/dashboard/patchsets/34218/ UNH-IOL DPDK Community Lab To manage your email subscriptions, visit: https://lab.dpdk.org/results/dashboard/preferences/subscriptions/