From mboxrd@z Thu Jan 1 00:00:00 1970 Return-Path: Received: from mails.dpdk.org (mails.dpdk.org [217.70.189.124]) by inbox.dpdk.org (Postfix) with ESMTP id B5965488D9 for ; Wed, 8 Oct 2025 00:20:53 +0200 (CEST) Received: from mails.dpdk.org (localhost [127.0.0.1]) by mails.dpdk.org (Postfix) with ESMTP id 9A3F040268; Wed, 8 Oct 2025 00:20:53 +0200 (CEST) Received: from mail-oa1-f99.google.com (mail-oa1-f99.google.com [209.85.160.99]) by mails.dpdk.org (Postfix) with ESMTP id 3A09E40268 for ; Wed, 8 Oct 2025 00:20:53 +0200 (CEST) Received: by mail-oa1-f99.google.com with SMTP id 586e51a60fabf-31d6b8be249so4683902fac.0 for ; Tue, 07 Oct 2025 15:20:53 -0700 (PDT) DKIM-Signature: v=1; a=rsa-sha256; c=relaxed/relaxed; d=iol.unh.edu; s=unh-iol; t=1759875652; x=1760480452; darn=dpdk.org; h=cc:to:from:subject:message-id:date:from:to:cc:subject:date :message-id:reply-to; bh=JYmgw/3mcRkfiZ4uuxiPkIqDMk9Z93Q1cUpXWpdYJl0=; b=FGCsoxvkeOV1sfQwxoD03sZlTlhFk+iCKB7pyLpiw26hq8tJPoaRmqaAwhUKVDJARL JXTw/kBcIUivWEMC/NGsEaO4jgghilGvezlcKTrFzbbS36Gzb4fbmdDvvxTJn1R2cQqG c62j7gmf5zAz4YTK/1Fh4r18hX24vDjPUDkFg= X-Google-DKIM-Signature: v=1; a=rsa-sha256; c=relaxed/relaxed; d=1e100.net; s=20230601; t=1759875652; x=1760480452; h=cc:to:from:subject:message-id:date:x-gm-message-state:from:to:cc :subject:date:message-id:reply-to; bh=JYmgw/3mcRkfiZ4uuxiPkIqDMk9Z93Q1cUpXWpdYJl0=; b=W/OdLOYWNw35UnINJAcJahal+SEZYer+UzyReBf8O5Aoi7eZn7wzOE0r6kB0lEdU/+ m90Lb3ru65d1Hg+6DbgtDVoSMqDH6Gi+OUVSmbUhJeHTkFjah2qXBni45SBYNioybnDl hT5Ci4232lM8YChbomQopinw7mEfufn/9oAYRPAwLWWF3W1TYJvp4ccD1DCXv6q5agh0 rWnAzBJejw28Fhktp5jZmnVYGHI0miiSS/gJw0TgYsmbiDjX49p+7mGIY+mh38js2HNj L3k43YU/nxlj7R3DtwIWeL3WdppwgQ/V3FkGtmlGKuzALzMrtT1j0VZCR8H7nh0wMuaJ J+5g== X-Gm-Message-State: AOJu0YyYtMu7WpH1kY49W2yS43+IWfkynUg1aDVzCvaZ5CCemfbL3/un V4BImYEgLdA1YaxpG/28VLIcm+/limeeMltRpNmNo8HXyF++dtLNQGlJzvhMlHD5aTe8Qf/4YoD nrxb21rQ6YFdqATozLbQXLFC2gCiuOPEaYzEqpFuXl20i6a8BpdhMFeA4RN4X X-Gm-Gg: ASbGnctjHx9e9oM3aV57GP6BuO9q+SXFBuNHE+SLaM8NppS1rHtWxOlzLpqzS9/eVxl Msw3yzGSkQhyuz/UyS8RXfW47vxTdmXnPiWkgLzKkwn9/nTPW78yiOmiNhzMFy6Vy2WNgktUqsN p2GK8a2Z+CHljxV85ajU4qIjzij3kHW3NQO/NO27nvyMiCumS+yeX4Utft1W2rtjC1tmdaxuqBN SpoXlN3P72A6oxcghdjKyd0F2i0bHTOjH+PxKYofIT0qFNlHkINxcDDJrhNBZvz+XojtXC2htZt vQCwS1EjoUdsZFWGDOTmNLfa1QJ4/FnatQzrysfUkFwGYGiTeQVC6uw= X-Google-Smtp-Source: AGHT+IGEquoOJCGbf+9k9QzVSSeMsX7HH2z3aesQzJNeZwhGcaWy63giFIGabh5Nxcw/+GLVlxvvndL83E9s X-Received: by 2002:a05:6870:380f:b0:367:a0f2:f81a with SMTP id 586e51a60fabf-3c0f5f08c7dmr597719fac.8.1759875652390; Tue, 07 Oct 2025 15:20:52 -0700 (PDT) Received: from postal.iol.unh.edu (postal.iol.unh.edu. [2606:4100:3880:1234::84]) by smtp-relay.gmail.com with ESMTPS id 586e51a60fabf-3ab79f514b5sm1354635fac.4.2025.10.07.15.20.52 (version=TLS1_2 cipher=ECDHE-ECDSA-AES128-GCM-SHA256 bits=128/128); Tue, 07 Oct 2025 15:20:52 -0700 (PDT) X-Relaying-Domain: iol.unh.edu Date: Tue, 07 Oct 2025 15:20:52 -0700 (PDT) Message-ID: <68e59244.050a0220.2fefb3.8a43SMTPIN_ADDED_MISSING@mx.google.com> Received: from [172.21.0.2] (unknown [172.18.0.240]) by postal.iol.unh.edu (Postfix) with ESMTP id D45A16051830; Tue, 7 Oct 2025 18:20:51 -0400 (EDT) Subject: |SUCCESS| [GIT MASTER] 2b403dd8fb37d0ba13723e44ffc7ee2c2795f838 From: dpdklab@iol.unh.edu To: Test Report Cc: dpdk-test-reports@iol.unh.edu Content-Type: text/plain X-BeenThere: test-report@dpdk.org X-Mailman-Version: 2.1.29 Precedence: list List-Id: automatic DPDK test reports List-Unsubscribe: , List-Archive: List-Post: List-Help: List-Subscribe: , Errors-To: test-report-bounces@dpdk.org _Testing PASS_ Branch: dpdk 2b403dd8fb37d0ba13723e44ffc7ee2c2795f838 --> testing pass Upstream job id: Generic-DPDK-Compile-Meson#431749 Test environment and result as below: +------------------------------+--------------------+ | Environment | dpdk_meson_compile | +==============================+====================+ | Red Hat Enterprise Linux 9.5 | PASS | +------------------------------+--------------------+ | Ubuntu 20.04 | PASS | +------------------------------+--------------------+ | Debian GNU/Linux 12 | PASS | +------------------------------+--------------------+ | Fedora Linux 42 | PASS | +------------------------------+--------------------+ | Ubuntu 22.04 | PASS | +------------------------------+--------------------+ | Ubuntu 24.04 | PASS | +------------------------------+--------------------+ | CentOS Stream 9 | PASS | +------------------------------+--------------------+ | CentOS Stream 10 | PASS | +------------------------------+--------------------+ Red Hat Enterprise Linux 9.5 Kernel: 5.4 Compiler: gcc gcc (GCC) 11.5.0 20240719 (Red Hat 11.5.0-2) Ubuntu 20.04 Kernel: 5.15 Compiler: aarch64-linux-gnu-gcc gcc (Ubuntu 9.4.0-1ubuntu1~20.04.2) 9.4.0 Debian GNU/Linux 12 Kernel: 5.4 Compiler: gcc gcc (Debian 12.2.0-14+deb12u1) 12.2.0 Fedora Linux 42 Kernel: 5.4 Compiler: gcc gcc (GCC) 15.2.1 20250808 (Red Hat 15.2.1-1) Ubuntu 22.04 Kernel: 5.4 Compiler: gcc gcc (Ubuntu 11.4.0-1ubuntu1~22.04) 11.4.0 Ubuntu 24.04 Kernel: 5.4 Compiler: gcc gcc (Ubuntu 13.3.0-6ubuntu2~24.04) 13.3.0 CentOS Stream 9 Kernel: 5.4 Compiler: gcc gcc (GCC) 11.5.0 20240719 (Red Hat 11.5.0-11) CentOS Stream 10 Kernel: 5.4 Compiler: gcc gcc (GCC) 14.2.1 20250110 (Red Hat 14.2.1-8) To view detailed results, visit: https://lab.dpdk.org/results/dashboard/tarballs/35112/ UNH-IOL DPDK Community Lab To manage your email subscriptions, visit: https://lab.dpdk.org/results/dashboard/preferences/subscriptions/