From mboxrd@z Thu Jan 1 00:00:00 1970 Return-Path: Received: from mails.dpdk.org (mails.dpdk.org [217.70.189.124]) by inbox.dpdk.org (Postfix) with ESMTP id 2394F488D9 for ; Wed, 8 Oct 2025 00:36:23 +0200 (CEST) Received: from mails.dpdk.org (localhost [127.0.0.1]) by mails.dpdk.org (Postfix) with ESMTP id 01DE840268; Wed, 8 Oct 2025 00:36:23 +0200 (CEST) Received: from mail-pl1-f226.google.com (mail-pl1-f226.google.com [209.85.214.226]) by mails.dpdk.org (Postfix) with ESMTP id 0907D40268 for ; Wed, 8 Oct 2025 00:36:22 +0200 (CEST) Received: by mail-pl1-f226.google.com with SMTP id d9443c01a7336-28e7cd34047so56860335ad.2 for ; Tue, 07 Oct 2025 15:36:21 -0700 (PDT) DKIM-Signature: v=1; a=rsa-sha256; c=relaxed/relaxed; d=iol.unh.edu; s=unh-iol; t=1759876581; x=1760481381; darn=dpdk.org; h=cc:to:from:subject:message-id:date:from:to:cc:subject:date :message-id:reply-to; bh=o6ce/Q1oZpzNHXTYK1r035D+XwrX5JqFtI8iTcuEtZQ=; b=CwB7MAaFZo0pdHiWWxU6eHXoxe0Nvng2Eb5hQAT1LSxxtlKyCG00jnYNSZLFaIXj4t Ikjz2v1BXXjFoahsa22qtOxHHLBni3JU6rVammOZvpeBnj5+0I0eraOiWcU7Fup1It08 x50sZRc/jszcojlXCBdOQc3HLqTpMLQNDvOwc= X-Google-DKIM-Signature: v=1; a=rsa-sha256; c=relaxed/relaxed; d=1e100.net; s=20230601; t=1759876581; x=1760481381; h=cc:to:from:subject:message-id:date:x-gm-message-state:from:to:cc :subject:date:message-id:reply-to; bh=o6ce/Q1oZpzNHXTYK1r035D+XwrX5JqFtI8iTcuEtZQ=; b=iJVDI5fI0XLUKAmL+WC/8ixFBbfW1oUajH3ESHsDK3N9KAKj8p6HH9Y9bgzSQTBpBJ g3C4odh4ip4D+h+GrQHuUht+8Vwq6tSf1VECPPXoNFhJ64Yw3bH9HhrNOPytzFQN3zPG RjP1IpYjpN3sQJX8sV8ZjlRhN6F2BbGzC1D/ByzPkF56rSsxfvrSa9ZY2L4CPspNa0gm g6tsiAQTwaXwnCju7owg37CAGQ3FHxLyFrK3rcmIoBU347nEEhZ35K+le5zTklihRPfh RcTeRawt5rJgkLNH7LuWYT2PnQWFv8dzkOpUX41vmcoY4+sSjgR6MVzrftNTzf5CCL7m TqXA== X-Gm-Message-State: AOJu0YyGsp+4MddloX6oqKj6+lYQnqDbjUI6srHjOEEcrXI2hizxkEEM aX6FhSKIG/CWT7Jx9vKsDNOvhszj+ebYwjFOIVvV8i3kqzD1gBVXsWYbmD9FEZqh4FNOFpJWLDc 66Npw07n5NdH80iDxhVrB6InrdxbCQVLiE0EDhuCIMf6V X-Gm-Gg: ASbGncvA606/8+ozgGEvz36EFDec+tzv0wYUmXMLyg33KuWh20hbVDzBRpqXK0UNQQf 8SW8/q19hThdkOBOUjs37XJk92WSYLHiDtDIhqRseKeKWi2Q4/HmAzYEw833kcAp7ji3HUAcTHj Zwk8f6PrmxUwxCRMRgXsIswPxbimf37xX8pDrMH6tZMd1HegOMToHR77g0YcSpCzNtWCUZsMS/j wh6JCBuVAyu+pNYW7Ht/irfIyLTEax9Icmmj1LA5kXDdipgVMsWevrxx2VFsU54YH5cXnoj0REM CULcmSlRUbTthIUDXgUR8uJK3tfsO+WWtpiQfCInyRp1c1LUNpXjLkfQgCb1dlHYhKhVXbBWEyk +EA== X-Google-Smtp-Source: AGHT+IG9a5/cBNAN56axZjAas+9ayMAev5xzzQKK+3JVcqZJklmgoWWUB1tEcTpukwnJ51yvDGfi4GIibG0K X-Received: by 2002:a17:903:1b4d:b0:262:d081:96c with SMTP id d9443c01a7336-2902723bc83mr17214555ad.17.1759876581119; Tue, 07 Oct 2025 15:36:21 -0700 (PDT) Received: from postal.iol.unh.edu (postal.iol.unh.edu. [132.177.123.84]) by smtp-relay.gmail.com with ESMTPS id d9443c01a7336-28e8d180abfsm13918585ad.45.2025.10.07.15.36.21 (version=TLS1_2 cipher=ECDHE-ECDSA-AES128-GCM-SHA256 bits=128/128); Tue, 07 Oct 2025 15:36:21 -0700 (PDT) X-Relaying-Domain: iol.unh.edu Date: Tue, 07 Oct 2025 15:36:21 -0700 (PDT) Message-ID: <68e595e5.170a0220.2edee9.3b12SMTPIN_ADDED_MISSING@mx.google.com> Received: from [172.21.0.2] (unknown [172.18.0.240]) by postal.iol.unh.edu (Postfix) with ESMTP id 57DF86051830; Tue, 7 Oct 2025 18:36:20 -0400 (EDT) Subject: |SUCCESS| [GIT MASTER] 14d3c6f6a6c18f3b141d0bd9786c6dd3ae3714a3 From: dpdklab@iol.unh.edu To: Test Report Cc: dpdk-test-reports@iol.unh.edu, Jerin Jacob Content-Type: text/plain X-BeenThere: test-report@dpdk.org X-Mailman-Version: 2.1.29 Precedence: list List-Id: automatic DPDK test reports List-Unsubscribe: , List-Archive: List-Post: List-Help: List-Subscribe: , Errors-To: test-report-bounces@dpdk.org _Testing PASS_ Branch: dpdk-next-eventdev 14d3c6f6a6c18f3b141d0bd9786c6dd3ae3714a3 --> testing pass Upstream job id: Generic-DPDK-Compile-Meson#431888 Test environment and result as below: +---------------------+--------------------+-------------------+-------------------------+----------------------+ | Environment | dpdk_meson_compile | dpdk_msvc_compile | dpdk_llvm_clang_compile | dpdk_mingw64_compile | +=====================+====================+===================+=========================+======================+ | Ubuntu 20.04 | PASS | SKIPPED | SKIPPED | SKIPPED | +---------------------+--------------------+-------------------+-------------------------+----------------------+ | FreeBSD 14.2 | PASS | SKIPPED | SKIPPED | SKIPPED | +---------------------+--------------------+-------------------+-------------------------+----------------------+ | openSUSE Leap 15.6 | PASS | SKIPPED | SKIPPED | SKIPPED | +---------------------+--------------------+-------------------+-------------------------+----------------------+ | Windows Server 2022 | SKIPPED | PASS | PASS | PASS | +---------------------+--------------------+-------------------+-------------------------+----------------------+ Ubuntu 20.04 Kernel: 4.19 Compiler: gcc gcc (Ubuntu 9.4.0-1ubuntu1~20.04.2) 9.4.0 FreeBSD 14.2 Kernel: 14.2-RELEASE Compiler: clang 18.1.6 openSUSE Leap 15.6 Kernel: 5.15 Compiler: gcc gcc (SUSE Linux) 7.5.0 Windows Server 2022 Kernel: 10.0.20348.2031 Compiler: clang 15.0.7, gcc 14.1.0 (MinGW), and MSVC VS 19.39.33521 To view detailed results, visit: https://lab.dpdk.org/results/dashboard/tarballs/35134/ UNH-IOL DPDK Community Lab To manage your email subscriptions, visit: https://lab.dpdk.org/results/dashboard/preferences/subscriptions/