From mboxrd@z Thu Jan 1 00:00:00 1970 Return-Path: Received: from mails.dpdk.org (mails.dpdk.org [217.70.189.124]) by inbox.dpdk.org (Postfix) with ESMTP id AE0E7488DA for ; Wed, 8 Oct 2025 02:04:13 +0200 (CEST) Received: from mails.dpdk.org (localhost [127.0.0.1]) by mails.dpdk.org (Postfix) with ESMTP id 86A6740268; Wed, 8 Oct 2025 02:04:13 +0200 (CEST) Received: from mail-pf1-f227.google.com (mail-pf1-f227.google.com [209.85.210.227]) by mails.dpdk.org (Postfix) with ESMTP id 2B0D740268 for ; Wed, 8 Oct 2025 02:04:12 +0200 (CEST) Received: by mail-pf1-f227.google.com with SMTP id d2e1a72fcca58-781ea2cee3fso6608633b3a.0 for ; Tue, 07 Oct 2025 17:04:12 -0700 (PDT) DKIM-Signature: v=1; a=rsa-sha256; c=relaxed/relaxed; d=iol.unh.edu; s=unh-iol; t=1759881851; x=1760486651; darn=dpdk.org; h=cc:to:from:subject:message-id:date:from:to:cc:subject:date :message-id:reply-to; bh=E+M0/QBv74oPfuW1+3GDn2NxMDSF6BuzGdrl9/Zkrtk=; b=LuKaXAV6B5a7D0ZUS14foX148kDIUR3Tt0y3x2F9kJyxwJiiI88A4ZEDkKIwy7K8vH Pcnc4wfjdRVASjQrjJlIFto94icQoZQpTjT3xUHB/J4D3zABRHhH7RSrB0b2XDdFev3h 39LgdDclv48atuuruDbuDiuZ9+juo8xFhti3Q= X-Google-DKIM-Signature: v=1; a=rsa-sha256; c=relaxed/relaxed; d=1e100.net; s=20230601; t=1759881851; x=1760486651; h=cc:to:from:subject:message-id:date:x-gm-message-state:from:to:cc :subject:date:message-id:reply-to; bh=E+M0/QBv74oPfuW1+3GDn2NxMDSF6BuzGdrl9/Zkrtk=; b=gCo4dySOuG8Cop6X5SVQHB9IsBnz9NDOaDPJT6EHekE8q15Ro1ctzLSYEnpOVSu6LL oWqbAB9Dp+OxG2Xi61eAnWgIDdM3Uyz3SbPjuMgUZL8V88NFRiZE76Cu1rBkEpx/xiOM OEuGAFFz2BUiAZssF34xDbGv6VXntQarHuLWXMbEVcIlKB1HqlSwC/krzlHyS8SKrEK1 7Dtn2AJeNrQhoc2vxYAoTYp2O496ydlPSAt7mMFqRI85+/Qi6YeMHMGhGve7WKUJnf0o vFYMh9qphxwSv9eVTXdNZobEHYxAg0gXuI9La6XY74fzKuQUJFH+TD/NtHyEEJ3KLHqQ q0sA== X-Gm-Message-State: AOJu0YwYWBFxIcUcZDeUqk7Xo1tglSsfIE/F5QwWtGnufqwUJBxfgg6o aU+CMuR/BOWGx7sZOEGRBIgroB5kY0qx9cVmgXKu7rtqsoJVPxAeb2cWz/6V2PP/zPb7Z/Xt2EU rNpdeLaLNeko5HfmGdVPpNoN2wSu7We1A09Zg X-Gm-Gg: ASbGnctADpWEfuzmdtUyAOsyuhpRNUgVF64nleblof9huoQgPcSQmJALjXjVTIepNkR 5Ag1DxDiMBWNr+pMZz615kWyKEdpR5dbRo+J6pWD+QvDUVkg9blPKvrqd9gPiI1f20BqzMcpaud SefZ6+wLvXV7ai2FoyHb8QVRNlmDtZ2j+ioDx/+m6FkiQXPv4uIEo/NJ2QglgAjiJjKiCwwvIkX g2ayr0ECWDNrEPhFjV1nwFlyhos0d9R3lbTSWevgpSGWavZXOk0jdXYg6BebJr7cm5XBEwS1plY cngjrhTsEnuNaaBKrHWaDCthJBk58EpiF3LmlKYYIQv2dNXVGcXQNh3jspw101t6G6Jj22jKqGM +uA== X-Google-Smtp-Source: AGHT+IETl6pUanXXs2JhT42xVuPIFd59CJybwGP9O9DCqIJ/k+Y61773JVgez67grN4POjvpQZzTYe8W4+Dt X-Received: by 2002:a05:6a20:939e:b0:24d:301a:79d0 with SMTP id adf61e73a8af0-32da83db599mr1743221637.38.1759881851264; Tue, 07 Oct 2025 17:04:11 -0700 (PDT) Received: from postal.iol.unh.edu (postal.iol.unh.edu. [132.177.123.84]) by smtp-relay.gmail.com with ESMTPS id 98e67ed59e1d1-33b51381dfbsm100453a91.8.2025.10.07.17.04.11 (version=TLS1_2 cipher=ECDHE-ECDSA-AES128-GCM-SHA256 bits=128/128); Tue, 07 Oct 2025 17:04:11 -0700 (PDT) X-Relaying-Domain: iol.unh.edu Date: Tue, 07 Oct 2025 17:04:11 -0700 (PDT) Message-ID: <68e5aa7b.170a0220.2cb480.5937SMTPIN_ADDED_MISSING@mx.google.com> Received: from [172.21.0.2] (unknown [172.18.0.240]) by postal.iol.unh.edu (Postfix) with ESMTP id 2C0156051830; Tue, 7 Oct 2025 20:04:10 -0400 (EDT) Subject: |SUCCESS| [GIT MASTER] 3b43ce3f4a54468e7ef65760c2fd7b4d6ee6d9fc From: dpdklab@iol.unh.edu To: Test Report Cc: dpdk-test-reports@iol.unh.edu, Xueming Li , Christian Ehrhardt , Kevin Traynor , Luca Boccassi Content-Type: text/plain X-BeenThere: test-report@dpdk.org X-Mailman-Version: 2.1.29 Precedence: list List-Id: automatic DPDK test reports List-Unsubscribe: , List-Archive: List-Post: List-Help: List-Subscribe: , Errors-To: test-report-bounces@dpdk.org _Testing PASS_ Branch: tags/v22.11 3b43ce3f4a54468e7ef65760c2fd7b4d6ee6d9fc --> testing pass Upstream job id: Generic-DPDK-Compile-Meson#431784 Test environment and result as below: +------------------------------+--------------------+ | Environment | dpdk_meson_compile | +==============================+====================+ | Debian GNU/Linux 12 | PASS | +------------------------------+--------------------+ | Red Hat Enterprise Linux 9.5 | PASS | +------------------------------+--------------------+ | Ubuntu 20.04 | PASS | +------------------------------+--------------------+ | Fedora Linux 42 | PASS | +------------------------------+--------------------+ | Ubuntu 22.04 | PASS | +------------------------------+--------------------+ | Ubuntu 24.04 | PASS | +------------------------------+--------------------+ | CentOS Stream 9 | PASS | +------------------------------+--------------------+ | CentOS Stream 10 | PASS | +------------------------------+--------------------+ Debian GNU/Linux 12 Kernel: 5.4 Compiler: gcc gcc (Debian 12.2.0-14+deb12u1) 12.2.0 Red Hat Enterprise Linux 9.5 Kernel: 5.4 Compiler: gcc gcc (GCC) 11.5.0 20240719 (Red Hat 11.5.0-2) Ubuntu 20.04 Kernel: 5.15 Compiler: aarch64-linux-gnu-gcc gcc (Ubuntu 9.4.0-1ubuntu1~20.04.2) 9.4.0 Fedora Linux 42 Kernel: 5.4 Compiler: gcc gcc (GCC) 15.2.1 20250808 (Red Hat 15.2.1-1) Ubuntu 22.04 Kernel: 5.4 Compiler: gcc gcc (Ubuntu 11.4.0-1ubuntu1~22.04) 11.4.0 Ubuntu 24.04 Kernel: 5.4 Compiler: gcc gcc (Ubuntu 13.3.0-6ubuntu2~24.04) 13.3.0 CentOS Stream 9 Kernel: 5.4 Compiler: gcc gcc (GCC) 11.5.0 20240719 (Red Hat 11.5.0-11) CentOS Stream 10 Kernel: 5.4 Compiler: gcc gcc (GCC) 14.2.1 20250110 (Red Hat 14.2.1-8) To view detailed results, visit: https://lab.dpdk.org/results/dashboard/tarballs/35113/ UNH-IOL DPDK Community Lab To manage your email subscriptions, visit: https://lab.dpdk.org/results/dashboard/preferences/subscriptions/